BEGIN:VCALENDAR
VERSION:2.0
PRODID:-//Gard 30 - ECPv6.15.20//NONSGML v1.0//EN
CALSCALE:GREGORIAN
METHOD:PUBLISH
X-ORIGINAL-URL:https://www.gard30.fr
X-WR-CALDESC:Évènements pour Gard 30
REFRESH-INTERVAL;VALUE=DURATION:PT1H
X-Robots-Tag:noindex
X-PUBLISHED-TTL:PT1H
BEGIN:VTIMEZONE
TZID:Europe/Paris
BEGIN:DAYLIGHT
TZOFFSETFROM:+0100
TZOFFSETTO:+0200
TZNAME:CEST
DTSTART:20220327T010000
END:DAYLIGHT
BEGIN:STANDARD
TZOFFSETFROM:+0200
TZOFFSETTO:+0100
TZNAME:CET
DTSTART:20221030T010000
END:STANDARD
BEGIN:DAYLIGHT
TZOFFSETFROM:+0100
TZOFFSETTO:+0200
TZNAME:CEST
DTSTART:20230326T010000
END:DAYLIGHT
BEGIN:STANDARD
TZOFFSETFROM:+0200
TZOFFSETTO:+0100
TZNAME:CET
DTSTART:20231029T010000
END:STANDARD
BEGIN:DAYLIGHT
TZOFFSETFROM:+0100
TZOFFSETTO:+0200
TZNAME:CEST
DTSTART:20240331T010000
END:DAYLIGHT
BEGIN:STANDARD
TZOFFSETFROM:+0200
TZOFFSETTO:+0100
TZNAME:CET
DTSTART:20241027T010000
END:STANDARD
BEGIN:DAYLIGHT
TZOFFSETFROM:+0100
TZOFFSETTO:+0200
TZNAME:CEST
DTSTART:20250330T010000
END:DAYLIGHT
BEGIN:STANDARD
TZOFFSETFROM:+0200
TZOFFSETTO:+0100
TZNAME:CET
DTSTART:20251026T010000
END:STANDARD
BEGIN:DAYLIGHT
TZOFFSETFROM:+0100
TZOFFSETTO:+0200
TZNAME:CEST
DTSTART:20260329T010000
END:DAYLIGHT
BEGIN:STANDARD
TZOFFSETFROM:+0200
TZOFFSETTO:+0100
TZNAME:CET
DTSTART:20261025T010000
END:STANDARD
END:VTIMEZONE
BEGIN:VEVENT
DTSTART;TZID=Europe/Paris:20250808T213000
DTEND;TZID=Europe/Paris:20250808T233000
DTSTAMP:20260423T052307
CREATED:20250731T204524Z
LAST-MODIFIED:20250731T204524Z
UID:10004227-1754688600-1754695800@www.gard30.fr
SUMMARY:Toro piscine à Alès
DESCRIPTION:Vendredi 8 août 🎉\n\n21h30 : Toro Piscine 🐂💦
URL:https://www.gard30.fr/agenda/toro-piscine-a-ales-4/
LOCATION:Arènes d’Alès\, 30100\, France
CATEGORIES:Toro Piscine et Toro Mousse
ATTACH;FMTTYPE=image/jpeg:https://www.gard30.fr/wp-content/uploads/2025/07/016C1DD1-78B1-4538-BF41-411ABDA9F8D6-1.jpeg
END:VEVENT
BEGIN:VEVENT
DTSTART;VALUE=DATE:20240508
DTEND;VALUE=DATE:20240513
DTSTAMP:20260423T052307
CREATED:20240420T091930Z
LAST-MODIFIED:20240420T091930Z
UID:10001556-1715126400-1715558399@www.gard30.fr
SUMMARY:Féria d'Alès 2024
DESCRIPTION:Mercredi 8 Mai\, Jeudi 9 Mai\, Vendredi 10 Mai\, Samedi 11 Mai et Dimanche 12 Mai 2024 \nMercredi 8 Mai 2024 :\n– 9h 30 : Cérémonie commémorative de la victoire du 8 mail 1945 (Square Verdun)\n– 10h à 11h : Encierro avec la Manade Arlatenco (Pont Vieux – Lit du Gardon)\n– 11h à 11h 30 : Défilé d’inauguration\n• Calèche des Miss\, penal El Fuego et La Manade Tommy Maire\n• Itinéraire : départ place de l’Hôtel de Ville\, rue Albert 1er\, boulevard Louis\, Blanc\, rue St-Vincent\, place St-Jean\, rue Rollin\, arrivée place de l’Hôtel de Ville\n– 11h 30 à 12h 30 : Réception\, tirage au sort du concours d’Abrivados (Jardins de l’Hôtel de Ville)\n– 14h à 15h : Animations vachettes par la Manade Tommy Maire puis distribution de friandises aux enfants (Petites arènes – Place Gabriel-Péri)\n– 15h 30 à 16h 30 : Encierro avec la Manade Agnel (Pont Vieux – Lit du Gardon)\n– 17h à 18h : Animations vachettes par la Manade Tommy Maire (Petites arènes – Place Gabriel-Péri)\n– 19h à 20h : Encierro avec la Manade Aubanel (Pont Vieux – Lit du Gardon)\n– 21h à 22h : Pégoulade avec la peña Ricard\, la peña l’Occitane et les danseuses brésiliennes d’Exotica Danse\, les calèches Gardoise attelage ainsi que les manades de Tommy Maire\, Agnel et Aubanel\n• Itinéraire : place Gabriel-Péri\, rue Docteur Serres\, rue St-Vincent\, rue Rollin\, rue Albert 1er et arrivée place des Martyrs de la Résistance\n– 22h 23h : Concert Collectif Métissé\n– 23h : Feux d’artifices (Place des Martyrs de la Résistance) \nJeudi 9 Mai 2024 :\n– 9h : Messe provençale (Jardins du Bosquet)\n– 11h : Défilé de la Messse provençale (Jardins du Bosquet)\n– 11h 30 à 13h : Concours d’abrivados\n• Manades : Arlatenco\, Lescot\, La Lauze\, Leron-Teissonier\, Du Seden\, Conti\, Pierre Aubanel et fils (Avenue Carnot)\n– 13h 30 : 14h 30 : Animations vachettes avec la Manade Tommy Maire (Petites arènes – Place Gabriel-Péri)\n– 15h à 16h : Course des gardians\n• Manades : Arlatenco\, Lescot\, La Lauze\, Leron-Teissonier\, Du Seden\, Conti\, Pierre Aubanel et fils (Lit du Gardon)\n– 16h 30 : Course camarguaise Trophée des AS (Arènes du Tempéras) Billetterie\n• Grande Capelado d’ouverture – Concours de manades – Trophée de la Ville d’Alès – Trophée Gedibois-Comptoir Cévenol du Bois\n• Mandes : 1. Simba – Manade LAGARDE / 2. Neptune – Manade ROUQUETTE / 3. Danilo – Manade BLATIERE / 4. Octave – Manade CUILLÉ/ 5. Serpico – Manade VINUESA / 6. Fouchet – Manade SAUMADE / 7. Apollon – Manade ROUSTY\n• Raseteurs : Ziko KATIF\, Tom CHARRADE\, Emeric ASSENAT\, François MARTIN\, Nordine EL GHIATI\, Dorian FRIAKH\, Maxime TAIEB\n– 19h à 20h : Encierro avec la manade Agnel (Pont Vieux – Lit du Gardon)\n– 21h 30 : Toro piscine\, l’incontournable moment récréatif pour petits et grands (Arènes du Tempéras) Billetterie\n– 22h à 23h : Encierro\, avec la Manade Saliérène (Pont Vieux – Lit du Gardon) \nVendredi 10 Mai 2024 :\n– 11h : Visite guidée des arènes du Tempéras\n• Réservation obligatoire : Bureau d’Information Touristique d’Alès au 04 66 52 32 15\nTarifs : Adulte 7 € / 6-12 ans : 4 €\n– 11h à 12h : Festival d’abrivados avec les Manades Devaux et Gillet (Avenue Carnot\, place Gabriel-Péri\, Avenue Carnot)\n– 14h à 15h : Animation vachettes avec la manade Tommy Maire (Petites arènes – Place Gabriel-Péri)\n– 15h 30 à 17h : Course Gardonnenque (Pont Vieux – Lit du Gardon)\n• 1er prix : 450 €\, 2e prix 200 €\, 3e prix : 120 €\, 4e prix 80 € et 60 € aux autres participants.\n• Remise des prix de la course dans les jardins de l’Hôtel de Ville\n– 17h à 18h : Animations vachettes avec la manade Tommy Maire (Petites arènes – Place Gabriel-Péri)\n– 17h : Course camarguaise Trophée de l’Avenir\, en partenariat avec Gedibois et le Comptoir Cévenol du bois (Arènes du Tempéras) Billetterie\n• Manades : 1. Nocturne – Manade AUBANEL / 2. Opium – Manade JONCAS / 3. Rabinel – Manade du GARDON / 4. Griffoun – Manade COUGOURLIER / 5. Ragnar – Manade VINUESA / 6. Magellan – Manade LA CLAPIÈRE / 7. Barres – Manade SAUMADE\n• Raseteurs : Émeric ASSENAT\, Nordine EL GHIATI\, Yanis DJABELKIR\, Kélian GIBERT…\n– 18h à 19h : Apéritif de la Course Gardonnenque (Jardins de l’Hôtel de ville)\n• Remise du prix du meilleur cavalier (trophée Pongi) offert par l’Union des Clubs Taurins Ricard et représentée par le Club Taurin Paul Ricard « le Garrot »\n– 19h à 20h : Encierro avec la manade Tommy Maire (Pont Vieux – Lit du Gardon)\n– 22h à 23h : Encierro avec la manade Chaballier (Pont Vieux – Lit du Gardon) \nSamedi 11 Mai 2024 :\n– 10h à 11h : Petit déjeuner au champs (Lit du Gardon)\n– 11h à 12h : Lâcher d’anoubles avec la manade Tommy Maire (Lit du Gardon)\n– 14h à 15h : Animation vachettes avec la manade Tommy Maire (Petites arènes – Place Gabriel-Péri)\n– 15h à 16h : Course des Caluds (Lit du Gardon)\n• Sur le parcours de l’encierro\, jonché d’obstacles\, soyez le plus rapide et le plus courageux à terminer la course avec le toro\n• Animation réservée à un public majeur et conscient du risque\n– 17h 30 : Corrida de la Culture en Hommage à Maurice André\n• Manolo Vanegas et l’équipe de Tempéras Alès Cévennes ont souhaité rendre hommage à Maurice André\, trompettiste alésien à la renommée mondiale\, pour poursuivre les liens qu’il a tissés entre Alès\, la France et le Venezuela\n• Ganaderìas: Jalabert Curé de Valverde\, Pagès Mailhan et Tardieu frères\n• Maestros: El Rafi\, Carlos Olsina\, Isaac Fonseca\n– 19h à 20h : Animation vachettes avec la manade Tommy Maire (Petites arènes – Place Gabriel-Péri)\n– 20h : Paquito cévenol (Boulevard Louis-Blanc\n• Le Paquito est un temps fort des ferias du sud-ouest\nIl consiste à battre le précédent record de participation de 2023 : plus de 428 mètres ! Fanions colorés en mains et ola garantie.\n• Distribution de bandanas pour les participants\n• Animation musicale assurée par la peña El Fuego\n– 21h à 22h : Encierro piscine (Pont Vieux – Lit du Gardon)\n• Manade du Levant\n– 22h 30 à 23h 30 : Encierro piscine\n• Manade Lafon \nDimanche 12 Mai 2024 :\n– 9h : Messe sévillane (Cathédrale Saint-Jean-Baptiste)\n– 10h 30 : Novillada non piquée\, Billetterie\n• 2e Trophée Gard Cévennes Camargue – 5e Trophée des Révélations Porte du Tempéras\n• Ganaderìas : 5 Erales de François André\, Barcelo\, La Suerte\, San Sebastian\, Roland Durand\n• Novilleros : Matías (Arles)\, Valentin (Nîmes)\, Bautista Angosto (Nîmes)\, Bruno Gimeno Fernandez (Valencia)\, et le vainqueur du Bolsin de la primavera des Aficionados\n– 17h 30 : Corrida du souvenir en hommage à Hubert Yonnet (Arènes du Tempéras) Billetterie\n• Ganaderìa: Yonnet\n• Maestros : Morenito de ARANDA\, Luis GERPE\, Tibo GARCIA
URL:https://www.gard30.fr/agenda/feria-dales-2024/
LOCATION:Arènes d’Alès\, 30100\, France
CATEGORIES:Fêtes votives
ATTACH;FMTTYPE=image/jpeg:https://www.gard30.fr/wp-content/uploads/2024/04/imgpsh_fullsize_anim-1.jpg
END:VEVENT
BEGIN:VEVENT
DTSTART;TZID=Europe/Paris:20230703T210000
DTEND;TZID=Europe/Paris:20230703T230000
DTSTAMP:20260423T052307
CREATED:20230627T055510Z
LAST-MODIFIED:20230627T060645Z
UID:10001106-1688418000-1688425200@www.gard30.fr
SUMMARY:Toro Piscine aux Arènes d'Alès
DESCRIPTION:Lundi 3 Juillet 2023 \n– 21h : Toro piscine\n• 3 veaux pour les jeunes & filles\n• 3 vaches pour les plus grands\n• Nombreuses primes\n• Organisé par la Manade Tommy Maire \n› Entrée 5€\n› Gratuit pour les moins de 8 ans accompagnés d’un adulte ( Arènes du Temperas )
URL:https://www.gard30.fr/agenda/toro-piscine-aux-arenes-dales/
LOCATION:Arènes d’Alès\, 30100\, France
CATEGORIES:Toro Piscine et Toro Mousse
ATTACH;FMTTYPE=image/jpeg:https://www.gard30.fr/wp-content/uploads/2023/06/IMG-9665.jpg
END:VEVENT
BEGIN:VEVENT
DTSTART;TZID=Europe/Paris:20230108T150000
DTEND;TZID=Europe/Paris:20230108T175900
DTSTAMP:20260423T052307
CREATED:20230102T161315Z
LAST-MODIFIED:20241114T211213Z
UID:10000658-1673190000-1673200740@www.gard30.fr
SUMMARY:Loto à Alès
DESCRIPTION:Adresse : 1\, Rue Parmentier à Alès – salles paroissiales\nOrganisé par la paroisse Notre Dame des Clés
URL:https://www.gard30.fr/agenda/loto-a-ales-2/
LOCATION:Arènes d’Alès\, 30100\, France
CATEGORIES:Loto
END:VEVENT
END:VCALENDAR