BEGIN:VCALENDAR
VERSION:2.0
PRODID:-//Gard 30 - ECPv6.15.20//NONSGML v1.0//EN
CALSCALE:GREGORIAN
METHOD:PUBLISH
X-ORIGINAL-URL:https://www.gard30.fr
X-WR-CALDESC:Évènements pour Gard 30
REFRESH-INTERVAL;VALUE=DURATION:PT1H
X-Robots-Tag:noindex
X-PUBLISHED-TTL:PT1H
BEGIN:VTIMEZONE
TZID:Europe/Paris
BEGIN:DAYLIGHT
TZOFFSETFROM:+0100
TZOFFSETTO:+0200
TZNAME:CEST
DTSTART:20230326T010000
END:DAYLIGHT
BEGIN:STANDARD
TZOFFSETFROM:+0200
TZOFFSETTO:+0100
TZNAME:CET
DTSTART:20231029T010000
END:STANDARD
BEGIN:DAYLIGHT
TZOFFSETFROM:+0100
TZOFFSETTO:+0200
TZNAME:CEST
DTSTART:20240331T010000
END:DAYLIGHT
BEGIN:STANDARD
TZOFFSETFROM:+0200
TZOFFSETTO:+0100
TZNAME:CET
DTSTART:20241027T010000
END:STANDARD
BEGIN:DAYLIGHT
TZOFFSETFROM:+0100
TZOFFSETTO:+0200
TZNAME:CEST
DTSTART:20250330T010000
END:DAYLIGHT
BEGIN:STANDARD
TZOFFSETFROM:+0200
TZOFFSETTO:+0100
TZNAME:CET
DTSTART:20251026T010000
END:STANDARD
BEGIN:DAYLIGHT
TZOFFSETFROM:+0100
TZOFFSETTO:+0200
TZNAME:CEST
DTSTART:20260329T010000
END:DAYLIGHT
BEGIN:STANDARD
TZOFFSETFROM:+0200
TZOFFSETTO:+0100
TZNAME:CET
DTSTART:20261025T010000
END:STANDARD
END:VTIMEZONE
BEGIN:VEVENT
DTSTART;TZID=Europe/Paris:20250823T213000
DTEND;TZID=Europe/Paris:20250823T235900
DTSTAMP:20260424T064746
CREATED:20250807T122755Z
LAST-MODIFIED:20250807T122755Z
UID:10004280-1755984600-1755993540@www.gard30.fr
SUMMARY:Course de nuit à Pélissanne
DESCRIPTION:Mercredi 9 août\n\n21 h 30 – Courses de nuit 🌙🐂\n\nMercredi 16 août\n\n21 h 30 – Courses de nuit 🌙🐂\n\nMercredi 23 août\n\n21 h 30 – Courses de nuit 🌙🐂
URL:https://www.gard30.fr/agenda/course-de-nuit-a-pelissanne/2025-08-23/
LOCATION:Arènes de Pélissanne\, Allée de Craponne\, Pélissanne\, Bouches-du-Rhône\, 13330\, France
CATEGORIES:Fêtes votives
ATTACH;FMTTYPE=image/jpeg:https://www.gard30.fr/wp-content/uploads/2025/08/2BF0D1D7-04FF-4BAB-8481-B420E9CB8AED_1_201_a-1.jpeg
ORGANIZER;CN="Societ%C3%A9 Taurine Ricard Pelissanne":MAILTO:stprp13@gmail.com
GEO:43.6314112;5.145994
X-APPLE-STRUCTURED-LOCATION;VALUE=URI;X-ADDRESS=Arènes de Pélissanne Allée de Craponne Pélissanne Bouches-du-Rhône 13330 France;X-APPLE-RADIUS=500;X-TITLE=Allée de Craponne:geo:5.145994,43.6314112
END:VEVENT
BEGIN:VEVENT
DTSTART;TZID=Europe/Paris:20250823T213000
DTEND;TZID=Europe/Paris:20250823T233000
DTSTAMP:20260424T064746
CREATED:20250717T055635Z
LAST-MODIFIED:20250717T055635Z
UID:10004031-1755984600-1755991800@www.gard30.fr
SUMMARY:Toro piscine à Pélissanne
DESCRIPTION:Entrée 5€\, Gratuit pour les enfants – 12 ans accompagnés
URL:https://www.gard30.fr/agenda/toro-piscine-a-pelissanne-8/2025-08-23/
LOCATION:Arènes de Pélissanne\, Allée de Craponne\, Pélissanne\, Bouches-du-Rhône\, 13330\, France
CATEGORIES:Toro Piscine et Toro Mousse
ATTACH;FMTTYPE=image/jpeg:https://www.gard30.fr/wp-content/uploads/2025/07/44BB1AF2-6AB3-4705-9568-B0F4FED7FCE1_1_105_c.jpeg
GEO:43.6314112;5.145994
X-APPLE-STRUCTURED-LOCATION;VALUE=URI;X-ADDRESS=Arènes de Pélissanne Allée de Craponne Pélissanne Bouches-du-Rhône 13330 France;X-APPLE-RADIUS=500;X-TITLE=Allée de Craponne:geo:5.145994,43.6314112
END:VEVENT
BEGIN:VEVENT
DTSTART;TZID=Europe/Paris:20250823T213000
DTEND;TZID=Europe/Paris:20250823T233000
DTSTAMP:20260424T064746
CREATED:20250304T140017Z
LAST-MODIFIED:20250304T140017Z
UID:10003228-1755984600-1755991800@www.gard30.fr
SUMMARY:Toro piscine à Pelissanne
DESCRIPTION:
URL:https://www.gard30.fr/agenda/toro-piscine-a-pelissanne-3/
LOCATION:Arènes de Pélissanne\, Allée de Craponne\, Pélissanne\, Bouches-du-Rhône\, 13330\, France
CATEGORIES:Toro Piscine et Toro Mousse
ATTACH;FMTTYPE=image/jpeg:https://www.gard30.fr/wp-content/uploads/2025/03/FC12B665-4A0A-4ECA-B7A3-ADD28CF8B621.jpeg
ORGANIZER;CN="Societ%C3%A9 Taurine Ricard Pelissanne":MAILTO:stprp13@gmail.com
GEO:43.6314112;5.145994
X-APPLE-STRUCTURED-LOCATION;VALUE=URI;X-ADDRESS=Arènes de Pélissanne Allée de Craponne Pélissanne Bouches-du-Rhône 13330 France;X-APPLE-RADIUS=500;X-TITLE=Allée de Craponne:geo:5.145994,43.6314112
END:VEVENT
BEGIN:VEVENT
DTSTART;TZID=Europe/Paris:20250816T213000
DTEND;TZID=Europe/Paris:20250816T235900
DTSTAMP:20260424T064746
CREATED:20250807T122755Z
LAST-MODIFIED:20250807T122755Z
UID:10004279-1755379800-1755388740@www.gard30.fr
SUMMARY:Course de nuit à Pélissanne
DESCRIPTION:Mercredi 9 août\n\n21 h 30 – Courses de nuit 🌙🐂\n\nMercredi 16 août\n\n21 h 30 – Courses de nuit 🌙🐂\n\nMercredi 23 août\n\n21 h 30 – Courses de nuit 🌙🐂
URL:https://www.gard30.fr/agenda/course-de-nuit-a-pelissanne/2025-08-16/
LOCATION:Arènes de Pélissanne\, Allée de Craponne\, Pélissanne\, Bouches-du-Rhône\, 13330\, France
CATEGORIES:Fêtes votives
ATTACH;FMTTYPE=image/jpeg:https://www.gard30.fr/wp-content/uploads/2025/08/2BF0D1D7-04FF-4BAB-8481-B420E9CB8AED_1_201_a-1.jpeg
ORGANIZER;CN="Societ%C3%A9 Taurine Ricard Pelissanne":MAILTO:stprp13@gmail.com
GEO:43.6314112;5.145994
X-APPLE-STRUCTURED-LOCATION;VALUE=URI;X-ADDRESS=Arènes de Pélissanne Allée de Craponne Pélissanne Bouches-du-Rhône 13330 France;X-APPLE-RADIUS=500;X-TITLE=Allée de Craponne:geo:5.145994,43.6314112
END:VEVENT
BEGIN:VEVENT
DTSTART;TZID=Europe/Paris:20250816T213000
DTEND;TZID=Europe/Paris:20250816T233000
DTSTAMP:20260424T064746
CREATED:20250717T055635Z
LAST-MODIFIED:20250717T055635Z
UID:10004030-1755379800-1755387000@www.gard30.fr
SUMMARY:Toro piscine à Pélissanne
DESCRIPTION:Entrée 5€\, Gratuit pour les enfants – 12 ans accompagnés
URL:https://www.gard30.fr/agenda/toro-piscine-a-pelissanne-8/2025-08-16/
LOCATION:Arènes de Pélissanne\, Allée de Craponne\, Pélissanne\, Bouches-du-Rhône\, 13330\, France
CATEGORIES:Toro Piscine et Toro Mousse
ATTACH;FMTTYPE=image/jpeg:https://www.gard30.fr/wp-content/uploads/2025/07/44BB1AF2-6AB3-4705-9568-B0F4FED7FCE1_1_105_c.jpeg
GEO:43.6314112;5.145994
X-APPLE-STRUCTURED-LOCATION;VALUE=URI;X-ADDRESS=Arènes de Pélissanne Allée de Craponne Pélissanne Bouches-du-Rhône 13330 France;X-APPLE-RADIUS=500;X-TITLE=Allée de Craponne:geo:5.145994,43.6314112
END:VEVENT
BEGIN:VEVENT
DTSTART;TZID=Europe/Paris:20250816T213000
DTEND;TZID=Europe/Paris:20250816T233000
DTSTAMP:20260424T064746
CREATED:20250304T140019Z
LAST-MODIFIED:20250304T140019Z
UID:10003227-1755379800-1755387000@www.gard30.fr
SUMMARY:Toro piscine à Pelissanne
DESCRIPTION:
URL:https://www.gard30.fr/agenda/toro-piscine-a-pelissanne-4/
LOCATION:Arènes de Pélissanne\, Allée de Craponne\, Pélissanne\, Bouches-du-Rhône\, 13330\, France
CATEGORIES:Toro Piscine et Toro Mousse
ATTACH;FMTTYPE=image/jpeg:https://www.gard30.fr/wp-content/uploads/2025/03/FC12B665-4A0A-4ECA-B7A3-ADD28CF8B621.jpeg
ORGANIZER;CN="Societ%C3%A9 Taurine Ricard Pelissanne":MAILTO:stprp13@gmail.com
GEO:43.6314112;5.145994
X-APPLE-STRUCTURED-LOCATION;VALUE=URI;X-ADDRESS=Arènes de Pélissanne Allée de Craponne Pélissanne Bouches-du-Rhône 13330 France;X-APPLE-RADIUS=500;X-TITLE=Allée de Craponne:geo:5.145994,43.6314112
END:VEVENT
BEGIN:VEVENT
DTSTART;TZID=Europe/Paris:20250809T213000
DTEND;TZID=Europe/Paris:20250809T235900
DTSTAMP:20260424T064746
CREATED:20250807T122755Z
LAST-MODIFIED:20250807T122755Z
UID:10004278-1754775000-1754783940@www.gard30.fr
SUMMARY:Course de nuit à Pélissanne
DESCRIPTION:Mercredi 9 août\n\n21 h 30 – Courses de nuit 🌙🐂\n\nMercredi 16 août\n\n21 h 30 – Courses de nuit 🌙🐂\n\nMercredi 23 août\n\n21 h 30 – Courses de nuit 🌙🐂
URL:https://www.gard30.fr/agenda/course-de-nuit-a-pelissanne/2025-08-09/
LOCATION:Arènes de Pélissanne\, Allée de Craponne\, Pélissanne\, Bouches-du-Rhône\, 13330\, France
CATEGORIES:Fêtes votives
ATTACH;FMTTYPE=image/jpeg:https://www.gard30.fr/wp-content/uploads/2025/08/2BF0D1D7-04FF-4BAB-8481-B420E9CB8AED_1_201_a-1.jpeg
ORGANIZER;CN="Societ%C3%A9 Taurine Ricard Pelissanne":MAILTO:stprp13@gmail.com
GEO:43.6314112;5.145994
X-APPLE-STRUCTURED-LOCATION;VALUE=URI;X-ADDRESS=Arènes de Pélissanne Allée de Craponne Pélissanne Bouches-du-Rhône 13330 France;X-APPLE-RADIUS=500;X-TITLE=Allée de Craponne:geo:5.145994,43.6314112
END:VEVENT
BEGIN:VEVENT
DTSTART;TZID=Europe/Paris:20250809T213000
DTEND;TZID=Europe/Paris:20250809T233000
DTSTAMP:20260424T064746
CREATED:20250717T055635Z
LAST-MODIFIED:20250717T055635Z
UID:10004029-1754775000-1754782200@www.gard30.fr
SUMMARY:Toro piscine à Pélissanne
DESCRIPTION:Entrée 5€\, Gratuit pour les enfants – 12 ans accompagnés
URL:https://www.gard30.fr/agenda/toro-piscine-a-pelissanne-8/2025-08-09/
LOCATION:Arènes de Pélissanne\, Allée de Craponne\, Pélissanne\, Bouches-du-Rhône\, 13330\, France
CATEGORIES:Toro Piscine et Toro Mousse
ATTACH;FMTTYPE=image/jpeg:https://www.gard30.fr/wp-content/uploads/2025/07/44BB1AF2-6AB3-4705-9568-B0F4FED7FCE1_1_105_c.jpeg
GEO:43.6314112;5.145994
X-APPLE-STRUCTURED-LOCATION;VALUE=URI;X-ADDRESS=Arènes de Pélissanne Allée de Craponne Pélissanne Bouches-du-Rhône 13330 France;X-APPLE-RADIUS=500;X-TITLE=Allée de Craponne:geo:5.145994,43.6314112
END:VEVENT
BEGIN:VEVENT
DTSTART;TZID=Europe/Paris:20250809T213000
DTEND;TZID=Europe/Paris:20250809T233000
DTSTAMP:20260424T064746
CREATED:20250304T140021Z
LAST-MODIFIED:20250304T140021Z
UID:10003226-1754775000-1754782200@www.gard30.fr
SUMMARY:Toro piscine à Pelissanne
DESCRIPTION:
URL:https://www.gard30.fr/agenda/toro-piscine-a-pelissanne-5/
LOCATION:Arènes de Pélissanne\, Allée de Craponne\, Pélissanne\, Bouches-du-Rhône\, 13330\, France
CATEGORIES:Toro Piscine et Toro Mousse
ATTACH;FMTTYPE=image/jpeg:https://www.gard30.fr/wp-content/uploads/2025/03/FC12B665-4A0A-4ECA-B7A3-ADD28CF8B621.jpeg
ORGANIZER;CN="Societ%C3%A9 Taurine Ricard Pelissanne":MAILTO:stprp13@gmail.com
GEO:43.6314112;5.145994
X-APPLE-STRUCTURED-LOCATION;VALUE=URI;X-ADDRESS=Arènes de Pélissanne Allée de Craponne Pélissanne Bouches-du-Rhône 13330 France;X-APPLE-RADIUS=500;X-TITLE=Allée de Craponne:geo:5.145994,43.6314112
END:VEVENT
BEGIN:VEVENT
DTSTART;TZID=Europe/Paris:20250802T213000
DTEND;TZID=Europe/Paris:20250802T233000
DTSTAMP:20260424T064746
CREATED:20250717T055635Z
LAST-MODIFIED:20250717T055635Z
UID:10004028-1754170200-1754177400@www.gard30.fr
SUMMARY:Toro piscine à Pélissanne
DESCRIPTION:Entrée 5€\, Gratuit pour les enfants – 12 ans accompagnés
URL:https://www.gard30.fr/agenda/toro-piscine-a-pelissanne-8/2025-08-02/
LOCATION:Arènes de Pélissanne\, Allée de Craponne\, Pélissanne\, Bouches-du-Rhône\, 13330\, France
CATEGORIES:Toro Piscine et Toro Mousse
ATTACH;FMTTYPE=image/jpeg:https://www.gard30.fr/wp-content/uploads/2025/07/44BB1AF2-6AB3-4705-9568-B0F4FED7FCE1_1_105_c.jpeg
GEO:43.6314112;5.145994
X-APPLE-STRUCTURED-LOCATION;VALUE=URI;X-ADDRESS=Arènes de Pélissanne Allée de Craponne Pélissanne Bouches-du-Rhône 13330 France;X-APPLE-RADIUS=500;X-TITLE=Allée de Craponne:geo:5.145994,43.6314112
END:VEVENT
BEGIN:VEVENT
DTSTART;TZID=Europe/Paris:20250802T213000
DTEND;TZID=Europe/Paris:20250802T233000
DTSTAMP:20260424T064746
CREATED:20250304T140023Z
LAST-MODIFIED:20250304T140023Z
UID:10003225-1754170200-1754177400@www.gard30.fr
SUMMARY:Toro piscine à Pelissanne
DESCRIPTION:
URL:https://www.gard30.fr/agenda/toro-piscine-a-pelissanne-6/
LOCATION:Arènes de Pélissanne\, Allée de Craponne\, Pélissanne\, Bouches-du-Rhône\, 13330\, France
CATEGORIES:Toro Piscine et Toro Mousse
ATTACH;FMTTYPE=image/jpeg:https://www.gard30.fr/wp-content/uploads/2025/03/FC12B665-4A0A-4ECA-B7A3-ADD28CF8B621.jpeg
ORGANIZER;CN="Societ%C3%A9 Taurine Ricard Pelissanne":MAILTO:stprp13@gmail.com
GEO:43.6314112;5.145994
X-APPLE-STRUCTURED-LOCATION;VALUE=URI;X-ADDRESS=Arènes de Pélissanne Allée de Craponne Pélissanne Bouches-du-Rhône 13330 France;X-APPLE-RADIUS=500;X-TITLE=Allée de Craponne:geo:5.145994,43.6314112
END:VEVENT
BEGIN:VEVENT
DTSTART;TZID=Europe/Paris:20250726T213000
DTEND;TZID=Europe/Paris:20250726T233000
DTSTAMP:20260424T064746
CREATED:20250717T055635Z
LAST-MODIFIED:20250717T055635Z
UID:10004027-1753565400-1753572600@www.gard30.fr
SUMMARY:Toro piscine à Pélissanne
DESCRIPTION:Entrée 5€\, Gratuit pour les enfants – 12 ans accompagnés
URL:https://www.gard30.fr/agenda/toro-piscine-a-pelissanne-8/2025-07-26/
LOCATION:Arènes de Pélissanne\, Allée de Craponne\, Pélissanne\, Bouches-du-Rhône\, 13330\, France
CATEGORIES:Toro Piscine et Toro Mousse
ATTACH;FMTTYPE=image/jpeg:https://www.gard30.fr/wp-content/uploads/2025/07/44BB1AF2-6AB3-4705-9568-B0F4FED7FCE1_1_105_c.jpeg
GEO:43.6314112;5.145994
X-APPLE-STRUCTURED-LOCATION;VALUE=URI;X-ADDRESS=Arènes de Pélissanne Allée de Craponne Pélissanne Bouches-du-Rhône 13330 France;X-APPLE-RADIUS=500;X-TITLE=Allée de Craponne:geo:5.145994,43.6314112
END:VEVENT
BEGIN:VEVENT
DTSTART;TZID=Europe/Paris:20250726T213000
DTEND;TZID=Europe/Paris:20250726T233000
DTSTAMP:20260424T064746
CREATED:20250304T140025Z
LAST-MODIFIED:20250304T140025Z
UID:10003224-1753565400-1753572600@www.gard30.fr
SUMMARY:Toro piscine à Pelissanne
DESCRIPTION:
URL:https://www.gard30.fr/agenda/toro-piscine-a-pelissanne-7/
LOCATION:Arènes de Pélissanne\, Allée de Craponne\, Pélissanne\, Bouches-du-Rhône\, 13330\, France
CATEGORIES:Toro Piscine et Toro Mousse
ATTACH;FMTTYPE=image/jpeg:https://www.gard30.fr/wp-content/uploads/2025/03/FC12B665-4A0A-4ECA-B7A3-ADD28CF8B621.jpeg
ORGANIZER;CN="Societ%C3%A9 Taurine Ricard Pelissanne":MAILTO:stprp13@gmail.com
GEO:43.6314112;5.145994
X-APPLE-STRUCTURED-LOCATION;VALUE=URI;X-ADDRESS=Arènes de Pélissanne Allée de Craponne Pélissanne Bouches-du-Rhône 13330 France;X-APPLE-RADIUS=500;X-TITLE=Allée de Craponne:geo:5.145994,43.6314112
END:VEVENT
BEGIN:VEVENT
DTSTART;TZID=Europe/Paris:20250719T213000
DTEND;TZID=Europe/Paris:20250719T233000
DTSTAMP:20260424T064746
CREATED:20250717T055635Z
LAST-MODIFIED:20250717T055635Z
UID:10004026-1752960600-1752967800@www.gard30.fr
SUMMARY:Toro piscine à Pélissanne
DESCRIPTION:Entrée 5€\, Gratuit pour les enfants – 12 ans accompagnés
URL:https://www.gard30.fr/agenda/toro-piscine-a-pelissanne-8/2025-07-19/
LOCATION:Arènes de Pélissanne\, Allée de Craponne\, Pélissanne\, Bouches-du-Rhône\, 13330\, France
CATEGORIES:Toro Piscine et Toro Mousse
ATTACH;FMTTYPE=image/jpeg:https://www.gard30.fr/wp-content/uploads/2025/07/44BB1AF2-6AB3-4705-9568-B0F4FED7FCE1_1_105_c.jpeg
GEO:43.6314112;5.145994
X-APPLE-STRUCTURED-LOCATION;VALUE=URI;X-ADDRESS=Arènes de Pélissanne Allée de Craponne Pélissanne Bouches-du-Rhône 13330 France;X-APPLE-RADIUS=500;X-TITLE=Allée de Craponne:geo:5.145994,43.6314112
END:VEVENT
BEGIN:VEVENT
DTSTART;TZID=Europe/Paris:20250712T213000
DTEND;TZID=Europe/Paris:20250712T233000
DTSTAMP:20260424T064746
CREATED:20250304T135847Z
LAST-MODIFIED:20250304T135847Z
UID:10003223-1752355800-1752363000@www.gard30.fr
SUMMARY:Toro piscine à Pelissanne
DESCRIPTION:
URL:https://www.gard30.fr/agenda/toro-piscine-a-pelissanne-2/
LOCATION:Arènes de Pélissanne\, Allée de Craponne\, Pélissanne\, Bouches-du-Rhône\, 13330\, France
CATEGORIES:Toro Piscine et Toro Mousse
ATTACH;FMTTYPE=image/jpeg:https://www.gard30.fr/wp-content/uploads/2025/03/FC12B665-4A0A-4ECA-B7A3-ADD28CF8B621.jpeg
ORGANIZER;CN="Societ%C3%A9 Taurine Ricard Pelissanne":MAILTO:stprp13@gmail.com
GEO:43.6314112;5.145994
X-APPLE-STRUCTURED-LOCATION;VALUE=URI;X-ADDRESS=Arènes de Pélissanne Allée de Craponne Pélissanne Bouches-du-Rhône 13330 France;X-APPLE-RADIUS=500;X-TITLE=Allée de Craponne:geo:5.145994,43.6314112
END:VEVENT
BEGIN:VEVENT
DTSTART;TZID=Europe/Paris:20250705T213000
DTEND;TZID=Europe/Paris:20250705T233000
DTSTAMP:20260424T064746
CREATED:20250304T135722Z
LAST-MODIFIED:20250304T135722Z
UID:10003222-1751751000-1751758200@www.gard30.fr
SUMMARY:Toro piscine à Pelissanne
DESCRIPTION:
URL:https://www.gard30.fr/agenda/toro-piscine-a-pelissanne/
LOCATION:Arènes de Pélissanne\, Allée de Craponne\, Pélissanne\, Bouches-du-Rhône\, 13330\, France
CATEGORIES:Toro Piscine et Toro Mousse
ATTACH;FMTTYPE=image/jpeg:https://www.gard30.fr/wp-content/uploads/2025/03/FC12B665-4A0A-4ECA-B7A3-ADD28CF8B621.jpeg
ORGANIZER;CN="Societ%C3%A9 Taurine Ricard Pelissanne":MAILTO:stprp13@gmail.com
GEO:43.6314112;5.145994
X-APPLE-STRUCTURED-LOCATION;VALUE=URI;X-ADDRESS=Arènes de Pélissanne Allée de Craponne Pélissanne Bouches-du-Rhône 13330 France;X-APPLE-RADIUS=500;X-TITLE=Allée de Craponne:geo:5.145994,43.6314112
END:VEVENT
BEGIN:VEVENT
DTSTART;TZID=Europe/Paris:20240817T213000
DTEND;TZID=Europe/Paris:20240817T213000
DTSTAMP:20260424T064746
CREATED:20240808T181032Z
LAST-MODIFIED:20240808T181032Z
UID:10001821-1723930200-1723930200@www.gard30.fr
SUMMARY:Toro piscine à Pélissanne 2024
DESCRIPTION:Samedi 17 août à 21h30 \n\nEntrée: 5 € (gratuit pour les enfants de -12 ans accompagnés d’un adulte)\n\nLa direction ne répond pas des accidents !
URL:https://www.gard30.fr/agenda/toro-piscine-a-pelissanne-2024/
LOCATION:Arènes de Pélissanne\, Allée de Craponne\, Pélissanne\, Bouches-du-Rhône\, 13330\, France
CATEGORIES:Toro Piscine et Toro Mousse
ATTACH;FMTTYPE=image/jpeg:https://www.gard30.fr/wp-content/uploads/2024/08/IMG_5720-1.jpg
GEO:43.6314112;5.145994
X-APPLE-STRUCTURED-LOCATION;VALUE=URI;X-ADDRESS=Arènes de Pélissanne Allée de Craponne Pélissanne Bouches-du-Rhône 13330 France;X-APPLE-RADIUS=500;X-TITLE=Allée de Craponne:geo:5.145994,43.6314112
END:VEVENT
BEGIN:VEVENT
DTSTART;TZID=Europe/Paris:20240810T213000
DTEND;TZID=Europe/Paris:20240810T213000
DTSTAMP:20260424T064746
CREATED:20240808T181034Z
LAST-MODIFIED:20240808T181034Z
UID:10001820-1723325400-1723325400@www.gard30.fr
SUMMARY:Toro piscine à Pélissanne 2024
DESCRIPTION:Samedi 10 août à 21h30 \n\nEntrée: 5 € (gratuit pour les enfants de -12 ans accompagnés d’un adulte)\n\nLa direction ne répond pas des accidents !
URL:https://www.gard30.fr/agenda/toro-piscine-a-pelissanne-2024-2/
LOCATION:Arènes de Pélissanne\, Allée de Craponne\, Pélissanne\, Bouches-du-Rhône\, 13330\, France
CATEGORIES:Toro Piscine et Toro Mousse
ATTACH;FMTTYPE=image/jpeg:https://www.gard30.fr/wp-content/uploads/2024/08/IMG_5720-1.jpg
GEO:43.6314112;5.145994
X-APPLE-STRUCTURED-LOCATION;VALUE=URI;X-ADDRESS=Arènes de Pélissanne Allée de Craponne Pélissanne Bouches-du-Rhône 13330 France;X-APPLE-RADIUS=500;X-TITLE=Allée de Craponne:geo:5.145994,43.6314112
END:VEVENT
END:VCALENDAR