BEGIN:VCALENDAR
VERSION:2.0
PRODID:-//Gard 30 - ECPv6.15.20//NONSGML v1.0//EN
CALSCALE:GREGORIAN
METHOD:PUBLISH
X-WR-CALNAME:Gard 30
X-ORIGINAL-URL:https://www.gard30.fr
X-WR-CALDESC:Évènements pour Gard 30
REFRESH-INTERVAL;VALUE=DURATION:PT1H
X-Robots-Tag:noindex
X-PUBLISHED-TTL:PT1H
BEGIN:VTIMEZONE
TZID:Europe/Paris
BEGIN:DAYLIGHT
TZOFFSETFROM:+0100
TZOFFSETTO:+0200
TZNAME:CEST
DTSTART:20220327T010000
END:DAYLIGHT
BEGIN:STANDARD
TZOFFSETFROM:+0200
TZOFFSETTO:+0100
TZNAME:CET
DTSTART:20221030T010000
END:STANDARD
BEGIN:DAYLIGHT
TZOFFSETFROM:+0100
TZOFFSETTO:+0200
TZNAME:CEST
DTSTART:20230326T010000
END:DAYLIGHT
BEGIN:STANDARD
TZOFFSETFROM:+0200
TZOFFSETTO:+0100
TZNAME:CET
DTSTART:20231029T010000
END:STANDARD
BEGIN:DAYLIGHT
TZOFFSETFROM:+0100
TZOFFSETTO:+0200
TZNAME:CEST
DTSTART:20240331T010000
END:DAYLIGHT
BEGIN:STANDARD
TZOFFSETFROM:+0200
TZOFFSETTO:+0100
TZNAME:CET
DTSTART:20241027T010000
END:STANDARD
BEGIN:DAYLIGHT
TZOFFSETFROM:+0100
TZOFFSETTO:+0200
TZNAME:CEST
DTSTART:20250330T010000
END:DAYLIGHT
BEGIN:STANDARD
TZOFFSETFROM:+0200
TZOFFSETTO:+0100
TZNAME:CET
DTSTART:20251026T010000
END:STANDARD
BEGIN:DAYLIGHT
TZOFFSETFROM:+0100
TZOFFSETTO:+0200
TZNAME:CEST
DTSTART:20260329T010000
END:DAYLIGHT
BEGIN:STANDARD
TZOFFSETFROM:+0200
TZOFFSETTO:+0100
TZNAME:CET
DTSTART:20261025T010000
END:STANDARD
END:VTIMEZONE
BEGIN:VEVENT
DTSTART;TZID=Europe/Paris:20250620T213000
DTEND;TZID=Europe/Paris:20250620T235900
DTSTAMP:20260423T124520
CREATED:20250618T135120Z
LAST-MODIFIED:20250618T135120Z
UID:10003788-1750455000-1750463940@www.gard30.fr
SUMMARY:Toro piscine à Redessan
DESCRIPTION:Vendredi 20 juin\n\n21h30 : 🐂 Toro Piscine – Soirée Familiale 🎉\nEntrée : 5€\nManade Fournier et Fils\nDu rire\, des jeux\, des primes ! 🎈
URL:https://www.gard30.fr/agenda/toro-piscine-a-redessan/
LOCATION:Arènes de Redessan\, Rue de Valatet\, Redessan\, Gard\, 30129\, France
CATEGORIES:Toro Piscine et Toro Mousse
ATTACH;FMTTYPE=image/jpeg:https://www.gard30.fr/wp-content/uploads/2025/06/3B006394-3F96-4BF8-9C5D-0FBCC7BF8314-1.jpeg
GEO:43.8319606;4.4990292
X-APPLE-STRUCTURED-LOCATION;VALUE=URI;X-ADDRESS=Arènes de Redessan Rue de Valatet Redessan Gard 30129 France;X-APPLE-RADIUS=500;X-TITLE=Rue de Valatet:geo:4.4990292,43.8319606
END:VEVENT
BEGIN:VEVENT
DTSTART;TZID=Europe/Paris:20230717T213000
DTEND;TZID=Europe/Paris:20230717T235900
DTSTAMP:20260423T124520
CREATED:20250710T083806Z
LAST-MODIFIED:20250710T083806Z
UID:10003957-1689629400-1689638340@www.gard30.fr
SUMMARY:Toro piscine à Redessan
DESCRIPTION:Jeudi 17 Juillet\n\n21h30: 🌊 Toro Piscine – Soirée Familiale
URL:https://www.gard30.fr/agenda/toro-piscine-a-redessan-2/
LOCATION:Arènes de Redessan\, Rue de Valatet\, Redessan\, Gard\, 30129\, France
CATEGORIES:Toro Piscine et Toro Mousse
ATTACH;FMTTYPE=image/jpeg:https://www.gard30.fr/wp-content/uploads/2025/07/260065E5-5972-416C-986E-D8E6836F8B65.jpeg
GEO:43.8319606;4.4990292
X-APPLE-STRUCTURED-LOCATION;VALUE=URI;X-ADDRESS=Arènes de Redessan Rue de Valatet Redessan Gard 30129 France;X-APPLE-RADIUS=500;X-TITLE=Rue de Valatet:geo:4.4990292,43.8319606
END:VEVENT
BEGIN:VEVENT
DTSTART;TZID=Europe/Paris:20230627T200000
DTEND;TZID=Europe/Paris:20230627T235900
DTSTAMP:20260423T124520
CREATED:20250625T234315Z
LAST-MODIFIED:20250625T234315Z
UID:10003900-1687896000-1687910340@www.gard30.fr
SUMMARY:Loto à Redessan
DESCRIPTION:27 Juin 🎉\n\n19:00 – Ouverture des portes 🚪\n20:00 – Début du Loto 🎲\n\n  \n\nBARBECUE\nÉCRAN GAMER\nAIRFRYER\nBARRE DE SON\nPLANCHA ET BIEN\nD’AUTRES LOTS\n\n  \n\nMOULES\nFRITES\nBUVETTE\n\n  \n\n2 CARTONS PLEIN\n10 QUINES\n1 CONSOLENTE\n\n  \n\n2€ LE CARTON\n5€ LES 3\n10€ LES 7\n20€ LES 15
URL:https://www.gard30.fr/agenda/loto-a-redessan-7/
LOCATION:Arènes de Redessan\, Rue de Valatet\, Redessan\, Gard\, 30129\, France
CATEGORIES:Loto
ATTACH;FMTTYPE=image/jpeg:https://www.gard30.fr/wp-content/uploads/2025/06/2EBE2B7C-16E4-4CB4-B558-10678B673F85.jpeg
GEO:43.8319606;4.4990292
X-APPLE-STRUCTURED-LOCATION;VALUE=URI;X-ADDRESS=Arènes de Redessan Rue de Valatet Redessan Gard 30129 France;X-APPLE-RADIUS=500;X-TITLE=Rue de Valatet:geo:4.4990292,43.8319606
END:VEVENT
END:VCALENDAR