BEGIN:VCALENDAR
VERSION:2.0
PRODID:-//Gard 30 - ECPv6.15.20//NONSGML v1.0//EN
CALSCALE:GREGORIAN
METHOD:PUBLISH
X-ORIGINAL-URL:https://www.gard30.fr
X-WR-CALDESC:Évènements pour Gard 30
REFRESH-INTERVAL;VALUE=DURATION:PT1H
X-Robots-Tag:noindex
X-PUBLISHED-TTL:PT1H
BEGIN:VTIMEZONE
TZID:Europe/Paris
BEGIN:DAYLIGHT
TZOFFSETFROM:+0100
TZOFFSETTO:+0200
TZNAME:CEST
DTSTART:20220327T010000
END:DAYLIGHT
BEGIN:STANDARD
TZOFFSETFROM:+0200
TZOFFSETTO:+0100
TZNAME:CET
DTSTART:20221030T010000
END:STANDARD
BEGIN:DAYLIGHT
TZOFFSETFROM:+0100
TZOFFSETTO:+0200
TZNAME:CEST
DTSTART:20230326T010000
END:DAYLIGHT
BEGIN:STANDARD
TZOFFSETFROM:+0200
TZOFFSETTO:+0100
TZNAME:CET
DTSTART:20231029T010000
END:STANDARD
BEGIN:DAYLIGHT
TZOFFSETFROM:+0100
TZOFFSETTO:+0200
TZNAME:CEST
DTSTART:20240331T010000
END:DAYLIGHT
BEGIN:STANDARD
TZOFFSETFROM:+0200
TZOFFSETTO:+0100
TZNAME:CET
DTSTART:20241027T010000
END:STANDARD
BEGIN:DAYLIGHT
TZOFFSETFROM:+0100
TZOFFSETTO:+0200
TZNAME:CEST
DTSTART:20250330T010000
END:DAYLIGHT
BEGIN:STANDARD
TZOFFSETFROM:+0200
TZOFFSETTO:+0100
TZNAME:CET
DTSTART:20251026T010000
END:STANDARD
BEGIN:DAYLIGHT
TZOFFSETFROM:+0100
TZOFFSETTO:+0200
TZNAME:CEST
DTSTART:20260329T010000
END:DAYLIGHT
BEGIN:STANDARD
TZOFFSETFROM:+0200
TZOFFSETTO:+0100
TZNAME:CET
DTSTART:20261025T010000
END:STANDARD
END:VTIMEZONE
BEGIN:VEVENT
DTSTART;TZID=Europe/Paris:20250301T110000
DTEND;TZID=Europe/Paris:20250301T143000
DTSTAMP:20260424T142622
CREATED:20250226T104421Z
LAST-MODIFIED:20250226T104421Z
UID:10003194-1740826800-1740839400@www.gard30.fr
SUMMARY:Course au plan à Villeneuve-lès-Maguelone
DESCRIPTION:Course au plan à Villeneuve-lès-Maguelone le samedi 1er mars \n\nManade du Levant & L’aurore\n11h : 2 taureaux\n12h : Apéritif\n14h30 : 8 taureaux\nEntrée générale 4€ / -12 ans : 2€\nBuvette et restauration
URL:https://www.gard30.fr/agenda/course-au-plan-a-villeneuve-les-maguelone-3/
LOCATION:Arènes de Villeneuve-lès-maguelone\, Avenue René Poitevin\, Villeneuve-lès-Maguelone\, Hérault\, 34750\, France
CATEGORIES:Fêtes votives
ATTACH;FMTTYPE=image/jpeg:https://www.gard30.fr/wp-content/uploads/2025/02/9E71E62D-1AE3-43F2-95F8-6B8187ABA5AE.jpeg
GEO:43.5290817;3.8669608
X-APPLE-STRUCTURED-LOCATION;VALUE=URI;X-ADDRESS=Arènes de Villeneuve-lès-maguelone Avenue René Poitevin Villeneuve-lès-Maguelone Hérault 34750 France;X-APPLE-RADIUS=500;X-TITLE=Avenue René Poitevin:geo:3.8669608,43.5290817
END:VEVENT
BEGIN:VEVENT
DTSTART;TZID=Europe/Paris:20250125T110000
DTEND;TZID=Europe/Paris:20250125T143000
DTSTAMP:20260424T142622
CREATED:20250109T105757Z
LAST-MODIFIED:20250124T163149Z
UID:10002820-1737802800-1737815400@www.gard30.fr
SUMMARY:Course au plan à Villeneuve-lès-Maguelone
DESCRIPTION:Annulé en raison du parcours impraticable (Pluie)\n  \nCourse au plan à Villeneuve-lès-Maguelone le samedi 25 janvier de 11h à 14h30 \n\n11h -> 2 taureaux\n12h -> Apéritif\n14H30 -> 8 taureaux\nEntrée générale 4€\nMoins de 12 ans : 2€\nBuvette et Restauration\n\n 
URL:https://www.gard30.fr/agenda/course-au-plan-a-villeneuve-les-maguelone-2/
LOCATION:Arènes de Villeneuve-lès-maguelone\, Avenue René Poitevin\, Villeneuve-lès-Maguelone\, Hérault\, 34750\, France
CATEGORIES:Fêtes votives
ATTACH;FMTTYPE=image/jpeg:https://www.gard30.fr/wp-content/uploads/2025/01/19793498-E073-42D4-B310-9210C7B818DE.jpeg
GEO:43.5290817;3.8669608
X-APPLE-STRUCTURED-LOCATION;VALUE=URI;X-ADDRESS=Arènes de Villeneuve-lès-maguelone Avenue René Poitevin Villeneuve-lès-Maguelone Hérault 34750 France;X-APPLE-RADIUS=500;X-TITLE=Avenue René Poitevin:geo:3.8669608,43.5290817
END:VEVENT
BEGIN:VEVENT
DTSTART;TZID=Europe/Paris:20230831T210000
DTEND;TZID=Europe/Paris:20230831T230000
DTSTAMP:20260424T142622
CREATED:20230715T090213Z
LAST-MODIFIED:20230715T090213Z
UID:10001268-1693515600-1693522800@www.gard30.fr
SUMMARY:Taureaux Piscine aux Arènes de Villeneuve-Lès-Maguelone
DESCRIPTION:Jeudi 31 Août 2023 \n– 21h : Taureaux Piscine\n• Viens chercher ta prime…\n• Entrée 5€
URL:https://www.gard30.fr/agenda/taureaux-piscine-aux-arenes-de-villeneuve-les-maguelone-12/
LOCATION:Arènes de Villeneuve-lès-maguelone\, Avenue René Poitevin\, Villeneuve-lès-Maguelone\, Hérault\, 34750\, France
CATEGORIES:Toro Piscine et Toro Mousse
ATTACH;FMTTYPE=image/jpeg:https://www.gard30.fr/wp-content/uploads/2023/07/IMG-0063.jpg
GEO:43.5290817;3.8669608
X-APPLE-STRUCTURED-LOCATION;VALUE=URI;X-ADDRESS=Arènes de Villeneuve-lès-maguelone Avenue René Poitevin Villeneuve-lès-Maguelone Hérault 34750 France;X-APPLE-RADIUS=500;X-TITLE=Avenue René Poitevin:geo:3.8669608,43.5290817
END:VEVENT
BEGIN:VEVENT
DTSTART;TZID=Europe/Paris:20230824T210000
DTEND;TZID=Europe/Paris:20230824T230000
DTSTAMP:20260424T142622
CREATED:20230715T090124Z
LAST-MODIFIED:20230715T090124Z
UID:10001267-1692910800-1692918000@www.gard30.fr
SUMMARY:Taureaux Piscine aux Arènes de Villeneuve-Lès-Maguelone
DESCRIPTION:Jeudi 24 Août 2023 \n– 21h : Taureaux Piscine\n• Viens chercher ta prime…\n• Entrée 5€
URL:https://www.gard30.fr/agenda/taureaux-piscine-aux-arenes-de-villeneuve-les-maguelone-11/
LOCATION:Arènes de Villeneuve-lès-maguelone\, Avenue René Poitevin\, Villeneuve-lès-Maguelone\, Hérault\, 34750\, France
CATEGORIES:Toro Piscine et Toro Mousse
ATTACH;FMTTYPE=image/jpeg:https://www.gard30.fr/wp-content/uploads/2023/07/IMG-0063.jpg
GEO:43.5290817;3.8669608
X-APPLE-STRUCTURED-LOCATION;VALUE=URI;X-ADDRESS=Arènes de Villeneuve-lès-maguelone Avenue René Poitevin Villeneuve-lès-Maguelone Hérault 34750 France;X-APPLE-RADIUS=500;X-TITLE=Avenue René Poitevin:geo:3.8669608,43.5290817
END:VEVENT
BEGIN:VEVENT
DTSTART;TZID=Europe/Paris:20230817T210000
DTEND;TZID=Europe/Paris:20230817T230000
DTSTAMP:20260424T142622
CREATED:20230715T085959Z
LAST-MODIFIED:20230715T085959Z
UID:10001266-1692306000-1692313200@www.gard30.fr
SUMMARY:Taureaux Piscine aux Arènes de Villeneuve-Lès-Maguelone
DESCRIPTION:Jeudi 17 Août 2023 \n– 21h : Taureaux Piscine\n• Viens chercher ta prime…\n• Entrée 5€
URL:https://www.gard30.fr/agenda/taureaux-piscine-aux-arenes-de-villeneuve-les-maguelone-10/
LOCATION:Arènes de Villeneuve-lès-maguelone\, Avenue René Poitevin\, Villeneuve-lès-Maguelone\, Hérault\, 34750\, France
CATEGORIES:Toro Piscine et Toro Mousse
ATTACH;FMTTYPE=image/jpeg:https://www.gard30.fr/wp-content/uploads/2023/07/IMG-0063.jpg
GEO:43.5290817;3.8669608
X-APPLE-STRUCTURED-LOCATION;VALUE=URI;X-ADDRESS=Arènes de Villeneuve-lès-maguelone Avenue René Poitevin Villeneuve-lès-Maguelone Hérault 34750 France;X-APPLE-RADIUS=500;X-TITLE=Avenue René Poitevin:geo:3.8669608,43.5290817
END:VEVENT
BEGIN:VEVENT
DTSTART;TZID=Europe/Paris:20230810T210000
DTEND;TZID=Europe/Paris:20230810T230000
DTSTAMP:20260424T142622
CREATED:20230715T085809Z
LAST-MODIFIED:20230715T085809Z
UID:10001265-1691701200-1691708400@www.gard30.fr
SUMMARY:Taureaux Piscine aux Arènes de Villeneuve-Lès-Maguelone
DESCRIPTION:Jeudi 10 Août 2023 \n– 21h : Taureaux Piscine\n• Viens chercher ta prime…\n• Entrée 5€
URL:https://www.gard30.fr/agenda/taureaux-piscine-aux-arenes-de-villeneuve-les-maguelone-9/
LOCATION:Arènes de Villeneuve-lès-maguelone\, Avenue René Poitevin\, Villeneuve-lès-Maguelone\, Hérault\, 34750\, France
CATEGORIES:Toro Piscine et Toro Mousse
ATTACH;FMTTYPE=image/jpeg:https://www.gard30.fr/wp-content/uploads/2023/07/IMG-0063.jpg
GEO:43.5290817;3.8669608
X-APPLE-STRUCTURED-LOCATION;VALUE=URI;X-ADDRESS=Arènes de Villeneuve-lès-maguelone Avenue René Poitevin Villeneuve-lès-Maguelone Hérault 34750 France;X-APPLE-RADIUS=500;X-TITLE=Avenue René Poitevin:geo:3.8669608,43.5290817
END:VEVENT
BEGIN:VEVENT
DTSTART;TZID=Europe/Paris:20230803T210000
DTEND;TZID=Europe/Paris:20230803T230000
DTSTAMP:20260424T142622
CREATED:20230715T085725Z
LAST-MODIFIED:20230715T085725Z
UID:10001264-1691096400-1691103600@www.gard30.fr
SUMMARY:Taureaux Piscine aux Arènes de Villeneuve-Lès-Maguelone
DESCRIPTION:Jeudi 03 Août 2023 \n– 21h : Taureaux Piscine\n• Viens chercher ta prime…\n• Entrée 5€
URL:https://www.gard30.fr/agenda/taureaux-piscine-aux-arenes-de-villeneuve-les-maguelone-8/
LOCATION:Arènes de Villeneuve-lès-maguelone\, Avenue René Poitevin\, Villeneuve-lès-Maguelone\, Hérault\, 34750\, France
CATEGORIES:Toro Piscine et Toro Mousse
ATTACH;FMTTYPE=image/jpeg:https://www.gard30.fr/wp-content/uploads/2023/07/IMG-0063.jpg
GEO:43.5290817;3.8669608
X-APPLE-STRUCTURED-LOCATION;VALUE=URI;X-ADDRESS=Arènes de Villeneuve-lès-maguelone Avenue René Poitevin Villeneuve-lès-Maguelone Hérault 34750 France;X-APPLE-RADIUS=500;X-TITLE=Avenue René Poitevin:geo:3.8669608,43.5290817
END:VEVENT
BEGIN:VEVENT
DTSTART;TZID=Europe/Paris:20230727T210000
DTEND;TZID=Europe/Paris:20230727T230000
DTSTAMP:20260424T142622
CREATED:20230715T085541Z
LAST-MODIFIED:20230715T085541Z
UID:10001263-1690491600-1690498800@www.gard30.fr
SUMMARY:Taureaux Piscine aux Arènes de Villeneuve-Lès-Maguelone
DESCRIPTION:Jeudi 27 Juillet 2023 \n– 21h : Taureaux Piscine\n• Viens chercher ta prime…\n• Entrée 5€
URL:https://www.gard30.fr/agenda/taureaux-piscine-aux-arenes-de-villeneuve-les-maguelone-7/
LOCATION:Arènes de Villeneuve-lès-maguelone\, Avenue René Poitevin\, Villeneuve-lès-Maguelone\, Hérault\, 34750\, France
CATEGORIES:Toro Piscine et Toro Mousse
ATTACH;FMTTYPE=image/jpeg:https://www.gard30.fr/wp-content/uploads/2023/07/IMG-0063.jpg
GEO:43.5290817;3.8669608
X-APPLE-STRUCTURED-LOCATION;VALUE=URI;X-ADDRESS=Arènes de Villeneuve-lès-maguelone Avenue René Poitevin Villeneuve-lès-Maguelone Hérault 34750 France;X-APPLE-RADIUS=500;X-TITLE=Avenue René Poitevin:geo:3.8669608,43.5290817
END:VEVENT
BEGIN:VEVENT
DTSTART;TZID=Europe/Paris:20230720T210000
DTEND;TZID=Europe/Paris:20230720T230000
DTSTAMP:20260424T142622
CREATED:20230715T085217Z
LAST-MODIFIED:20230715T085217Z
UID:10001262-1689886800-1689894000@www.gard30.fr
SUMMARY:Taureaux Piscine aux Arènes de Villeneuve-Lès-Maguelone
DESCRIPTION:Jeudi 20 Juillet 2023 \n– 21h : Taureaux Piscine\n• Viens chercher ta prime…\n• Entrée 5€
URL:https://www.gard30.fr/agenda/taureaux-piscine-aux-arenes-de-villeneuve-les-maguelone-6/
LOCATION:Arènes de Villeneuve-lès-maguelone\, Avenue René Poitevin\, Villeneuve-lès-Maguelone\, Hérault\, 34750\, France
CATEGORIES:Toro Piscine et Toro Mousse
ATTACH;FMTTYPE=image/jpeg:https://www.gard30.fr/wp-content/uploads/2023/07/IMG-0063.jpg
GEO:43.5290817;3.8669608
X-APPLE-STRUCTURED-LOCATION;VALUE=URI;X-ADDRESS=Arènes de Villeneuve-lès-maguelone Avenue René Poitevin Villeneuve-lès-Maguelone Hérault 34750 France;X-APPLE-RADIUS=500;X-TITLE=Avenue René Poitevin:geo:3.8669608,43.5290817
END:VEVENT
BEGIN:VEVENT
DTSTART;TZID=Europe/Paris:20230712T210000
DTEND;TZID=Europe/Paris:20230712T230000
DTSTAMP:20260424T142622
CREATED:20230715T085108Z
LAST-MODIFIED:20230715T085108Z
UID:10001261-1689195600-1689202800@www.gard30.fr
SUMMARY:Taureaux Piscine aux Arènes de Villeneuve-Lès-Maguelone
DESCRIPTION:Mercredi 12 Juillet 2023 \n– 21h : Taureaux Piscine\n• Viens chercher ta prime…\n• Entrée 5€
URL:https://www.gard30.fr/agenda/taureaux-piscine-aux-arenes-de-villeneuve-les-maguelone-5/
LOCATION:Arènes de Villeneuve-lès-maguelone\, Avenue René Poitevin\, Villeneuve-lès-Maguelone\, Hérault\, 34750\, France
CATEGORIES:Toro Piscine et Toro Mousse
ATTACH;FMTTYPE=image/jpeg:https://www.gard30.fr/wp-content/uploads/2023/07/IMG-0063.jpg
GEO:43.5290817;3.8669608
X-APPLE-STRUCTURED-LOCATION;VALUE=URI;X-ADDRESS=Arènes de Villeneuve-lès-maguelone Avenue René Poitevin Villeneuve-lès-Maguelone Hérault 34750 France;X-APPLE-RADIUS=500;X-TITLE=Avenue René Poitevin:geo:3.8669608,43.5290817
END:VEVENT
BEGIN:VEVENT
DTSTART;TZID=Europe/Paris:20230706T210000
DTEND;TZID=Europe/Paris:20230706T230000
DTSTAMP:20260424T142622
CREATED:20230715T084849Z
LAST-MODIFIED:20230715T084849Z
UID:10001260-1688677200-1688684400@www.gard30.fr
SUMMARY:Taureaux Piscine aux Arènes de Villeneuve-Lès-Maguelone
DESCRIPTION:Jeudi 6 Juillet 2023 \n– 21h : Taureaux Piscine\n• Viens chercher ta prime…\n• Entrée 5€
URL:https://www.gard30.fr/agenda/taureaux-piscine-aux-arenes-de-villeneuve-les-maguelone-4/
LOCATION:Arènes de Villeneuve-lès-maguelone\, Avenue René Poitevin\, Villeneuve-lès-Maguelone\, Hérault\, 34750\, France
CATEGORIES:Toro Piscine et Toro Mousse
ATTACH;FMTTYPE=image/jpeg:https://www.gard30.fr/wp-content/uploads/2023/07/IMG-0063.jpg
GEO:43.5290817;3.8669608
X-APPLE-STRUCTURED-LOCATION;VALUE=URI;X-ADDRESS=Arènes de Villeneuve-lès-maguelone Avenue René Poitevin Villeneuve-lès-Maguelone Hérault 34750 France;X-APPLE-RADIUS=500;X-TITLE=Avenue René Poitevin:geo:3.8669608,43.5290817
END:VEVENT
BEGIN:VEVENT
DTSTART;TZID=Europe/Paris:20230629T210000
DTEND;TZID=Europe/Paris:20230629T230000
DTSTAMP:20260424T142622
CREATED:20230715T084659Z
LAST-MODIFIED:20230715T084659Z
UID:10001259-1688072400-1688079600@www.gard30.fr
SUMMARY:Taureaux Piscine aux Arènes de Villeneuve-Lès-Maguelone
DESCRIPTION:Jeudi 29 Juin 2023 \n– 21h : Taureaux Piscine\n• Viens chercher ta prime…\n• Entrée 5€
URL:https://www.gard30.fr/agenda/taureaux-piscine-aux-arenes-de-villeneuve-les-maguelone-3/
LOCATION:Arènes de Villeneuve-lès-maguelone\, Avenue René Poitevin\, Villeneuve-lès-Maguelone\, Hérault\, 34750\, France
CATEGORIES:Toro Piscine et Toro Mousse
ATTACH;FMTTYPE=image/jpeg:https://www.gard30.fr/wp-content/uploads/2023/07/IMG-0063.jpg
GEO:43.5290817;3.8669608
X-APPLE-STRUCTURED-LOCATION;VALUE=URI;X-ADDRESS=Arènes de Villeneuve-lès-maguelone Avenue René Poitevin Villeneuve-lès-Maguelone Hérault 34750 France;X-APPLE-RADIUS=500;X-TITLE=Avenue René Poitevin:geo:3.8669608,43.5290817
END:VEVENT
BEGIN:VEVENT
DTSTART;TZID=Europe/Paris:20230622T210000
DTEND;TZID=Europe/Paris:20230622T230000
DTSTAMP:20260424T142622
CREATED:20230715T084507Z
LAST-MODIFIED:20230715T084507Z
UID:10001258-1687467600-1687474800@www.gard30.fr
SUMMARY:Taureaux Piscine aux Arènes de Villeneuve-Lès-Maguelone
DESCRIPTION:Jeudi 22 Juin 2023 \n– 21h : Taureaux Piscine\n• Viens chercher ta prime…\n• Entrée 5€
URL:https://www.gard30.fr/agenda/taureaux-piscine-aux-arenes-de-villeneuve-les-maguelone-2/
LOCATION:Arènes de Villeneuve-lès-maguelone\, Avenue René Poitevin\, Villeneuve-lès-Maguelone\, Hérault\, 34750\, France
CATEGORIES:Toro Piscine et Toro Mousse
ATTACH;FMTTYPE=image/jpeg:https://www.gard30.fr/wp-content/uploads/2023/07/IMG-0063.jpg
GEO:43.5290817;3.8669608
X-APPLE-STRUCTURED-LOCATION;VALUE=URI;X-ADDRESS=Arènes de Villeneuve-lès-maguelone Avenue René Poitevin Villeneuve-lès-Maguelone Hérault 34750 France;X-APPLE-RADIUS=500;X-TITLE=Avenue René Poitevin:geo:3.8669608,43.5290817
END:VEVENT
BEGIN:VEVENT
DTSTART;TZID=Europe/Paris:20230615T210000
DTEND;TZID=Europe/Paris:20230615T230000
DTSTAMP:20260424T142622
CREATED:20230715T084358Z
LAST-MODIFIED:20230715T084358Z
UID:10001257-1686862800-1686870000@www.gard30.fr
SUMMARY:Taureaux Piscine aux Arènes de Villeneuve-Lès-Maguelone
DESCRIPTION:Jeudi 15 Juin 2023 \n– 21h : Taureaux Piscine\n• Viens chercher ta prime…\n• Entrée 5€
URL:https://www.gard30.fr/agenda/taureaux-piscine-aux-arenes-de-villeneuve-les-maguelone/
LOCATION:Arènes de Villeneuve-lès-maguelone\, Avenue René Poitevin\, Villeneuve-lès-Maguelone\, Hérault\, 34750\, France
CATEGORIES:Toro Piscine et Toro Mousse
ATTACH;FMTTYPE=image/jpeg:https://www.gard30.fr/wp-content/uploads/2023/07/IMG-0063.jpg
GEO:43.5290817;3.8669608
X-APPLE-STRUCTURED-LOCATION;VALUE=URI;X-ADDRESS=Arènes de Villeneuve-lès-maguelone Avenue René Poitevin Villeneuve-lès-Maguelone Hérault 34750 France;X-APPLE-RADIUS=500;X-TITLE=Avenue René Poitevin:geo:3.8669608,43.5290817
END:VEVENT
BEGIN:VEVENT
DTSTART;TZID=Europe/Paris:20230122T143000
DTEND;TZID=Europe/Paris:20230122T183000
DTSTAMP:20260424T142622
CREATED:20230102T090912Z
LAST-MODIFIED:20240814T095800Z
UID:10000616-1674397800-1674412200@www.gard30.fr
SUMMARY:Course au plan à Villeneuve Lés Maguelone
DESCRIPTION:Manades Chaballier et du Levant\naux arènes municipales\n11h : 2 taureaux\n12h : apéritif\n14h30 : 8 taureaux\nEntrée 4€ / 2€ pour les – de 12 ans\nBuvette et restauration sur place\nRenseignements 06 89 13 60 20
URL:https://www.gard30.fr/agenda/course-au-plan-a-villeneuve-les-maguelone/
LOCATION:Arènes de Villeneuve-lès-maguelone\, Avenue René Poitevin\, Villeneuve-lès-Maguelone\, Hérault\, 34750\, France
CATEGORIES:Encierros
ATTACH;FMTTYPE=image/jpeg:https://www.gard30.fr/wp-content/uploads/2023/01/villeneuve-les-mag.jpg
ORGANIZER;CN="Club Taurin Villeneuvois de Villeneuve les Maguelones":MAILTO:mestre.sylvain@wanadoo.fr
GEO:43.5290817;3.8669608
X-APPLE-STRUCTURED-LOCATION;VALUE=URI;X-ADDRESS=Arènes de Villeneuve-lès-maguelone Avenue René Poitevin Villeneuve-lès-Maguelone Hérault 34750 France;X-APPLE-RADIUS=500;X-TITLE=Avenue René Poitevin:geo:3.8669608,43.5290817
END:VEVENT
END:VCALENDAR