BEGIN:VCALENDAR
VERSION:2.0
PRODID:-//Gard 30 - ECPv6.15.20//NONSGML v1.0//EN
CALSCALE:GREGORIAN
METHOD:PUBLISH
X-WR-CALNAME:Gard 30
X-ORIGINAL-URL:https://www.gard30.fr
X-WR-CALDESC:Évènements pour Gard 30
REFRESH-INTERVAL;VALUE=DURATION:PT1H
X-Robots-Tag:noindex
X-PUBLISHED-TTL:PT1H
BEGIN:VTIMEZONE
TZID:Europe/Paris
BEGIN:DAYLIGHT
TZOFFSETFROM:+0100
TZOFFSETTO:+0200
TZNAME:CEST
DTSTART:20210328T010000
END:DAYLIGHT
BEGIN:STANDARD
TZOFFSETFROM:+0200
TZOFFSETTO:+0100
TZNAME:CET
DTSTART:20211031T010000
END:STANDARD
BEGIN:DAYLIGHT
TZOFFSETFROM:+0100
TZOFFSETTO:+0200
TZNAME:CEST
DTSTART:20220327T010000
END:DAYLIGHT
BEGIN:STANDARD
TZOFFSETFROM:+0200
TZOFFSETTO:+0100
TZNAME:CET
DTSTART:20221030T010000
END:STANDARD
BEGIN:DAYLIGHT
TZOFFSETFROM:+0100
TZOFFSETTO:+0200
TZNAME:CEST
DTSTART:20230326T010000
END:DAYLIGHT
BEGIN:STANDARD
TZOFFSETFROM:+0200
TZOFFSETTO:+0100
TZNAME:CET
DTSTART:20231029T010000
END:STANDARD
BEGIN:DAYLIGHT
TZOFFSETFROM:+0100
TZOFFSETTO:+0200
TZNAME:CEST
DTSTART:20240331T010000
END:DAYLIGHT
BEGIN:STANDARD
TZOFFSETFROM:+0200
TZOFFSETTO:+0100
TZNAME:CET
DTSTART:20241027T010000
END:STANDARD
BEGIN:DAYLIGHT
TZOFFSETFROM:+0100
TZOFFSETTO:+0200
TZNAME:CEST
DTSTART:20250330T010000
END:DAYLIGHT
BEGIN:STANDARD
TZOFFSETFROM:+0200
TZOFFSETTO:+0100
TZNAME:CET
DTSTART:20251026T010000
END:STANDARD
BEGIN:DAYLIGHT
TZOFFSETFROM:+0100
TZOFFSETTO:+0200
TZNAME:CEST
DTSTART:20260329T010000
END:DAYLIGHT
BEGIN:STANDARD
TZOFFSETFROM:+0200
TZOFFSETTO:+0100
TZNAME:CET
DTSTART:20261025T010000
END:STANDARD
BEGIN:DAYLIGHT
TZOFFSETFROM:+0100
TZOFFSETTO:+0200
TZNAME:CEST
DTSTART:20270328T010000
END:DAYLIGHT
BEGIN:STANDARD
TZOFFSETFROM:+0200
TZOFFSETTO:+0100
TZNAME:CET
DTSTART:20271031T010000
END:STANDARD
END:VTIMEZONE
BEGIN:VEVENT
DTSTART;TZID=Europe/Paris:20260411T173000
DTEND;TZID=Europe/Paris:20260411T203000
DTSTAMP:20260422T121514
CREATED:20260331T142018Z
LAST-MODIFIED:20260331T142018Z
UID:10005107-1775928600-1775939400@www.gard30.fr
SUMMARY:Loto à Aubord
DESCRIPTION:Samedi 11 Avril 2026\n\n17h30 : Début du loto en plein air 🎉\n10 Quines à gagner 🐂\n10 Double Quines 🎵\n4 Cartons pleins 🍽️\n3800€ de gain avec un voyage pour 2 personnes ✈️\nBuvette et restauration sur place 🍽️
URL:https://www.gard30.fr/agenda/loto-a-aubord-3/
LOCATION:Ville d’Aubord\, Aubord\, Gard\, 30620\, France
CATEGORIES:Loto
ATTACH;FMTTYPE=image/jpeg:https://www.gard30.fr/wp-content/uploads/2026/03/9-1.jpg
ORGANIZER;CN="JSO Jeunesse Sportive Olympique Aubord":MAILTO:528488@footoccitanie.fr
GEO:43.756755;4.312928
END:VEVENT
BEGIN:VEVENT
DTSTART;VALUE=DATE:20250702
DTEND;VALUE=DATE:20250707
DTSTAMP:20260422T121514
CREATED:20250625T233542Z
LAST-MODIFIED:20250625T233542Z
UID:10003898-1751414400-1751846399@www.gard30.fr
SUMMARY:Fête votive Aubord 2025
DESCRIPTION:Mercredi 2 Juillet\n\n17h – Féria des enfants – Parc Camarguais 🎠\n19h – Soirée Gitano Family\, offert par le comité des fêtes 🎶\n\nJeudi 3 Juillet\n\n19h – Festival d’abrivados – Manade Martini & Cayzac 🐂\n19h30 – Apéritif dansant 🍹\n21h30 – Course au plan – Manade Martini 🐂\n22h30 – Bal & Jungle – DJ Pierrick Metras 🎧\n\nVendredi 4 Juillet\n\n19h – Abrivado Bandido – Manade Cayzac 🐂\n19h30 – Apéro mousse – DJ Florent M & Tom 🎉\n21h30 – Course au plan – Manade Clément 🐂\n22h30 – Bal – DJ Florent M & Tom 🎧\n\nSamedi 5 Juillet\n\n11h – Course déguisée\, offert par le comité des fêtes 🎭\n12h – Festival d’abrivado – Manade Cayzac & Agnel 🐂\n12h30 – Apéritif – DJ Max 🍹\n14h – Ventre qui glisse\, offert par le comité des fêtes 🎉\n14h30 – Concours de boules Doublette mêlée 🎳\n15h – Color Party\, offert par le comité des fêtes 🌈\n17h – Course au plan – Manade L’étrier 🐂\n19h – Festival de bandido – Manade Cayzac & Agnel 🐂\n19h30 – Apéritif – Orchestre Pyramide 🍹\n21h30 – Course au plan – Manade Labourayre 🐂\n22h30 – Bal – Orchestre Pyramide 🎶\n\nDimanche 6 Juillet\n\n9h – Déjeuner – Parc Camarguais 🥐\n11h – Abrivado longue – Manade Arnaud 🐂\n12h30 – Apéro mousse – Peña Camargua 🎉\nDJ Florent M & DJ Max 🎧\n17h – Course au plan – Manade Arnaud 🐂\n19h – Festival de bandido – Manade Arnaud & L’étrier 🐂\n19h30 – Apéro mousse – DJ Jordan Bervez 🎧
URL:https://www.gard30.fr/agenda/fete-votive-aubord-2025/
LOCATION:Ville d’Aubord\, Aubord\, Gard\, 30620\, France
CATEGORIES:Fêtes votives
ATTACH;FMTTYPE=image/jpeg:https://www.gard30.fr/wp-content/uploads/2025/06/D4559CFB-4FC6-4A8E-9DBB-153FC60DB6FB_1_105_c.jpeg
GEO:43.756755;4.312928
END:VEVENT
BEGIN:VEVENT
DTSTART;VALUE=DATE:20250430
DTEND;VALUE=DATE:20250505
DTSTAMP:20260422T121514
CREATED:20250422T102404Z
LAST-MODIFIED:20250430T064854Z
UID:10003581-1745971200-1746403199@www.gard30.fr
SUMMARY:Fête du Muguet 2025 à Aubord
DESCRIPTION:Fête du Muguet 2025 à Aubord du 30 avril au 4 mai \nMercredi 30 avril \n\n19H ABRIVADO I BANDIDO – Manade Martini\n19H30 APÉRITIF DANSANT – DJ Florent M\n21H30 COURSE AU PLAN – Manade Martini\nBUVETTE SUR PLACE\n22H30 BAL – DJ Florent M\n\nJeudi 1er mai \n\n9H DÉJEUNER AU PARC CAMARGUAIS\nVENTE DE MUGUET PAR LE COMITÉ DES\nFÊTES\, DEVANT LA MAIRIE ET DANS LES\nRUES\n12H ABRIVADO – Manade Cagzac\n12H30 APÉRITIF DANSANT – DJ Tom B\n14H30 CONCOURS DE BOULES À LA MÊLÉE\n18H30 BANDIDO – Manade\n19H APÉRITIF DANSANT – DJ Tom B\n21H30 COURSE AU PLAN – Manade Agnel\nBUVETTE SUR PLACE\n22H30 BAL – DJ Tom B\n\nVendredi 2 mai \n\n12H30 APÉRITIF DANSANT – DJ\n19H BANDIDO – Manade Martini\n19H30 APÉRITIF DANSANT – DJ Aziz\n21H30 COURSE AU PLAN – Manade Martini\nBUVETTE SUR PLACE\n22H30 BAL – DJ Aziz\n\nSamedi 3 mai \n\n12H ABRIVADO – Manade Aubanel\n12H30 APÉRITIF DANSANT – DJ Kai\n19H BANDIDO – Manade Aubanel\n19H30 APÉRITIF DANSANT – DJ Max\n21H30 COURSE AU PLAN – Manade Aubanel\nBUVETTE SUR PLACE\n22H30 BAL – DJ Max\n\nDimanche 4 mai \n\n12H ABRIVADO – Manade Cagzac\n12H30 APÉRITIF DANSANT – DJ Pierrick Menras\n17H COURSE AU PLAN – Manade Agnel\nBUVETTE SUR PLACE\n19H BANDIDO – Manade\n19H30 APÉRITIF DANSANT – DJ Max\,\n\nRESTAURATION SUR PLACE
URL:https://www.gard30.fr/agenda/fete-du-muguet-2025-a-aubord/
LOCATION:Ville d’Aubord\, Aubord\, Gard\, 30620\, France
CATEGORIES:Fêtes votives
ATTACH;FMTTYPE=image/jpeg:https://www.gard30.fr/wp-content/uploads/2025/04/EA75F022-5A03-4BD2-A5B3-762B382FF88B_1_105_c-1.jpeg
GEO:43.756755;4.312928
END:VEVENT
BEGIN:VEVENT
DTSTART;TZID=Europe/Paris:20241201T083000
DTEND;TZID=Europe/Paris:20241201T123000
DTSTAMP:20260422T121514
CREATED:20241125T103801Z
LAST-MODIFIED:20241128T101329Z
UID:10002522-1733041800-1733056200@www.gard30.fr
SUMMARY:Abrivado du Téléthon Aubord Bernis Uchaud Vestric
DESCRIPTION:Abrivado intervillage du téléthon le 1 décembre 2024 \n\n8h45 Déjeuner au bouaou d’Aubord (Lien Google Maps)\n9h45 Abrivado Manade Aubanel Aubord – Bernis\n10h30 Abrivado Manade Martini Bernis-Uchaud\n11h30 Abrivado Manade Clément Uchaud – Vestric\n12h Apéritif et restauration place Aubanel\nMarché de Noël de l’union sportive vestricoise
URL:https://www.gard30.fr/agenda/abrivado-du-telethon/
LOCATION:Ville d’Aubord\, Aubord\, Gard\, 30620\, France
CATEGORIES:Fêtes votives,Téléthon
ATTACH;FMTTYPE=image/jpeg:https://www.gard30.fr/wp-content/uploads/2024/11/IMG_7855.jpg
GEO:43.756755;4.312928
END:VEVENT
BEGIN:VEVENT
DTSTART;TZID=Europe/Paris:20241101T110000
DTEND;TZID=Europe/Paris:20241101T220000
DTSTAMP:20260422T121514
CREATED:20241018T091136Z
LAST-MODIFIED:20241018T091136Z
UID:10002013-1730458800-1730498400@www.gard30.fr
SUMMARY:Journée taurine à Aubord
DESCRIPTION:Venez découvrir la charmante commune d’Aubord\, dans le département du Gard\, et plongez dans l’ambiance festive de sa célèbre Journée taurine. Cet événement incontournable vous réserve un spectacle  divertissant où la tauromachie est à l’honneur. Pour connaître en détail le programme de cette fête votive\, veuillez consulter la page dédiée à cet effet. En visitant Aubord\, vous serez également immergé dans son riche passé historique. Saviez-vous que pendant la période des camisards\, de nombreux résistants se cachaient ici pour échapper à leur capture et à leur envoi aux galères ? C’est une anecdote fascinante qui témoigne de l’importance de cette petite commune lors de ces sombres périodes. \nVendredi 1 novembre \n11H00 : ABRIVADO BANDIDO\nManade Cayzac \n12H00 : APERITIF musical\nDJ Florent M. \n15H00 : ABRIVADO BANDIDO\nManade L’Etrier \n17H00 : ABRIVADO BANDIDO O\nManade Cayzac \n19H00: ABRIVADO BANDIDO R\nManade L’Etrier \n20H00: APERITIF et SOIREE\nDJ Florent M. \nVous pouvez consulter le programme de la fête du Muguet de 2023 et celui de la fête votive de 2024.
URL:https://www.gard30.fr/agenda/journee-taurine-a-aubord/
LOCATION:Ville d’Aubord\, Aubord\, Gard\, 30620\, France
CATEGORIES:Fêtes votives
ATTACH;FMTTYPE=image/jpeg:https://www.gard30.fr/wp-content/uploads/2024/10/08B7EFA9-1BA3-46EA-B4A9-87DB6C914C12_1_105_c.jpeg
GEO:43.756755;4.312928
END:VEVENT
BEGIN:VEVENT
DTSTART;VALUE=DATE:20240703
DTEND;VALUE=DATE:20240708
DTSTAMP:20260422T121514
CREATED:20240620T141642Z
LAST-MODIFIED:20240620T141642Z
UID:10001671-1719964800-1720396799@www.gard30.fr
SUMMARY:Fête votive - Aubord 2024
DESCRIPTION:Mercredi 03 Juillet\, Jeudi 04 Juillet\, Vendredi 05 Juillet\, Samedi 06 Juillet et Dimanche 07 Juillet 2024 \nMercredi 03 Juillet 2024 :\n– 17h : Animation enfants au Square Saint Jean\, Goûter offert\n– 19h : Concert de ricoune\, offert par le CDF\n• Buvette et Restauration sur place\n• Bal Dj Anthony \nJeudi 04 Juillet 2024 :\n– 19h : Abrivado / Bandido\, Manade Martini\n– 19h 30 : Apéritif Mousse\, Dj Jérémy C Aka\n– 21h 30 : Taureau piscine au Bouau\, Manade Félix\n– 22h 30 : Bal – Jungle\, Dj Jérémy C Aka \nVendredi 05 Juillet 2024 :\n– 19h : Abrivado / Bandido\, Manade Cayzac\n– 19h 30 : Apéritif Dansant\, Groupe Whisper\n– 21h 30 : Course au plan au Bouau\, Manade Labourayre\n– 22h 30 : Bal Dj Bastien P \nSamedi 06 Juillet 2024 :\n– 9h : Déjeuner offert par la Mairie à la Laupio\, Pena Camargua\n– 11h : Abrivado longue\, Manade Aubanel\, Départ rond-point chemin des mas\n– 12h : Abrivado parcours fermé\, Manade Cayzac\n– 12h 30 : Apéritif\, Pena Camargua\, Dj Enzo Puech\n– 13h : Ventre Qui Glisse\, Baby Foot Geant avec le CDF\n– 16h : Holly party avec le CDF\n– 17h : Course au plan\, Manade Aubanel\n– 19h : Festival d’Abrivado\, Manades Aubanel et Cayzac\n– 19h 30 : Apéritif\, Dj Dylan Maurin\n– 22h : Intervillage et vaches pour la Jeunesse\, Manade L’Etrier\n– 22h 30 : Bal\, Dj Dylan Maurin \nDimanche 07 Juillet 2024 :\n– 12h : Abrivado\, Manade L’Etrier\n– 12h 30 : Apéritif Mousse\, Pena Camargua et Dj F. Manzanera\n– 15h : Concours de Boules\, Doublette mêlée 100€ + les mises\n– 17h : Course au plan\, Manade L’Etrier\n– 18h 30 : Bandido\, Manade L’Etrier\n– 19h 30 : Apéritif mousse prolongé\, Dj Jordan Benezet \n› Buvette et Restauration sur place
URL:https://www.gard30.fr/agenda/fete-votive-aubord-2024/
LOCATION:Ville d’Aubord\, Aubord\, Gard\, 30620\, France
CATEGORIES:Fêtes votives
ATTACH;FMTTYPE=image/jpeg:https://www.gard30.fr/wp-content/uploads/2024/06/BBA5E534-17A9-4CFE-A258-FC4BEDC42E04_1_105_c.jpeg
GEO:43.756755;4.312928
END:VEVENT
BEGIN:VEVENT
DTSTART;VALUE=DATE:20240430
DTEND;VALUE=DATE:20240506
DTSTAMP:20260422T121514
CREATED:20240417T093628Z
LAST-MODIFIED:20240417T093628Z
UID:10001547-1714435200-1714953599@www.gard30.fr
SUMMARY:Fête du Muguet à Aubord
DESCRIPTION:Mardi 30 Avril\, Mercredi 1er Mai\, Vendredi 3 Mai\, Samedi 4 Mai et Dimanche 5 Mai 2024 \nMardi 30 Avril 2024 :\n– 19h 00 : Abrivado\, manade Martini\n– 19h 30 : Apéritif avec Dj Vincent Arbrun\n– 21h 30 : Bandido\, manade Martini\n– 22h 30 : Bal avec Dj Vincent Arbrun \nMercredi 1er Mai 2024 :\n– 9h 00 : Déjeuner au pré à l’Olivette Municipale\, vente du Muguet dans le Village par le Comité des fêtes\n– 10h 00 : Abrivado de Solex organisée par le Comité des fêtes\n– 11h 00 : Festival d’Abrivado\, manade Cayzac & Aubanel\n– 12h 30 : Apéritif avec Dj Florent Manzanera\n– 18h 00 : Festival de Bandido\, manades Cayzac & Aubanel\n– 19h 30 : Apéritif prolongé avec Dj Florent Manzanera \nVendredi 3 Mai 2024 :\n– 19h 00 : Abrivado\, manade L’Etrier\n– 19h 30 : Apéritif avec Dj Thomas C\n– 21h 30 : Bandido\, manade L’Etrier\n– 22h 30 : Bal avec Dj Thomas C \nSamedi 4 Mai 2024 :\n– 19h 00 : Abrivado\, manade Cayzac\n– 19h 30 : Apéritif avec Dj Enzo Puech\n– 21h 30 : Bandido\, manade Cayzac\n– 22h 30 : Bal avec Dj Enzo Puech \nDimanche 5 Mai 2024 :\n– 12h 00 : Abrivado\, manade Agnel\n– 12h 30 : Apéritif avec Dj Pierrick Menras\n– 19h 00 : Bandido\, manade Agnel\n– 19h 30 : Apéritif prolongé avec Dj Pierrick Menras \n› Restauration sur place
URL:https://www.gard30.fr/agenda/fete-du-muguet-a-aubord/
LOCATION:Ville d’Aubord\, Aubord\, Gard\, 30620\, France
CATEGORIES:Fêtes votives
ATTACH;FMTTYPE=image/jpeg:https://www.gard30.fr/wp-content/uploads/2024/04/IMG_3836.jpg
GEO:43.756755;4.312928
END:VEVENT
BEGIN:VEVENT
DTSTART;VALUE=DATE:20230628
DTEND;VALUE=DATE:20230703
DTSTAMP:20260422T121514
CREATED:20230615T105110Z
LAST-MODIFIED:20240829T152517Z
UID:10001065-1687910400-1688342399@www.gard30.fr
SUMMARY:Fête Votive à Aubord
DESCRIPTION:Mercredi 28 Juin\, Jeudi 29 Juin\, Vendredi 30 Juin\, Samedi 1er Juillet et Dimanche 2 Juillet 2023 \nMercredi 28 Juin : Féria des enfants au Square St Jean\n– 17h 30 : Animation Château gonflable\n• Goûter offert aux enfants\n• Buvette et restauration sur place \nJeudi 29 Juin :\n– 19h 00 : Abrivado – Manade Martini\n– 19h 30 : Remise des clés de la fête à la Jeunesse\n– 19h 30 : Apéritif dansant animé par Jérémy C Aka\n– 21h 30 : Bandido – Manade Martini\n– 22h 00 : Retraite aux Flambeaux\n– 22h 30 : Bal animé par Jérémy C Aka \nVendredi 30 Juin :\n– 19h 00 : Festival d’Abrivados – Manades Cayzac et Agnel\n– 19h 30 : Apéritif dansant animé par Vincent Arbrun\n– 22h 00 : Bandidos – Manades Cayzac et Agnel\n– 22h 30 : Bal animé par Vincent Arbrun \nSamedi 1er Juillet :\n– 10h 30 : Course de Solex\n– 12h 00 : Abrivado – Manade l’Etrier\n– 12h 30 : Apéritif Dansant\n– 14h 00 : Animation Ventre qui Glisse\n– 15h 00 : Concours de Boules au Stade – doublettes montées (100 euros + les mises)\n– 16h 00 : Holly Party\n– 17h 00 : Taureaux Piscine à l’espace Bouau – Manade Félix\n– 19h 00 : Bandido – Manade l’Etrier\n– 19h 30 : Apéritif dansant animé par Three’ Potes and Co\n– 22h 00 : Course au plan (espace Bouau) – Manade Labourayre\n– 22h 30 : Bal animé par Alex Event’s \nDimanche 2 Juillet :\n– 9h 00 : Déjeuner au Pré à l’Olivette offert par la Municipalité et animé par la Pena Camargua\n– 11h 00 : Abrivado longue\, départ de l’Olivette – Manade Aubanel\n– 12h 00 : Abrivado – Manade Aubanel\n– 12h 30 : Apéro des Barjos – Apéro mousse animé par la Pena Camargua et Florent Manzanera\n– 17h 00 : Course au plan (espace Bouau) – Manade Aubanel\n– 19h 00 : Bandido – Manade Aubanel\n– 19h 30 : Démonstration de danse sévillane par Baila La Vida\n– 20h 00 : Apéritif prolongé animé par Florent Manzanera \n› Restauration sur place
URL:https://www.gard30.fr/agenda/fete-votive-a-aubord/
LOCATION:Ville d’Aubord\, Aubord\, Gard\, 30620\, France
CATEGORIES:Fêtes votives
ATTACH;FMTTYPE=image/jpeg:https://www.gard30.fr/wp-content/uploads/2023/06/IMG_9385.jpg
GEO:43.756755;4.312928
END:VEVENT
BEGIN:VEVENT
DTSTART;VALUE=DATE:20230428
DTEND;VALUE=DATE:20230502
DTSTAMP:20260422T121514
CREATED:20230418T125306Z
LAST-MODIFIED:20230421T103004Z
UID:10000961-1682640000-1682985599@www.gard30.fr
SUMMARY:Fête du Muguet Aubord 2023
DESCRIPTION:Vendredi 28 Avril\, Samedi 29 Avril\, Dimanche 30 Avril et Lundi 1er Mai 2023 \nVendredi 28 Avril :\n– 19h 00 : Apéritif dansant avec Dj Dylan Maurin\n– 22h 00 : Bal animé par Dylan Maurin \nSamedi 29 Avril : \n– 09h 00 : Déjeuner offert par le Café du Progrès place de la Mairie\n– 12h 00 : Abrivado – Bandido avec la Manade Cayzac\n– 12h 30 : Apéritif dansant animé par Dj Jean Jean\n– 19h 00 : Abrivado – Bandido avec la Manade Cayzac\n– 19h 30 : Apéritif dansant animé par Dj Jean Jean\n– 22h 00 : Bal avec Dj Jean Jean \nDimanche 30 Avril :\n– 12h 00 : Abrivado – Bandido avec la Manade Cayzac\n– 12h 30 : Apéritif dansant animé par Dj Mouss & Anthony\n– 14h 30 : Concours de Boules Doublettes montées 100 € + les mises\n– 15h 00 : Babyfoot géant offert par le comité des fêtes\n– 19h 00 : Abrivado – Bandido avec la Manade Cayzac\n– 19h 30 : Apéritif dansant animé par Dj Florent M\n– 21h 30 : Taureau piscine au Bouau avec Manade l’Étrier\n– 22h 30 : Bal animé par Dj Florent M \nLundi 1er Mai :\n– 09h 00 : Déjeuner offert à l’Olivette et vente du Muguet dans les rues du village par le comité des fêtes\n– 12h 00 : Abrivado – Bandido avec la Manade Cayzac\n– 12h 30 : Apéro Mousse animé par Dj Mouss & Anthony\n– 13h 00 : Repas en commun tiré du sac\n– 15h 00 : Démo de Country par le club de Bezouce\n– 17h 00 : Taureau piscine au Bouau avec Manade l’Étrier\n– 19h 00 : Bandido avec la Manade Cayzac\n– 19h 30 : Apéritif prolongé avec Dj Mouss & Anthony \n› Possibilité de restauration sur place
URL:https://www.gard30.fr/agenda/fete-du-muguet-aubord-2023/
LOCATION:Ville d’Aubord\, Aubord\, Gard\, 30620\, France
CATEGORIES:Fêtes votives
ATTACH;FMTTYPE=image/jpeg:https://www.gard30.fr/wp-content/uploads/2023/04/processed-49cd6d89-4691-4534-b70b-c1efcad6ea3e_91RnWr9w.jpeg
GEO:43.756755;4.312928
END:VEVENT
BEGIN:VEVENT
DTSTART;VALUE=DATE:20220629
DTEND;VALUE=DATE:20220704
DTSTAMP:20260422T121514
CREATED:20220617T204930Z
LAST-MODIFIED:20240829T152509Z
UID:10000299-1656460800-1656892799@www.gard30.fr
SUMMARY:Fête votive de Aubord 2022
DESCRIPTION:Mercredi 29 juin : Féria des enfants – Au square Saint Jean \n\n17h30\, Animations\, buvette\, grillades et Bal avec DJ Anthony\n\nJeudi 30 juin \n\n19h00\, Abrivado – Bandido avec la manade Martini\n19h30\, Apéritif dansant avec Jeremie C Aka\n21h30\, Encierro avec la manade l’Etrier\n22h30\, Soirée Jungle avec Jeremie C Aka\n\nVendredi 1er juillet \n\n19h00\, Abrivado-Bandido avec la manade l’Etrier\n19h30\, Apéritif dansant DJ Vincent Arbrun\n21h30\, Encierro avec la manade Agnel\n22h30\, Bal DJ Vincent Arbrun\n\nSamedi 02 juillet \n\n12h00\, Abrivado-Bandido avec la manade Cayzac\n12h30\, Apéritif dansant avec DJ Florent M\n15h00\, Concours de Boules – Au Stade\n17h00\, Encierro avec la manade de l’Etrier\n19h00\, Abrivado – Bandido avec la manade Cayzac\n19h30\, Encierro avec la manade Cayzac\n22h00\, Encierro avec la manade Cayzac\n23h00\, Bal DJ Denis Marin\n\nDimanche 03 juillet \n\n09h00\, Déjeuner à l’Olivette\n12h00\, Abrivado – Bandido avec la manade Aubanel\n12h30\, Apéritif dansant avec DJ Thomas C\n17h00\, Encierro avec la manade Aubanel\n19h00\, Abrivado – Bandido avec la manade Aubanel\n19h30\, Apéritif mousse prolongé avec DJ Bastien Peyre
URL:https://www.gard30.fr/agenda/fete-votive-de-aubord-2022/
LOCATION:Ville d’Aubord\, Aubord\, Gard\, 30620\, France
CATEGORIES:Fêtes votives
ATTACH;FMTTYPE=image/jpeg:https://www.gard30.fr/wp-content/uploads/2022/06/288793295_605987971037836_5903826892375955950_n.jpg
GEO:43.756755;4.312928
END:VEVENT
END:VCALENDAR