BEGIN:VCALENDAR
VERSION:2.0
PRODID:-//Gard 30 - ECPv6.15.20//NONSGML v1.0//EN
CALSCALE:GREGORIAN
METHOD:PUBLISH
X-WR-CALNAME:Gard 30
X-ORIGINAL-URL:https://www.gard30.fr
X-WR-CALDESC:Évènements pour Gard 30
REFRESH-INTERVAL;VALUE=DURATION:PT1H
X-Robots-Tag:noindex
X-PUBLISHED-TTL:PT1H
BEGIN:VTIMEZONE
TZID:Europe/Paris
BEGIN:DAYLIGHT
TZOFFSETFROM:+0100
TZOFFSETTO:+0200
TZNAME:CEST
DTSTART:20210328T010000
END:DAYLIGHT
BEGIN:STANDARD
TZOFFSETFROM:+0200
TZOFFSETTO:+0100
TZNAME:CET
DTSTART:20211031T010000
END:STANDARD
BEGIN:DAYLIGHT
TZOFFSETFROM:+0100
TZOFFSETTO:+0200
TZNAME:CEST
DTSTART:20220327T010000
END:DAYLIGHT
BEGIN:STANDARD
TZOFFSETFROM:+0200
TZOFFSETTO:+0100
TZNAME:CET
DTSTART:20221030T010000
END:STANDARD
BEGIN:DAYLIGHT
TZOFFSETFROM:+0100
TZOFFSETTO:+0200
TZNAME:CEST
DTSTART:20230326T010000
END:DAYLIGHT
BEGIN:STANDARD
TZOFFSETFROM:+0200
TZOFFSETTO:+0100
TZNAME:CET
DTSTART:20231029T010000
END:STANDARD
END:VTIMEZONE
BEGIN:VEVENT
DTSTART;VALUE=DATE:20221113
DTEND;VALUE=DATE:20221114
DTSTAMP:20260421T163316
CREATED:20220922T143235Z
LAST-MODIFIED:20220922T143235Z
UID:10000535-1668297600-1668383999@www.gard30.fr
SUMMARY:Loto à Milhaud
DESCRIPTION:Organisé par le club des aînés “Jamaï Viel”
URL:https://www.gard30.fr/agenda/loto-a-milhaud-2/
LOCATION:Centre socio culturel Milhaud\, Place Frédéric Mistral\, Milhaud\, Gard\, 30540\, France
CATEGORIES:Loto
GEO:43.7909325;4.3092651
X-APPLE-STRUCTURED-LOCATION;VALUE=URI;X-ADDRESS=Centre socio culturel Milhaud Place Frédéric Mistral Milhaud Gard 30540 France;X-APPLE-RADIUS=500;X-TITLE=Place Frédéric Mistral:geo:4.3092651,43.7909325
END:VEVENT
BEGIN:VEVENT
DTSTART;VALUE=DATE:20221106
DTEND;VALUE=DATE:20221107
DTSTAMP:20260421T163316
CREATED:20220922T142457Z
LAST-MODIFIED:20220922T142457Z
UID:10000534-1667692800-1667779199@www.gard30.fr
SUMMARY:Loto à Milhaud
DESCRIPTION:Organisé par la diane milhaudoise
URL:https://www.gard30.fr/agenda/loto-a-milhaud/
LOCATION:Centre socio culturel Milhaud\, Place Frédéric Mistral\, Milhaud\, Gard\, 30540\, France
CATEGORIES:Loto
GEO:43.7909325;4.3092651
X-APPLE-STRUCTURED-LOCATION;VALUE=URI;X-ADDRESS=Centre socio culturel Milhaud Place Frédéric Mistral Milhaud Gard 30540 France;X-APPLE-RADIUS=500;X-TITLE=Place Frédéric Mistral:geo:4.3092651,43.7909325
END:VEVENT
END:VCALENDAR