BEGIN:VCALENDAR
VERSION:2.0
PRODID:-//Gard 30 - ECPv6.15.20//NONSGML v1.0//EN
CALSCALE:GREGORIAN
METHOD:PUBLISH
X-ORIGINAL-URL:https://www.gard30.fr
X-WR-CALDESC:Évènements pour Gard 30
REFRESH-INTERVAL;VALUE=DURATION:PT1H
X-Robots-Tag:noindex
X-PUBLISHED-TTL:PT1H
BEGIN:VTIMEZONE
TZID:Europe/Paris
BEGIN:DAYLIGHT
TZOFFSETFROM:+0100
TZOFFSETTO:+0200
TZNAME:CEST
DTSTART:20250330T010000
END:DAYLIGHT
BEGIN:STANDARD
TZOFFSETFROM:+0200
TZOFFSETTO:+0100
TZNAME:CET
DTSTART:20251026T010000
END:STANDARD
BEGIN:DAYLIGHT
TZOFFSETFROM:+0100
TZOFFSETTO:+0200
TZNAME:CEST
DTSTART:20260329T010000
END:DAYLIGHT
BEGIN:STANDARD
TZOFFSETFROM:+0200
TZOFFSETTO:+0100
TZNAME:CET
DTSTART:20261025T010000
END:STANDARD
BEGIN:DAYLIGHT
TZOFFSETFROM:+0100
TZOFFSETTO:+0200
TZNAME:CEST
DTSTART:20270328T010000
END:DAYLIGHT
BEGIN:STANDARD
TZOFFSETFROM:+0200
TZOFFSETTO:+0100
TZNAME:CET
DTSTART:20271031T010000
END:STANDARD
END:VTIMEZONE
BEGIN:VEVENT
DTSTART;TZID=Europe/Paris:20260425T160000
DTEND;TZID=Europe/Paris:20260425T190000
DTSTAMP:20260423T140800
CREATED:20260422T200552Z
LAST-MODIFIED:20260422T200552Z
UID:10005166-1777132800-1777143600@www.gard30.fr
SUMMARY:Loto à Nîmes
DESCRIPTION:Samedi 25 Avril 2026\n\n16h00 : Début du Loto Solidaire 🎉\nJeux et animations tout au long de l’après-midi 🎵\nRécompenses : Bons cadeaux Carrefour 🎁
URL:https://www.gard30.fr/agenda/loto-a-nimes-27/
LOCATION:Cercle de l’avenir – Nîmes\, 25 bis rue Nicot\, Nîmes\, Gard\, 30000\, France
CATEGORIES:Loto
ATTACH;FMTTYPE=image/jpeg:https://www.gard30.fr/wp-content/uploads/2026/04/IMG_9953-1.jpg
ORGANIZER;CN="Secours populaire du Gard":MAILTO:contact@spf30.org
GEO:43.841676;4.370685
X-APPLE-STRUCTURED-LOCATION;VALUE=URI;X-ADDRESS=Cercle de l’avenir – Nîmes 25 bis rue Nicot Nîmes Gard 30000 France;X-APPLE-RADIUS=500;X-TITLE=25 bis rue Nicot:geo:4.370685,43.841676
END:VEVENT
END:VCALENDAR