BEGIN:VCALENDAR
VERSION:2.0
PRODID:-//Gard 30 - ECPv6.15.20//NONSGML v1.0//EN
CALSCALE:GREGORIAN
METHOD:PUBLISH
X-ORIGINAL-URL:https://www.gard30.fr
X-WR-CALDESC:Évènements pour Gard 30
REFRESH-INTERVAL;VALUE=DURATION:PT1H
X-Robots-Tag:noindex
X-PUBLISHED-TTL:PT1H
BEGIN:VTIMEZONE
TZID:Europe/Paris
BEGIN:DAYLIGHT
TZOFFSETFROM:+0100
TZOFFSETTO:+0200
TZNAME:CEST
DTSTART:20230326T010000
END:DAYLIGHT
BEGIN:STANDARD
TZOFFSETFROM:+0200
TZOFFSETTO:+0100
TZNAME:CET
DTSTART:20231029T010000
END:STANDARD
BEGIN:DAYLIGHT
TZOFFSETFROM:+0100
TZOFFSETTO:+0200
TZNAME:CEST
DTSTART:20240331T010000
END:DAYLIGHT
BEGIN:STANDARD
TZOFFSETFROM:+0200
TZOFFSETTO:+0100
TZNAME:CET
DTSTART:20241027T010000
END:STANDARD
BEGIN:DAYLIGHT
TZOFFSETFROM:+0100
TZOFFSETTO:+0200
TZNAME:CEST
DTSTART:20250330T010000
END:DAYLIGHT
BEGIN:STANDARD
TZOFFSETFROM:+0200
TZOFFSETTO:+0100
TZNAME:CET
DTSTART:20251026T010000
END:STANDARD
BEGIN:DAYLIGHT
TZOFFSETFROM:+0100
TZOFFSETTO:+0200
TZNAME:CEST
DTSTART:20260329T010000
END:DAYLIGHT
BEGIN:STANDARD
TZOFFSETFROM:+0200
TZOFFSETTO:+0100
TZNAME:CET
DTSTART:20261025T010000
END:STANDARD
END:VTIMEZONE
BEGIN:VEVENT
DTSTART;TZID=Europe/Paris:20251221T093000
DTEND;TZID=Europe/Paris:20251221T180000
DTSTAMP:20260420T154452
CREATED:20251020T072549Z
LAST-MODIFIED:20251020T072549Z
UID:10004518-1766309400-1766340000@www.gard30.fr
SUMMARY:Marché de noël à Sommières
DESCRIPTION:Samedi 21 décembre\n\n🎁 Collecte de jouets\n📸 Atelier photo du Père Noël\n🍽️ Petite restauration\n🎉 Animations
URL:https://www.gard30.fr/agenda/marche-de-noel-a-sommieres-2/
LOCATION:Ethic Etape à Sommières\, Rue Emilien Dumas 31\, Sommières\, Gard\, 30250\, France
CATEGORIES:Marchés de Noël
ATTACH;FMTTYPE=image/jpeg:https://www.gard30.fr/wp-content/uploads/2025/10/6DEE2839-1066-434C-9A01-8F2342996D4D_1_105_c-1.jpeg
GEO:43.785135;4.0904237
X-APPLE-STRUCTURED-LOCATION;VALUE=URI;X-ADDRESS=Ethic Etape à Sommières Rue Emilien Dumas 31 Sommières Gard 30250 France;X-APPLE-RADIUS=500;X-TITLE=Rue Emilien Dumas 31:geo:4.0904237,43.785135
END:VEVENT
BEGIN:VEVENT
DTSTART;TZID=Europe/Paris:20241221T093000
DTEND;TZID=Europe/Paris:20241221T180000
DTSTAMP:20260420T154452
CREATED:20241109T073405Z
LAST-MODIFIED:20241114T160931Z
UID:10002226-1734773400-1734804000@www.gard30.fr
SUMMARY:Marché de Noël à Sommières 2024
DESCRIPTION:Samedi 21 décembre\nEntrée libre de 9h30 à 18h00 \nFamilial et convivial\nArtisanat local \nPetite restauration\nPhoto du père Noël\nAnimations
URL:https://www.gard30.fr/agenda/marche-de-noel-a-sommieres-2024/
LOCATION:Ethic Etape à Sommières\, Rue Emilien Dumas 31\, Sommières\, Gard\, 30250\, France
CATEGORIES:Marchés de Noël
ATTACH;FMTTYPE=image/png:https://www.gard30.fr/wp-content/uploads/2024/11/marche-de-noel-a-sommieres-2024.png
GEO:43.785135;4.0904237
X-APPLE-STRUCTURED-LOCATION;VALUE=URI;X-ADDRESS=Ethic Etape à Sommières Rue Emilien Dumas 31 Sommières Gard 30250 France;X-APPLE-RADIUS=500;X-TITLE=Rue Emilien Dumas 31:geo:4.0904237,43.785135
END:VEVENT
END:VCALENDAR