BEGIN:VCALENDAR
VERSION:2.0
PRODID:-//Gard 30 - ECPv6.15.20//NONSGML v1.0//EN
CALSCALE:GREGORIAN
METHOD:PUBLISH
X-ORIGINAL-URL:https://www.gard30.fr
X-WR-CALDESC:Évènements pour Gard 30
REFRESH-INTERVAL;VALUE=DURATION:PT1H
X-Robots-Tag:noindex
X-PUBLISHED-TTL:PT1H
BEGIN:VTIMEZONE
TZID:Europe/Paris
BEGIN:DAYLIGHT
TZOFFSETFROM:+0100
TZOFFSETTO:+0200
TZNAME:CEST
DTSTART:20220327T010000
END:DAYLIGHT
BEGIN:STANDARD
TZOFFSETFROM:+0200
TZOFFSETTO:+0100
TZNAME:CET
DTSTART:20221030T010000
END:STANDARD
BEGIN:DAYLIGHT
TZOFFSETFROM:+0100
TZOFFSETTO:+0200
TZNAME:CEST
DTSTART:20230326T010000
END:DAYLIGHT
BEGIN:STANDARD
TZOFFSETFROM:+0200
TZOFFSETTO:+0100
TZNAME:CET
DTSTART:20231029T010000
END:STANDARD
BEGIN:DAYLIGHT
TZOFFSETFROM:+0100
TZOFFSETTO:+0200
TZNAME:CEST
DTSTART:20240331T010000
END:DAYLIGHT
BEGIN:STANDARD
TZOFFSETFROM:+0200
TZOFFSETTO:+0100
TZNAME:CET
DTSTART:20241027T010000
END:STANDARD
BEGIN:DAYLIGHT
TZOFFSETFROM:+0100
TZOFFSETTO:+0200
TZNAME:CEST
DTSTART:20250330T010000
END:DAYLIGHT
BEGIN:STANDARD
TZOFFSETFROM:+0200
TZOFFSETTO:+0100
TZNAME:CET
DTSTART:20251026T010000
END:STANDARD
BEGIN:DAYLIGHT
TZOFFSETFROM:+0100
TZOFFSETTO:+0200
TZNAME:CEST
DTSTART:20260329T010000
END:DAYLIGHT
BEGIN:STANDARD
TZOFFSETFROM:+0200
TZOFFSETTO:+0100
TZNAME:CET
DTSTART:20261025T010000
END:STANDARD
BEGIN:DAYLIGHT
TZOFFSETFROM:+0100
TZOFFSETTO:+0200
TZNAME:CEST
DTSTART:20270328T010000
END:DAYLIGHT
BEGIN:STANDARD
TZOFFSETFROM:+0200
TZOFFSETTO:+0100
TZNAME:CET
DTSTART:20271031T010000
END:STANDARD
END:VTIMEZONE
BEGIN:VEVENT
DTSTART;TZID=Europe/Paris:20260124T200000
DTEND;TZID=Europe/Paris:20260124T230000
DTSTAMP:20260421T034948
CREATED:20260115T075216Z
LAST-MODIFIED:20260115T075216Z
UID:10004862-1769284800-1769295600@www.gard30.fr
SUMMARY:Loto à Saint-Martin-de-Valgalgues
DESCRIPTION:Samedi 24 Janvier 2026\n\n18h30 : Ouverture des portes 🎉\n20h00 : Début du Méga Loto 🐂\nLots à gagner :\n\n1 Week-end Gîte de France 🏡\n1 Caisse à outils complète 🛠️\n1 Lavage auto complet intérieur/extérieur 🚗\n1 Corbeille garnie à 150€ 🍽️\n1 Air Fryer double 🍳\n1 Machine Cake Factory 🎂\n2 Voyages au Perthus ✈️\n1 Séjour à Disneyland 🎢\n200€ Bijoux 💍\n+ de 4000€ de lots 💰\n\n\n10 Quines\, 10 Doubles Quines\, 10 Cartons Pleins 🔥\nPartie spéciale à 1000€ de gains 💵
URL:https://www.gard30.fr/agenda/loto-a-saint-martin-de-valgalgues-20/
LOCATION:Foyer Georges Brassens – Saint Martin de Valgalgues\, Avenue Marcel Cachin\, Saint-Martin-de-Valgalgues\, Gard\, 30520\, France
CATEGORIES:Loto
ATTACH;FMTTYPE=image/jpeg:https://www.gard30.fr/wp-content/uploads/2026/01/1A7E0786-D1C7-473B-B998-962A553DE0A3-1.jpeg
GEO:44.1504297;4.0901839
X-APPLE-STRUCTURED-LOCATION;VALUE=URI;X-ADDRESS=Foyer Georges Brassens – Saint Martin de Valgalgues Avenue Marcel Cachin Saint-Martin-de-Valgalgues Gard 30520 France;X-APPLE-RADIUS=500;X-TITLE=Avenue Marcel Cachin:geo:4.0901839,44.1504297
END:VEVENT
BEGIN:VEVENT
DTSTART;TZID=Europe/Paris:20260104T150000
DTEND;TZID=Europe/Paris:20260104T180000
DTSTAMP:20260421T034948
CREATED:20260101T004610Z
LAST-MODIFIED:20260101T004610Z
UID:10004794-1767538800-1767549600@www.gard30.fr
SUMMARY:Loto à Saint-Martin-de-Valgalgues
DESCRIPTION:Dimanche 4 janvier 2026\n\n13h30 : Ouverture des portes 🎉\n15h00 : Début du Loto 🐂
URL:https://www.gard30.fr/agenda/loto-a-saint-martin-de-valgalgues-19/
LOCATION:Foyer Georges Brassens – Saint Martin de Valgalgues\, Avenue Marcel Cachin\, Saint-Martin-de-Valgalgues\, Gard\, 30520\, France
CATEGORIES:Loto
ATTACH;FMTTYPE=image/jpeg:https://www.gard30.fr/wp-content/uploads/2026/01/D7270561-19CC-4671-8BC9-6FF2DC0130F9-1.jpeg
ORGANIZER;CN="Soleil Dansant %C3%A0 La Grand Combe":MAILTO:soleildansant2013@gmail.com
GEO:44.1504297;4.0901839
X-APPLE-STRUCTURED-LOCATION;VALUE=URI;X-ADDRESS=Foyer Georges Brassens – Saint Martin de Valgalgues Avenue Marcel Cachin Saint-Martin-de-Valgalgues Gard 30520 France;X-APPLE-RADIUS=500;X-TITLE=Avenue Marcel Cachin:geo:4.0901839,44.1504297
END:VEVENT
BEGIN:VEVENT
DTSTART;TZID=Europe/Paris:20251207T150000
DTEND;TZID=Europe/Paris:20251207T180000
DTSTAMP:20260421T034948
CREATED:20251123T171724Z
LAST-MODIFIED:20251123T171724Z
UID:10004722-1765119600-1765130400@www.gard30.fr
SUMMARY:Loto à Saint-Martin-de-Valgalgues
DESCRIPTION:Dimanche 7 décembre 2025\n\n13h30 : Ouverture des portes 🎉\n15h00 : Début du Méga Loto 🐂\nLots à gagner :\n\n1 Vélo 🚴\n1 TV 📺\n1 Brouette garnie 🛒\n1 Contrôle technique 🚗\n1 Bon essence ⛽\n1 Air Fryeur double 🍽️\n1 Téléphone portable 📱\n1 Jare d’Anduze 🌺\n2 Séjours à Disneyland 🎢\nDe nombreux autres lots 🎁\n\n\n10 Quines\, 10 Doubles Quines\, 10 Cartons Pleins 🔥\nPartie spéciale à 1000 € de gains 💰
URL:https://www.gard30.fr/agenda/loto-a-saint-martin-de-valgalgues-16/
LOCATION:Foyer Georges Brassens – Saint Martin de Valgalgues\, Avenue Marcel Cachin\, Saint-Martin-de-Valgalgues\, Gard\, 30520\, France
CATEGORIES:Loto
ATTACH;FMTTYPE=image/jpeg:https://www.gard30.fr/wp-content/uploads/2025/11/IMG_6233-1.jpg
GEO:44.1504297;4.0901839
X-APPLE-STRUCTURED-LOCATION;VALUE=URI;X-ADDRESS=Foyer Georges Brassens – Saint Martin de Valgalgues Avenue Marcel Cachin Saint-Martin-de-Valgalgues Gard 30520 France;X-APPLE-RADIUS=500;X-TITLE=Avenue Marcel Cachin:geo:4.0901839,44.1504297
END:VEVENT
BEGIN:VEVENT
DTSTART;TZID=Europe/Paris:20251206T203000
DTEND;TZID=Europe/Paris:20251206T233000
DTSTAMP:20260421T034948
CREATED:20251201T092816Z
LAST-MODIFIED:20251201T092816Z
UID:10004733-1765053000-1765063800@www.gard30.fr
SUMMARY:Loto à Saint-Martin-de-Valgalgues
DESCRIPTION:Samedi 6 décembre\n\n20h30 : 🎉 Super Loto\n20 Quines / 10 Cartons pleins 🎟️\nGagnez des prix incroyables :\n\n📺 TV 125 cm\n⛽ 200€ Carburant\n🍽️ Lave-vaisselle\n💶 150€ Bon d’achat\n🤖 Robot aspirateur laveur\n🔥 Air Fryer Moulinex\n📱 Smartphone Samsung\n🍲 Cook in One Moulinex\n🛒 2 Caddies garnis
URL:https://www.gard30.fr/agenda/loto-a-saint-martin-de-valgalgues-17/
LOCATION:Foyer Georges Brassens – Saint Martin de Valgalgues\, Avenue Marcel Cachin\, Saint-Martin-de-Valgalgues\, Gard\, 30520\, France
CATEGORIES:Loto
ATTACH;FMTTYPE=image/jpeg:https://www.gard30.fr/wp-content/uploads/2025/12/IMG_6281-1.jpg
ORGANIZER;CN="ANIMALIN de Saint-Martin-de-Valgalgues":MAILTO:assoc.animalin@gmail.com
GEO:44.1504297;4.0901839
X-APPLE-STRUCTURED-LOCATION;VALUE=URI;X-ADDRESS=Foyer Georges Brassens – Saint Martin de Valgalgues Avenue Marcel Cachin Saint-Martin-de-Valgalgues Gard 30520 France;X-APPLE-RADIUS=500;X-TITLE=Avenue Marcel Cachin:geo:4.0901839,44.1504297
END:VEVENT
BEGIN:VEVENT
DTSTART;TZID=Europe/Paris:20251205T143000
DTEND;TZID=Europe/Paris:20251205T173000
DTSTAMP:20260421T034948
CREATED:20251115T195559Z
LAST-MODIFIED:20251115T195559Z
UID:10004700-1764945000-1764955800@www.gard30.fr
SUMMARY:Loto à Saint-Martin-de-Valgalgues
DESCRIPTION:Vendredi 5 décembre 2025\n\n14h30 : Loto 🎉\nTarifs accessibles à tous : 2 Euros par carton\, 5 Euros les trois cartons 💸\nBuvette disponible sur place 🍽️
URL:https://www.gard30.fr/agenda/loto-a-saint-martin-de-valgalgues-15/
LOCATION:Foyer Georges Brassens – Saint Martin de Valgalgues\, Avenue Marcel Cachin\, Saint-Martin-de-Valgalgues\, Gard\, 30520\, France
CATEGORIES:Loto
ATTACH;FMTTYPE=image/jpeg:https://www.gard30.fr/wp-content/uploads/2025/11/IMG_3396-1.jpeg
GEO:44.1504297;4.0901839
X-APPLE-STRUCTURED-LOCATION;VALUE=URI;X-ADDRESS=Foyer Georges Brassens – Saint Martin de Valgalgues Avenue Marcel Cachin Saint-Martin-de-Valgalgues Gard 30520 France;X-APPLE-RADIUS=500;X-TITLE=Avenue Marcel Cachin:geo:4.0901839,44.1504297
END:VEVENT
BEGIN:VEVENT
DTSTART;TZID=Europe/Paris:20250216T150000
DTEND;TZID=Europe/Paris:20250216T180000
DTSTAMP:20260421T034948
CREATED:20250215T095041Z
LAST-MODIFIED:20250215T095041Z
UID:10003128-1739718000-1739728800@www.gard30.fr
SUMMARY:Loto à Saint-martin-de-Valgalgues
DESCRIPTION:30 QUINES\n5 CARTONS PLEINS\nOUVERTURE A 13H30\n2 euros LE CARTON 10 EUROS LES 6\n\nLots : \n\n1 NINTENDO SWITCH\n1 TV\n100 € CARBURANT\n1 AIR FRYER\n1 JAMBON/ROSETTE
URL:https://www.gard30.fr/agenda/loto-a-saint-martin-de-valgalgues-14/
LOCATION:Foyer Georges Brassens – Saint Martin de Valgalgues\, Avenue Marcel Cachin\, Saint-Martin-de-Valgalgues\, Gard\, 30520\, France
CATEGORIES:Loto
ATTACH;FMTTYPE=image/jpeg:https://www.gard30.fr/wp-content/uploads/2025/02/0FDB1439-8254-4BE6-8391-BF209E308519.jpeg
GEO:44.1504297;4.0901839
X-APPLE-STRUCTURED-LOCATION;VALUE=URI;X-ADDRESS=Foyer Georges Brassens – Saint Martin de Valgalgues Avenue Marcel Cachin Saint-Martin-de-Valgalgues Gard 30520 France;X-APPLE-RADIUS=500;X-TITLE=Avenue Marcel Cachin:geo:4.0901839,44.1504297
END:VEVENT
BEGIN:VEVENT
DTSTART;TZID=Europe/Paris:20250215T203000
DTEND;TZID=Europe/Paris:20250215T233000
DTSTAMP:20260421T034948
CREATED:20250211T151843Z
LAST-MODIFIED:20250211T151843Z
UID:10003079-1739651400-1739662200@www.gard30.fr
SUMMARY:Loto à Saint-Martin-de-Valgalgues
DESCRIPTION:Lots : \n\nSECHE LINGE CANDY\n200€ CARBURANT\nXBOX\nCAVE A VIN\nAIRFRYER MOULINEX\n100€ BON D’ACHAT\nROBOT PATISSIER MOULINEX\n2 CADDIES GARNIS\nMONTRE GALAXY WATCH\n\nTarifs : \n\n20€ PLANCHE DE 12 CARTONS\n10€ PLANCHE ENFANT\n\nParties : \n\n20 QUINES\n10 CARTONS PLEINS
URL:https://www.gard30.fr/agenda/loto-a-saint-martin-de-valgalgues-13/
LOCATION:Foyer Georges Brassens – Saint Martin de Valgalgues\, Avenue Marcel Cachin\, Saint-Martin-de-Valgalgues\, Gard\, 30520\, France
CATEGORIES:Loto
ATTACH;FMTTYPE=image/jpeg:https://www.gard30.fr/wp-content/uploads/2025/02/476641728_28434621292848323_5738354168656066873_n.jpg
ORGANIZER;CN="Regroupement De Parents Ulis 30":MAILTO:regroupementdeparents30@gmx.fr
GEO:44.1504297;4.0901839
X-APPLE-STRUCTURED-LOCATION;VALUE=URI;X-ADDRESS=Foyer Georges Brassens – Saint Martin de Valgalgues Avenue Marcel Cachin Saint-Martin-de-Valgalgues Gard 30520 France;X-APPLE-RADIUS=500;X-TITLE=Avenue Marcel Cachin:geo:4.0901839,44.1504297
END:VEVENT
BEGIN:VEVENT
DTSTART;TZID=Europe/Paris:20250202T150000
DTEND;TZID=Europe/Paris:20250202T180000
DTSTAMP:20260421T034948
CREATED:20250128T101913Z
LAST-MODIFIED:20250128T101913Z
UID:10002978-1738508400-1738519200@www.gard30.fr
SUMMARY:Loto à Saint-Martin-de-Valgalgues
DESCRIPTION:Loto à Saint-Martin-de-Valgalgues le dimanche 02 février à 15h \nOuverture des portes à 13h30 \n\n1 cookeo / 1 TV / 100€Carburant / 1 Air Fryer / 1 Jambon/Rosette\n30 quines\n5 cartons pleins\n2€ le carton\n10€ les 6\n\nRenseignements : 06.31.32.71.21
URL:https://www.gard30.fr/agenda/loto-a-saint-martin-de-valgalgues-12/
LOCATION:Foyer Georges Brassens – Saint Martin de Valgalgues\, Avenue Marcel Cachin\, Saint-Martin-de-Valgalgues\, Gard\, 30520\, France
CATEGORIES:Loto
ATTACH;FMTTYPE=image/jpeg:https://www.gard30.fr/wp-content/uploads/2025/01/6CB6477D-0E04-4ACD-93CD-16528435EEC9_1_105_c.jpeg
GEO:44.1504297;4.0901839
X-APPLE-STRUCTURED-LOCATION;VALUE=URI;X-ADDRESS=Foyer Georges Brassens – Saint Martin de Valgalgues Avenue Marcel Cachin Saint-Martin-de-Valgalgues Gard 30520 France;X-APPLE-RADIUS=500;X-TITLE=Avenue Marcel Cachin:geo:4.0901839,44.1504297
END:VEVENT
BEGIN:VEVENT
DTSTART;TZID=Europe/Paris:20250130T200000
DTEND;TZID=Europe/Paris:20250130T230000
DTSTAMP:20260421T034948
CREATED:20251201T101326Z
LAST-MODIFIED:20251201T101326Z
UID:10004744-1738267200-1738278000@www.gard30.fr
SUMMARY:Loto à Saint-Martin-de-Valgalgues
DESCRIPTION:Vendredi 30 janvier\n\n18h00 : Ouverture des portes 🎉\n20h00 : Démarrage du loto 🐂
URL:https://www.gard30.fr/agenda/loto-a-saint-martin-de-valgalgues-18/
LOCATION:Foyer Georges Brassens – Saint Martin de Valgalgues\, Avenue Marcel Cachin\, Saint-Martin-de-Valgalgues\, Gard\, 30520\, France
CATEGORIES:Loto
ATTACH;FMTTYPE=image/jpeg:https://www.gard30.fr/wp-content/uploads/2025/12/IMG_6357-1.jpg
GEO:44.1504297;4.0901839
X-APPLE-STRUCTURED-LOCATION;VALUE=URI;X-ADDRESS=Foyer Georges Brassens – Saint Martin de Valgalgues Avenue Marcel Cachin Saint-Martin-de-Valgalgues Gard 30520 France;X-APPLE-RADIUS=500;X-TITLE=Avenue Marcel Cachin:geo:4.0901839,44.1504297
END:VEVENT
BEGIN:VEVENT
DTSTART;TZID=Europe/Paris:20250105T150000
DTEND;TZID=Europe/Paris:20250105T180000
DTSTAMP:20260421T034948
CREATED:20241231T091058Z
LAST-MODIFIED:20241231T091058Z
UID:10002766-1736089200-1736100000@www.gard30.fr
SUMMARY:Loto à Saint-Martin-de-Valgalgues
DESCRIPTION:Loto à Saint-Martin-de-Valgalgues le dimanche 5 janvier 2025 à 15h \n\n10 parties\n35 quines\nDont 5 doubles quines\nEt 5 cartons pleins\n2€ le carton\n10€ les 6\n\nRenseignements : 06 10 20 16 20
URL:https://www.gard30.fr/agenda/loto-a-saint-martin-de-valgalgues-11/
LOCATION:Foyer Georges Brassens – Saint Martin de Valgalgues\, Avenue Marcel Cachin\, Saint-Martin-de-Valgalgues\, Gard\, 30520\, France
CATEGORIES:Loto
ATTACH;FMTTYPE=image/jpeg:https://www.gard30.fr/wp-content/uploads/2024/12/2BEBCD8D-9138-4B12-8E03-4CC4C227E2E4_1_105_c.jpeg
ORGANIZER;CN="Soleil Dansant %C3%A0 La Grand Combe":MAILTO:soleildansant2013@gmail.com
GEO:44.1504297;4.0901839
X-APPLE-STRUCTURED-LOCATION;VALUE=URI;X-ADDRESS=Foyer Georges Brassens – Saint Martin de Valgalgues Avenue Marcel Cachin Saint-Martin-de-Valgalgues Gard 30520 France;X-APPLE-RADIUS=500;X-TITLE=Avenue Marcel Cachin:geo:4.0901839,44.1504297
END:VEVENT
BEGIN:VEVENT
DTSTART;TZID=Europe/Paris:20241230T150000
DTEND;TZID=Europe/Paris:20241230T180000
DTSTAMP:20260421T034948
CREATED:20241216T132244Z
LAST-MODIFIED:20241216T132244Z
UID:10002700-1735570800-1735581600@www.gard30.fr
SUMMARY:Loto à Saint-Martin-de-Valgalgues
DESCRIPTION:Loto à Saint-Martin-de-Valgalgues les 29 et 30 décembre à 15h \n\n2€ le carton\n4 cartons pleins\n36 quines\nTéléviseur\nBon d’achat de 100€\nBon carburant\nCave à vin
URL:https://www.gard30.fr/agenda/loto-a-saint-martin-de-valgalgues-10/
LOCATION:Foyer Georges Brassens – Saint Martin de Valgalgues\, Avenue Marcel Cachin\, Saint-Martin-de-Valgalgues\, Gard\, 30520\, France
CATEGORIES:Loto
ATTACH;FMTTYPE=image/jpeg:https://www.gard30.fr/wp-content/uploads/2024/12/31E0331D-27CE-43C7-840A-AE75215B7B89.jpeg
GEO:44.1504297;4.0901839
X-APPLE-STRUCTURED-LOCATION;VALUE=URI;X-ADDRESS=Foyer Georges Brassens – Saint Martin de Valgalgues Avenue Marcel Cachin Saint-Martin-de-Valgalgues Gard 30520 France;X-APPLE-RADIUS=500;X-TITLE=Avenue Marcel Cachin:geo:4.0901839,44.1504297
END:VEVENT
BEGIN:VEVENT
DTSTART;TZID=Europe/Paris:20241229T150000
DTEND;TZID=Europe/Paris:20241229T180000
DTSTAMP:20260421T034948
CREATED:20241216T132028Z
LAST-MODIFIED:20241216T132028Z
UID:10002699-1735484400-1735495200@www.gard30.fr
SUMMARY:Loto à Saint-Martin-de-Valgalgues
DESCRIPTION:Loto à Saint-Martin-de-Valgalgues les 29 et 30 décembre à 15h \n\n2€ le carton\n4 cartons pleins\n36 quines\nTéléviseur\nBon d’achat de 100€\nBon carburant\nCave à vin
URL:https://www.gard30.fr/agenda/loto-a-saint-martin-de-valgalgues-9/
LOCATION:Foyer Georges Brassens – Saint Martin de Valgalgues\, Avenue Marcel Cachin\, Saint-Martin-de-Valgalgues\, Gard\, 30520\, France
CATEGORIES:Loto
ATTACH;FMTTYPE=image/jpeg:https://www.gard30.fr/wp-content/uploads/2024/12/31E0331D-27CE-43C7-840A-AE75215B7B89.jpeg
GEO:44.1504297;4.0901839
X-APPLE-STRUCTURED-LOCATION;VALUE=URI;X-ADDRESS=Foyer Georges Brassens – Saint Martin de Valgalgues Avenue Marcel Cachin Saint-Martin-de-Valgalgues Gard 30520 France;X-APPLE-RADIUS=500;X-TITLE=Avenue Marcel Cachin:geo:4.0901839,44.1504297
END:VEVENT
BEGIN:VEVENT
DTSTART;TZID=Europe/Paris:20241222T150000
DTEND;TZID=Europe/Paris:20241222T180000
DTSTAMP:20260421T034948
CREATED:20241216T125554Z
LAST-MODIFIED:20241216T132130Z
UID:10002692-1734879600-1734890400@www.gard30.fr
SUMMARY:Loto à Saint-Martin-de-Valgalgues
DESCRIPTION:Loto à Saint-Martin-de-Valgalgues le lundi 30 décembre à 15h \nOuverture des portes à 13h30 \n\n30 quines\n5 cartons pleins\n1 TV\n100€SUPER U\n100€ carburant\n1 Air Fryer\n1 jambon /rosette
URL:https://www.gard30.fr/agenda/loto-a-saint-martin-de-valgalgues-8/
LOCATION:Foyer Georges Brassens – Saint Martin de Valgalgues\, Avenue Marcel Cachin\, Saint-Martin-de-Valgalgues\, Gard\, 30520\, France
CATEGORIES:Loto
ATTACH;FMTTYPE=image/jpeg:https://www.gard30.fr/wp-content/uploads/2024/12/8248B32D-7544-4820-AD1D-4E2023798770_1_105_c.jpeg
GEO:44.1504297;4.0901839
X-APPLE-STRUCTURED-LOCATION;VALUE=URI;X-ADDRESS=Foyer Georges Brassens – Saint Martin de Valgalgues Avenue Marcel Cachin Saint-Martin-de-Valgalgues Gard 30520 France;X-APPLE-RADIUS=500;X-TITLE=Avenue Marcel Cachin:geo:4.0901839,44.1504297
END:VEVENT
BEGIN:VEVENT
DTSTART;TZID=Europe/Paris:20241208T150000
DTEND;TZID=Europe/Paris:20241208T180000
DTSTAMP:20260421T034948
CREATED:20241205T102937Z
LAST-MODIFIED:20241205T102937Z
UID:10002627-1733670000-1733680800@www.gard30.fr
SUMMARY:Loto à Saint-Martin-de-Valgalgues
DESCRIPTION:Dimanche 8 décembre 2024 \n15H00 Loto\nFoyer Georges Brassens\nOuverture des portes à 13h30\nRenseignements : 06 10 20 16 20
URL:https://www.gard30.fr/agenda/loto-a-saint-martin-de-valgalgues-7/
LOCATION:Foyer Georges Brassens – Saint Martin de Valgalgues\, Avenue Marcel Cachin\, Saint-Martin-de-Valgalgues\, Gard\, 30520\, France
CATEGORIES:Loto
ATTACH;FMTTYPE=image/jpeg:https://www.gard30.fr/wp-content/uploads/2024/12/A68EE12A-D412-4343-8E6F-DEA1EA747FF2_1_105_c.jpeg
ORGANIZER;CN="Soleil Dansant %C3%A0 La Grand Combe":MAILTO:soleildansant2013@gmail.com
GEO:44.1504297;4.0901839
X-APPLE-STRUCTURED-LOCATION;VALUE=URI;X-ADDRESS=Foyer Georges Brassens – Saint Martin de Valgalgues Avenue Marcel Cachin Saint-Martin-de-Valgalgues Gard 30520 France;X-APPLE-RADIUS=500;X-TITLE=Avenue Marcel Cachin:geo:4.0901839,44.1504297
END:VEVENT
BEGIN:VEVENT
DTSTART;TZID=Europe/Paris:20241207T203000
DTEND;TZID=Europe/Paris:20241207T233000
DTSTAMP:20260421T034948
CREATED:20241125T210730Z
LAST-MODIFIED:20241125T210730Z
UID:10002528-1733603400-1733614200@www.gard30.fr
SUMMARY:Super loto à Saint Martin de Valgalgues
DESCRIPTION:20 QUINES & 10 CARTONS PLEINS\n200€ CARBURANT. LAVE VAISSELLE.\nCOOKEO+ CONNECT. X BOX. CAFETIERE BROYEUR.\n100€ BON D’ACHAT. AIRFRYER PHILIPS.\nTIREUSE A BIERRE SEB. 2 CADDIES GARNIS\n20 euros la planche de 12 cartons / 10 euros la planche enfant
URL:https://www.gard30.fr/agenda/super-loto-a-saint-martin-de-valgalgues/
LOCATION:Foyer Georges Brassens – Saint Martin de Valgalgues\, Avenue Marcel Cachin\, Saint-Martin-de-Valgalgues\, Gard\, 30520\, France
CATEGORIES:Loto
ATTACH;FMTTYPE=image/jpeg:https://www.gard30.fr/wp-content/uploads/2024/11/2456F4ED-65B9-40A0-BFDE-B47386726F08.jpeg
ORGANIZER;CN="ANIMALIN de Saint-Martin-de-Valgalgues":MAILTO:assoc.animalin@gmail.com
GEO:44.1504297;4.0901839
X-APPLE-STRUCTURED-LOCATION;VALUE=URI;X-ADDRESS=Foyer Georges Brassens – Saint Martin de Valgalgues Avenue Marcel Cachin Saint-Martin-de-Valgalgues Gard 30520 France;X-APPLE-RADIUS=500;X-TITLE=Avenue Marcel Cachin:geo:4.0901839,44.1504297
END:VEVENT
BEGIN:VEVENT
DTSTART;TZID=Europe/Paris:20241201T140000
DTEND;TZID=Europe/Paris:20241201T233000
DTSTAMP:20260421T034948
CREATED:20241117T191521Z
LAST-MODIFIED:20241126T101902Z
UID:10002358-1733061600-1733095800@www.gard30.fr
SUMMARY:Loto à Saint Martin de Valgalgues
DESCRIPTION:Loto à Saint Martin de Valgalgues le dimùanche 1 er décembre à 14h \nOuverture des portes à 13h \n\nTombola et enveloppes (paiement uniquement en espèces)\nBuvette et restauration sur place\n+ de 2000€de lots à gagner : BISSEL Spotclean\, Ninja Air Fryer\, Appareil photo INSTAX MINI\, Vélo d’une valeur de 240€\, nombreux bons d’achats et paniers garnis … Et encore pleins d’autres lots ! (montre lotus\, bons  restaurants\, vins…)\n\nAu Foyer Georges Brassens – Saint Martin de Valgalgues
URL:https://www.gard30.fr/agenda/loto-a-saint-martin-de-valgalgues-6/
LOCATION:Foyer Georges Brassens – Saint Martin de Valgalgues\, Avenue Marcel Cachin\, Saint-Martin-de-Valgalgues\, Gard\, 30520\, France
CATEGORIES:Loto
ATTACH;FMTTYPE=image/jpeg:https://www.gard30.fr/wp-content/uploads/2024/11/AEC54C3E-4C50-46D2-98FE-B1B040603DDA_1_105_c.jpeg
ORGANIZER;CN="Ecole Catholique Saint R%C3%A9gis Les Escarieux - Saint-Martin-de-Valgalgues":MAILTO:lalettre.escarieux@orange.fr
GEO:44.1504297;4.0901839
X-APPLE-STRUCTURED-LOCATION;VALUE=URI;X-ADDRESS=Foyer Georges Brassens – Saint Martin de Valgalgues Avenue Marcel Cachin Saint-Martin-de-Valgalgues Gard 30520 France;X-APPLE-RADIUS=500;X-TITLE=Avenue Marcel Cachin:geo:4.0901839,44.1504297
END:VEVENT
BEGIN:VEVENT
DTSTART;VALUE=DATE:20241109
DTEND;VALUE=DATE:20241111
DTSTAMP:20260421T034948
CREATED:20241108T135605Z
LAST-MODIFIED:20241108T135605Z
UID:10002189-1731110400-1731283199@www.gard30.fr
SUMMARY:Marché du santon à Saint-martin-de-valgalgues
DESCRIPTION:Les passionnés de crèches provençales et de traditions de Noël ne peuvent pas passer à côté du Marché aux Santons de Saint-Martin-de-Valgalgues. Cette fête rassemble des artisans santonniers qui présentent leurs créations artisanales\, allant des santons traditionnels aux personnages plus modernes. Vous y trouverez des paysages miniatures\, diverses animations ainsi qu’une exposition de photos proposée par Contact Image. \nVernissage le dimanche à 11h30 en présence de M. le Maire. \nDu samedi 9 au dimanche 10 novembre 2024 de 10h à 18h.
URL:https://www.gard30.fr/agenda/marche-du-santon-a-saint-martin-de-valgalgues/
LOCATION:Foyer Georges Brassens – Saint Martin de Valgalgues\, Avenue Marcel Cachin\, Saint-Martin-de-Valgalgues\, Gard\, 30520\, France
CATEGORIES:Marchés de Noël
ATTACH;FMTTYPE=image/jpeg:https://www.gard30.fr/wp-content/uploads/2024/11/christmas-market-decoration-2023-11-27-05-16-45-utc-scaled.jpeg
GEO:44.1504297;4.0901839
X-APPLE-STRUCTURED-LOCATION;VALUE=URI;X-ADDRESS=Foyer Georges Brassens – Saint Martin de Valgalgues Avenue Marcel Cachin Saint-Martin-de-Valgalgues Gard 30520 France;X-APPLE-RADIUS=500;X-TITLE=Avenue Marcel Cachin:geo:4.0901839,44.1504297
END:VEVENT
BEGIN:VEVENT
DTSTART;TZID=Europe/Paris:20240128T140000
DTEND;TZID=Europe/Paris:20240128T160000
DTSTAMP:20260421T034948
CREATED:20240123T061901Z
LAST-MODIFIED:20240123T061901Z
UID:10001479-1706450400-1706457600@www.gard30.fr
SUMMARY:Loto à Saint Martin de Valgalgues
DESCRIPTION:Dimanche 28 Janvier 2024 \n– 13h 15 : Ouverture des portes\n– 14h 00 : Loto organisé par l’APE “Le Sou des écoles” Henri Barbusse et Danièle Casanova\, au Foyer Georges Brassens\n• 3€ le carton\, 10€ les 4 cartons\, 13€ les 6 cartons et 2€ le carton supplémentaire\n• De nombreux lots à gagner : un sejour à Disneyland Paris\, bon d’achat\, panier garni et bien plus encore… \n› Venez nombreux !!
URL:https://www.gard30.fr/agenda/loto-a-saint-martin-de-valgalgues-5/
LOCATION:Foyer Georges Brassens – Saint Martin de Valgalgues\, Avenue Marcel Cachin\, Saint-Martin-de-Valgalgues\, Gard\, 30520\, France
CATEGORIES:Loto
ATTACH;FMTTYPE=image/jpeg:https://www.gard30.fr/wp-content/uploads/2024/01/IMG_3095.jpg
GEO:44.1504297;4.0901839
X-APPLE-STRUCTURED-LOCATION;VALUE=URI;X-ADDRESS=Foyer Georges Brassens – Saint Martin de Valgalgues Avenue Marcel Cachin Saint-Martin-de-Valgalgues Gard 30520 France;X-APPLE-RADIUS=500;X-TITLE=Avenue Marcel Cachin:geo:4.0901839,44.1504297
END:VEVENT
BEGIN:VEVENT
DTSTART;TZID=Europe/Paris:20240121T150000
DTEND;TZID=Europe/Paris:20240121T170000
DTSTAMP:20260421T034948
CREATED:20240105T124652Z
LAST-MODIFIED:20240105T124652Z
UID:10001461-1705849200-1705856400@www.gard30.fr
SUMMARY:Loto - Saint Martin de Valgalgues
DESCRIPTION:Dimanche 21 Janvier 2024 \n– 15h : Loto au Foyer Georges Brassens à Camont\n• 4 Cartons pleins\, 1 Carton vide\, 30 quines\n› 2 Bons d’achat de 100€\, bons de carburant de 80€\, corbeille de linge\, jambon\, nombreux bons d’achat…\n• 2€ le Carton
URL:https://www.gard30.fr/agenda/loto-saint-martin-de-valgalgues-2/
LOCATION:Foyer Georges Brassens – Saint Martin de Valgalgues\, Avenue Marcel Cachin\, Saint-Martin-de-Valgalgues\, Gard\, 30520\, France
CATEGORIES:Loto
ATTACH;FMTTYPE=image/jpeg:https://www.gard30.fr/wp-content/uploads/2024/01/imgpsh_fullsize_anim-7.jpg
GEO:44.1504297;4.0901839
X-APPLE-STRUCTURED-LOCATION;VALUE=URI;X-ADDRESS=Foyer Georges Brassens – Saint Martin de Valgalgues Avenue Marcel Cachin Saint-Martin-de-Valgalgues Gard 30520 France;X-APPLE-RADIUS=500;X-TITLE=Avenue Marcel Cachin:geo:4.0901839,44.1504297
END:VEVENT
BEGIN:VEVENT
DTSTART;TZID=Europe/Paris:20240107T150000
DTEND;TZID=Europe/Paris:20240107T170000
DTSTAMP:20260421T034948
CREATED:20240105T120754Z
LAST-MODIFIED:20241204T151528Z
UID:10001457-1704639600-1704646800@www.gard30.fr
SUMMARY:Loto - Saint Martin de Valgalgues
DESCRIPTION:Dimanche 7 Janvier 2024 \n– 13h 30 : Ouverture des portes\n– 15h 00 : Loto au Foyer Georges Brassens\, organisé par le Soleil Dansant\n• 10 Parties\, 35 Quines\n• 2€ le Carton\, 10€ les 6\n• Dont 5 Doubles Quines et 5 Cartons pleins
URL:https://www.gard30.fr/agenda/loto-saint-martin-de-valgalgues/
LOCATION:Foyer Georges Brassens – Saint Martin de Valgalgues\, Avenue Marcel Cachin\, Saint-Martin-de-Valgalgues\, Gard\, 30520\, France
CATEGORIES:Loto
ATTACH;FMTTYPE=image/jpeg:https://www.gard30.fr/wp-content/uploads/2024/01/imgpsh_fullsize_anim-3.jpg
ORGANIZER;CN="Soleil Dansant %C3%A0 La Grand Combe":MAILTO:soleildansant2013@gmail.com
GEO:44.1504297;4.0901839
X-APPLE-STRUCTURED-LOCATION;VALUE=URI;X-ADDRESS=Foyer Georges Brassens – Saint Martin de Valgalgues Avenue Marcel Cachin Saint-Martin-de-Valgalgues Gard 30520 France;X-APPLE-RADIUS=500;X-TITLE=Avenue Marcel Cachin:geo:4.0901839,44.1504297
END:VEVENT
BEGIN:VEVENT
DTSTART;TZID=Europe/Paris:20230204T203000
DTEND;TZID=Europe/Paris:20230204T233000
DTSTAMP:20260421T034948
CREATED:20230203T074053Z
LAST-MODIFIED:20230203T074053Z
UID:10000772-1675542600-1675553400@www.gard30.fr
SUMMARY:Loto à Saint-Martin-de-Valgalgues
DESCRIPTION:Foyer Georges Brassens-Camont à Saint-Martin-de-Valgalgues\n20e planche de 12 cartons 10e planche enfant 6 cartons\nCB acceptée\n20 quines 10 cartons pleins
URL:https://www.gard30.fr/agenda/loto-a-saint-martin-de-valgalgues-4/
LOCATION:Foyer Georges Brassens – Saint Martin de Valgalgues\, Avenue Marcel Cachin\, Saint-Martin-de-Valgalgues\, Gard\, 30520\, France
CATEGORIES:Loto
ATTACH;FMTTYPE=image/jpeg:https://www.gard30.fr/wp-content/uploads/2023/02/IMG-7054.jpg
GEO:44.1504297;4.0901839
X-APPLE-STRUCTURED-LOCATION;VALUE=URI;X-ADDRESS=Foyer Georges Brassens – Saint Martin de Valgalgues Avenue Marcel Cachin Saint-Martin-de-Valgalgues Gard 30520 France;X-APPLE-RADIUS=500;X-TITLE=Avenue Marcel Cachin:geo:4.0901839,44.1504297
END:VEVENT
BEGIN:VEVENT
DTSTART;TZID=Europe/Paris:20230115T150000
DTEND;TZID=Europe/Paris:20230115T180000
DTSTAMP:20260421T034948
CREATED:20230102T162630Z
LAST-MODIFIED:20230531T095843Z
UID:10000661-1673794800-1673805600@www.gard30.fr
SUMMARY:Loto à Saint-Martin-de-Valgalgues
DESCRIPTION:Foyer Georges Brassens-Camont à Saint-Martin-de-Valgalgues
URL:https://www.gard30.fr/agenda/loto-a-saint-martin-de-valgalgues-2/
LOCATION:Foyer Georges Brassens – Saint Martin de Valgalgues\, Avenue Marcel Cachin\, Saint-Martin-de-Valgalgues\, Gard\, 30520\, France
CATEGORIES:Loto
GEO:44.1504297;4.0901839
X-APPLE-STRUCTURED-LOCATION;VALUE=URI;X-ADDRESS=Foyer Georges Brassens – Saint Martin de Valgalgues Avenue Marcel Cachin Saint-Martin-de-Valgalgues Gard 30520 France;X-APPLE-RADIUS=500;X-TITLE=Avenue Marcel Cachin:geo:4.0901839,44.1504297
END:VEVENT
BEGIN:VEVENT
DTSTART;TZID=Europe/Paris:20230108T150000
DTEND;TZID=Europe/Paris:20230108T180000
DTSTAMP:20260421T034948
CREATED:20230102T160909Z
LAST-MODIFIED:20251008T142511Z
UID:10000657-1673190000-1673200800@www.gard30.fr
SUMMARY:Loto à Saint-Martin-de-Valgalgues
DESCRIPTION:Foyer Georges Brassens-Camont à Saint-Martin-de-Valgalgues\n36 quines 4 cartons pleins\n2 € le carton
URL:https://www.gard30.fr/agenda/loto-a-saint-martin-de-valgalgues/
LOCATION:Foyer Georges Brassens – Saint Martin de Valgalgues\, Avenue Marcel Cachin\, Saint-Martin-de-Valgalgues\, Gard\, 30520\, France
CATEGORIES:Loto
ATTACH;FMTTYPE=image/jpeg:https://www.gard30.fr/wp-content/uploads/2023/01/st-martin-de-valgalgues.jpg
GEO:44.1504297;4.0901839
X-APPLE-STRUCTURED-LOCATION;VALUE=URI;X-ADDRESS=Foyer Georges Brassens – Saint Martin de Valgalgues Avenue Marcel Cachin Saint-Martin-de-Valgalgues Gard 30520 France;X-APPLE-RADIUS=500;X-TITLE=Avenue Marcel Cachin:geo:4.0901839,44.1504297
END:VEVENT
END:VCALENDAR