BEGIN:VCALENDAR
VERSION:2.0
PRODID:-//Gard 30 - ECPv6.15.20//NONSGML v1.0//EN
CALSCALE:GREGORIAN
METHOD:PUBLISH
X-WR-CALNAME:Gard 30
X-ORIGINAL-URL:https://www.gard30.fr
X-WR-CALDESC:Évènements pour Gard 30
REFRESH-INTERVAL;VALUE=DURATION:PT1H
X-Robots-Tag:noindex
X-PUBLISHED-TTL:PT1H
BEGIN:VTIMEZONE
TZID:Europe/Paris
BEGIN:DAYLIGHT
TZOFFSETFROM:+0100
TZOFFSETTO:+0200
TZNAME:CEST
DTSTART:20220327T010000
END:DAYLIGHT
BEGIN:STANDARD
TZOFFSETFROM:+0200
TZOFFSETTO:+0100
TZNAME:CET
DTSTART:20221030T010000
END:STANDARD
BEGIN:DAYLIGHT
TZOFFSETFROM:+0100
TZOFFSETTO:+0200
TZNAME:CEST
DTSTART:20230326T010000
END:DAYLIGHT
BEGIN:STANDARD
TZOFFSETFROM:+0200
TZOFFSETTO:+0100
TZNAME:CET
DTSTART:20231029T010000
END:STANDARD
BEGIN:DAYLIGHT
TZOFFSETFROM:+0100
TZOFFSETTO:+0200
TZNAME:CEST
DTSTART:20240331T010000
END:DAYLIGHT
BEGIN:STANDARD
TZOFFSETFROM:+0200
TZOFFSETTO:+0100
TZNAME:CET
DTSTART:20241027T010000
END:STANDARD
BEGIN:DAYLIGHT
TZOFFSETFROM:+0100
TZOFFSETTO:+0200
TZNAME:CEST
DTSTART:20250330T010000
END:DAYLIGHT
BEGIN:STANDARD
TZOFFSETFROM:+0200
TZOFFSETTO:+0100
TZNAME:CET
DTSTART:20251026T010000
END:STANDARD
BEGIN:DAYLIGHT
TZOFFSETFROM:+0100
TZOFFSETTO:+0200
TZNAME:CEST
DTSTART:20260329T010000
END:DAYLIGHT
BEGIN:STANDARD
TZOFFSETFROM:+0200
TZOFFSETTO:+0100
TZNAME:CET
DTSTART:20261025T010000
END:STANDARD
END:VTIMEZONE
BEGIN:VEVENT
DTSTART;TZID=Europe/Paris:20250119T160000
DTEND;TZID=Europe/Paris:20250119T190000
DTSTAMP:20260425T203642
CREATED:20241025T082744Z
LAST-MODIFIED:20250111T113944Z
UID:10002050-1737302400-1737313200@www.gard30.fr
SUMMARY:Loto à Quissac
DESCRIPTION:20 parties + 1 quine enfant\nSéjour à Ténérige pour 2 pers. Hôtel 4*\nOrdinateur portable\nRobot Patissier Moulinex\nNintendo Switch\nAirfryer XL\nBons Carburant\nTrotinette électrique\nCafetière Expresso Philips\n5 corbeilles garnies\n4 jambons\nEnceinte Bluetooth\nBlender Chauffant\n\n2 € le carton / 10 € les 7 cartons / 20 € les 15 cartons
URL:https://www.gard30.fr/agenda/loto-a-quissac-25/
LOCATION:Foyer Municipal Désiré Rousset Quissac\, Avenue du Onze Novembre\, Quissac\, Gard\, 30260\, France
CATEGORIES:Loto
ATTACH;FMTTYPE=image/jpeg:https://www.gard30.fr/wp-content/uploads/2024/10/472945880_10225855461485635_4420193203821075993_n.jpg
GEO:43.9101808;4.0013105
X-APPLE-STRUCTURED-LOCATION;VALUE=URI;X-ADDRESS=Foyer Municipal Désiré Rousset Quissac Avenue du Onze Novembre Quissac Gard 30260 France;X-APPLE-RADIUS=500;X-TITLE=Avenue du Onze Novembre:geo:4.0013105,43.9101808
END:VEVENT
BEGIN:VEVENT
DTSTART;TZID=Europe/Paris:20250112T160000
DTEND;TZID=Europe/Paris:20250112T190000
DTSTAMP:20260425T203642
CREATED:20241025T082744Z
LAST-MODIFIED:20241229T114839Z
UID:10002049-1736697600-1736708400@www.gard30.fr
SUMMARY:Loto à Quissac
DESCRIPTION:1 CARTON 2€\n7 CARTONS 10 €\n15 CARTONS 20€\n\n5 GROS LOTS À GAGNER ! \n\nun SPA gonflable\nun TELEVISEUR\nun AIRFRYER\nun ORDINATEUR portable\nun VOYAGE\n\n16 QUINES À GAGNER ! \n\nBons restaurants\nCorbeilles garnies\nBons commercants\nBons esthétiques\nUn jambon …
URL:https://www.gard30.fr/agenda/loto-a-quissac-26/
LOCATION:Foyer Municipal Désiré Rousset Quissac\, Avenue du Onze Novembre\, Quissac\, Gard\, 30260\, France
CATEGORIES:Loto
ATTACH;FMTTYPE=image/jpeg:https://www.gard30.fr/wp-content/uploads/2024/10/4F159906-0C25-4FC5-811A-4C1353907CBF_1_105_c.jpeg
GEO:43.9101808;4.0013105
X-APPLE-STRUCTURED-LOCATION;VALUE=URI;X-ADDRESS=Foyer Municipal Désiré Rousset Quissac Avenue du Onze Novembre Quissac Gard 30260 France;X-APPLE-RADIUS=500;X-TITLE=Avenue du Onze Novembre:geo:4.0013105,43.9101808
END:VEVENT
BEGIN:VEVENT
DTSTART;TZID=Europe/Paris:20250105T160000
DTEND;TZID=Europe/Paris:20250105T190000
DTSTAMP:20260425T203643
CREATED:20241025T082745Z
LAST-MODIFIED:20241229T114512Z
UID:10002048-1736092800-1736103600@www.gard30.fr
SUMMARY:Loto à Quissac
DESCRIPTION:21 PARTIES\n1 Séjour à Malte 2pers. Hôtel 3*\n1 Séjour aux Baléares 2pers. Hôtel 3*\n1 TV 80cm\n1 Cochon Valeur 150€\n1 Bon d’essence valeur 100€\nLe poids du gagnant 1€/kg\nUn Aspirateur Balais\nDeux Cochons d’une valeur de 100€\n1 Bon d’achat 100€ Intermarché\n6 Jambons\n4 Corbeilles Garnies\n1 Appareil à raclette / plancha modulable\n\nTOMBOLA \n\n1 Rosette\nJetons Oki\n1 Carton de Vin\nBonbons\n\nCartons : \n\n2€ Le carton\n10 € Les 7 cartons\n20 € Les 15 cartons
URL:https://www.gard30.fr/agenda/loto-a-quissac-27/
LOCATION:Foyer Municipal Désiré Rousset Quissac\, Avenue du Onze Novembre\, Quissac\, Gard\, 30260\, France
CATEGORIES:Loto
ATTACH;FMTTYPE=image/jpeg:https://www.gard30.fr/wp-content/uploads/2024/10/F20537AA-EB2A-4F4C-B434-4C0830B80F34_1_201_a.jpeg
ORGANIZER;CN="Quissac P%C3%A9tanque":MAILTO:quissacpetanque@gmail.com
GEO:43.9101808;4.0013105
X-APPLE-STRUCTURED-LOCATION;VALUE=URI;X-ADDRESS=Foyer Municipal Désiré Rousset Quissac Avenue du Onze Novembre Quissac Gard 30260 France;X-APPLE-RADIUS=500;X-TITLE=Avenue du Onze Novembre:geo:4.0013105,43.9101808
END:VEVENT
BEGIN:VEVENT
DTSTART;TZID=Europe/Paris:20241228T200000
DTEND;TZID=Europe/Paris:20241228T233000
DTSTAMP:20260425T203643
CREATED:20241025T082745Z
LAST-MODIFIED:20241208T184950Z
UID:10002047-1735416000-1735428600@www.gard30.fr
SUMMARY:Méga loto à Quissac
DESCRIPTION:Samedi 28 décembre 2024 \nLoto : organisé par le Comité de vièle \n\nBon d’achat au “Grand Bazar” – 4 Jambons – 3 Corbeilles Garnies\nBons de Carburants (valeur 60€)- Le poids du gagnant (1\,5€/ Hg)\n1 Repas 2p. au “Restaurant Le Bleu” – 1 Air Fryer – 1 Coffret Gourmand\n1 Bon d’achat chez “Les Fromages de Stely” – 1 Bon d’achat chez “Quissac Optique” – 1 Bon d’achat chez “Quissac Création”\n\n\n1 Séjour en Europe (3j / 2 pers.]\n1 Aspirateur robot\n1 Cave à Vin\n1 Tablette Tactile\n\nPrix des cartons : \n\n2€ le carton\n10€ les 7\n20 € les 15
URL:https://www.gard30.fr/agenda/loto-a-quissac-28/
LOCATION:Foyer Municipal Désiré Rousset Quissac\, Avenue du Onze Novembre\, Quissac\, Gard\, 30260\, France
CATEGORIES:Loto
ATTACH;FMTTYPE=image/jpeg:https://www.gard30.fr/wp-content/uploads/2024/10/161A32A1-E1A7-415D-8B2A-7B1984C3C69A_1_105_c.jpeg
ORGANIZER;CN="Comit%C3%A9 des f%C3%AAtes de Viele Quissac":MAILTO:greg.ls.cfqv@gmail.com
GEO:43.9101808;4.0013105
X-APPLE-STRUCTURED-LOCATION;VALUE=URI;X-ADDRESS=Foyer Municipal Désiré Rousset Quissac Avenue du Onze Novembre Quissac Gard 30260 France;X-APPLE-RADIUS=500;X-TITLE=Avenue du Onze Novembre:geo:4.0013105,43.9101808
END:VEVENT
BEGIN:VEVENT
DTSTART;TZID=Europe/Paris:20241222T160000
DTEND;TZID=Europe/Paris:20241222T190000
DTSTAMP:20260425T203643
CREATED:20241025T082746Z
LAST-MODIFIED:20241216T140026Z
UID:10002046-1734883200-1734894000@www.gard30.fr
SUMMARY:Loto à Quissac
DESCRIPTION:Dimanche 22 décembre 2024 à 16h \n21 parties : \n\n1 super lot de noël\n1 TV LED (32 pouces)\n1 nintendo Switch\n1 carte cadeau valeur 200€\n1 carte cadeau valeur 150€\nLe poid du gagnant à 1€/kg\n1 tablette tactile\n1 chapon ° 2 bouteilles de vin (Sueno)\n1 lot plaisir des papilles (Chez Besnard et Stelly)\n1 bon d’essence chez Vulco de 50€\n1 lot dodo\n4 corbeilles garnies\n2 demi longes de porc\n1 corbeille de Noël\n2 jambons\nTombola :\n\n1 carte cadeau AB Pépinière valeur 40€\nRepas pour 2 personnes au ” Café Français “\n2 pizzas à la Tour de PIZZE\n1  rosette boucherie Chez Alex\n1 bijoux ” Quissac Création ” valeur 45 €\n1 bon d’achat chez Piémont Cévenol\n\n\n2€ le carton\n10€ les è\n2à€ les 15\n\nParking gratuit – salle chauffée – buvette – vente de gâteaux et crêpes \nLoto : organisé par Le Calimero\nPlus de précisions à venir
URL:https://www.gard30.fr/agenda/loto-a-quissac-29/
LOCATION:Foyer Municipal Désiré Rousset Quissac\, Avenue du Onze Novembre\, Quissac\, Gard\, 30260\, France
CATEGORIES:Loto
ATTACH;FMTTYPE=image/jpeg:https://www.gard30.fr/wp-content/uploads/2024/12/529DE437-4E58-4B73-827F-9CB01BA960C4.jpeg
GEO:43.9101808;4.0013105
X-APPLE-STRUCTURED-LOCATION;VALUE=URI;X-ADDRESS=Foyer Municipal Désiré Rousset Quissac Avenue du Onze Novembre Quissac Gard 30260 France;X-APPLE-RADIUS=500;X-TITLE=Avenue du Onze Novembre:geo:4.0013105,43.9101808
END:VEVENT
BEGIN:VEVENT
DTSTART;VALUE=DATE:20241215
DTEND;VALUE=DATE:20241216
DTSTAMP:20260425T203643
CREATED:20241025T082747Z
LAST-MODIFIED:20241025T082747Z
UID:10002045-1734220800-1734307199@www.gard30.fr
SUMMARY:Loto à Quissac
DESCRIPTION:Dimanche 15 décembre 2024 \nLoto : organisé par ADMR\nPlus de précisions à venir
URL:https://www.gard30.fr/agenda/loto-a-quissac-30/
LOCATION:Foyer Municipal Désiré Rousset Quissac\, Avenue du Onze Novembre\, Quissac\, Gard\, 30260\, France
CATEGORIES:Loto
ATTACH;FMTTYPE=image/jpeg:https://www.gard30.fr/wp-content/uploads/2024/10/AC91AC04-3EF1-4D36-99DA-C5E0A9AF7C32.jpeg
GEO:43.9101808;4.0013105
X-APPLE-STRUCTURED-LOCATION;VALUE=URI;X-ADDRESS=Foyer Municipal Désiré Rousset Quissac Avenue du Onze Novembre Quissac Gard 30260 France;X-APPLE-RADIUS=500;X-TITLE=Avenue du Onze Novembre:geo:4.0013105,43.9101808
END:VEVENT
BEGIN:VEVENT
DTSTART;VALUE=DATE:20241208
DTEND;VALUE=DATE:20241209
DTSTAMP:20260425T203643
CREATED:20241025T082747Z
LAST-MODIFIED:20241025T082747Z
UID:10002044-1733616000-1733702399@www.gard30.fr
SUMMARY:Loto à Quissac
DESCRIPTION:Dimanche 8 décembre 2024 \nLoto : organisé par le Telethon\nPlus de précisions à venir
URL:https://www.gard30.fr/agenda/loto-a-quissac-31/
LOCATION:Foyer Municipal Désiré Rousset Quissac\, Avenue du Onze Novembre\, Quissac\, Gard\, 30260\, France
CATEGORIES:Loto
ATTACH;FMTTYPE=image/jpeg:https://www.gard30.fr/wp-content/uploads/2024/10/AC91AC04-3EF1-4D36-99DA-C5E0A9AF7C32.jpeg
GEO:43.9101808;4.0013105
X-APPLE-STRUCTURED-LOCATION;VALUE=URI;X-ADDRESS=Foyer Municipal Désiré Rousset Quissac Avenue du Onze Novembre Quissac Gard 30260 France;X-APPLE-RADIUS=500;X-TITLE=Avenue du Onze Novembre:geo:4.0013105,43.9101808
END:VEVENT
BEGIN:VEVENT
DTSTART;TZID=Europe/Paris:20241201T160000
DTEND;TZID=Europe/Paris:20241201T235900
DTSTAMP:20260425T203643
CREATED:20241025T082748Z
LAST-MODIFIED:20241123T093821Z
UID:10002043-1733068800-1733097540@www.gard30.fr
SUMMARY:Loto à Quissac
DESCRIPTION:Tarifs : \n\n2€ Le carton\n10 € Les 7 cartons\n20 euros Les 15 cartons\n\nParties : \n\n21 PARTIES\n\nLots : \n\nVoyage d’une valeur de 300€\nNintendo Switch\nTrottinette Electrique\nOrdinateur Portable\nBon 50€ Le Grand Bazar\nBon 2 Pizzas L’occitan + Bon 25€ Maison du Terroir + 1 Entrée Teraventure\nCage de football + Ballon\nLe Blok 2.0 Coupe homme 1 Coffret de vin\nBon de 50€ AB Pépinières offert pat MyPaysage30\n2 Entrées Micropolis + 1 Lot Sport2000\nSiège Massant + Ecouteurs sans fil\nBon 2 Pizzas L’occitan + 2 Entrées Green Park + Cafetière\nBon 2 pers. Restaurant Le Bleu + 1 Entrée Tyroliane\nTV 80cm\n2 Entrées Grotte de Trabuc + Entrées Grotte Salamandre\nBon 30€ Pépinières Enjolras + 1 Entrée Roc de Massereau + 1 Entrée Tyrolyane\nBon 50€ La Mélodie du Boucher\n1 Jambon\nPerceuse + Jetons Oki\nUn citronnier d’une valeur de 70€ par AB Pépinière\nBon de 40€ Repas Café Français + 1 Entrée Teraventure
URL:https://www.gard30.fr/agenda/loto-a-quissac-32/
LOCATION:Foyer Municipal Désiré Rousset Quissac\, Avenue du Onze Novembre\, Quissac\, Gard\, 30260\, France
CATEGORIES:Loto
ATTACH;FMTTYPE=image/jpeg:https://www.gard30.fr/wp-content/uploads/2024/10/C1FB7B11-4C91-49AA-A0BB-0AFC865A4B04_1_105_c.jpeg
GEO:43.9101808;4.0013105
X-APPLE-STRUCTURED-LOCATION;VALUE=URI;X-ADDRESS=Foyer Municipal Désiré Rousset Quissac Avenue du Onze Novembre Quissac Gard 30260 France;X-APPLE-RADIUS=500;X-TITLE=Avenue du Onze Novembre:geo:4.0013105,43.9101808
END:VEVENT
BEGIN:VEVENT
DTSTART;VALUE=DATE:20241103
DTEND;VALUE=DATE:20241104
DTSTAMP:20260425T203643
CREATED:20241025T082749Z
LAST-MODIFIED:20241025T082749Z
UID:10002042-1730592000-1730678399@www.gard30.fr
SUMMARY:Loto à Quissac
DESCRIPTION:Dimanche 3 novembre \nLoto : organisé par le Comité des fêtes\nPlus de précisions à venir
URL:https://www.gard30.fr/agenda/loto-a-quissac-33/
LOCATION:Foyer Municipal Désiré Rousset Quissac\, Avenue du Onze Novembre\, Quissac\, Gard\, 30260\, France
CATEGORIES:Loto
ATTACH;FMTTYPE=image/jpeg:https://www.gard30.fr/wp-content/uploads/2024/10/AC91AC04-3EF1-4D36-99DA-C5E0A9AF7C32.jpeg
GEO:43.9101808;4.0013105
X-APPLE-STRUCTURED-LOCATION;VALUE=URI;X-ADDRESS=Foyer Municipal Désiré Rousset Quissac Avenue du Onze Novembre Quissac Gard 30260 France;X-APPLE-RADIUS=500;X-TITLE=Avenue du Onze Novembre:geo:4.0013105,43.9101808
END:VEVENT
BEGIN:VEVENT
DTSTART;TZID=Europe/Paris:20241027T160000
DTEND;TZID=Europe/Paris:20241027T190000
DTSTAMP:20260425T203643
CREATED:20241025T082749Z
LAST-MODIFIED:20241025T082749Z
UID:10002041-1730044800-1730055600@www.gard30.fr
SUMMARY:Méga loto à Quissac
DESCRIPTION:Dimanche 27 octobre \n16H00 : Méga loto à Quissac\nFoyer\nPlus de 2000€ de bons d’achat\n1 Carte Illicado – 500€\n1 Carte Illicado – 400€\n1 Carte Illicado – 300€\n1 Carte Illicado – 200€\n2 Bons Carburant – 50€\n2 Bons d’achat Mas du Sire – 50€\n2 Bons d’achat Boucherie JB Aubrac – 50€\n2 Bons d’achat Pépinières Balaguer – 50€\n2 Bons d’achat Fromagerie Chez Stely – 50€\n1 Repas pour 2p Restaurant Le Bleu\n1 Repas pour 2p Café Français\n1 Bon d’achat Les Massages d’EIsa – 70€\n1 Bon d’achat Sueno – 50€\n1 Bon d’achat Grand Bazar – 50€\n1 Bon d’achat Boucherie Yvanez – 50€\n1 Bon d’achat Bijouterie Quissac Création – 50€\nTombola / Buvette / Gâteaux\n2€ le carton\, 10€ les 7 cartons\, 20€ les 15 cartons \n  \n 
URL:https://www.gard30.fr/agenda/mega-loto-a-quissac/
LOCATION:Foyer Municipal Désiré Rousset Quissac\, Avenue du Onze Novembre\, Quissac\, Gard\, 30260\, France
CATEGORIES:Loto
ATTACH;FMTTYPE=image/jpeg:https://www.gard30.fr/wp-content/uploads/2024/10/C15AFE0C-983E-4AF5-B44C-FE55A2EC5A96_1_105_c.jpeg
GEO:43.9101808;4.0013105
X-APPLE-STRUCTURED-LOCATION;VALUE=URI;X-ADDRESS=Foyer Municipal Désiré Rousset Quissac Avenue du Onze Novembre Quissac Gard 30260 France;X-APPLE-RADIUS=500;X-TITLE=Avenue du Onze Novembre:geo:4.0013105,43.9101808
END:VEVENT
BEGIN:VEVENT
DTSTART;TZID=Europe/Paris:20230416T160000
DTEND;TZID=Europe/Paris:20230416T185900
DTSTAMP:20260425T203643
CREATED:20230102T155403Z
LAST-MODIFIED:20230102T155403Z
UID:10000647-1681660800-1681671540@www.gard30.fr
SUMMARY:Loto à Quissac
DESCRIPTION:Organisé par Mi Sponsa Italis
URL:https://www.gard30.fr/agenda/loto-a-quissac-14/
LOCATION:Foyer Municipal Désiré Rousset Quissac\, Avenue du Onze Novembre\, Quissac\, Gard\, 30260\, France
CATEGORIES:Loto
ATTACH;FMTTYPE=image/png:https://www.gard30.fr/wp-content/uploads/2023/01/quissac-2.png
GEO:43.9101808;4.0013105
X-APPLE-STRUCTURED-LOCATION;VALUE=URI;X-ADDRESS=Foyer Municipal Désiré Rousset Quissac Avenue du Onze Novembre Quissac Gard 30260 France;X-APPLE-RADIUS=500;X-TITLE=Avenue du Onze Novembre:geo:4.0013105,43.9101808
END:VEVENT
BEGIN:VEVENT
DTSTART;TZID=Europe/Paris:20230409T160000
DTEND;TZID=Europe/Paris:20230409T180000
DTSTAMP:20260425T203643
CREATED:20230403T171440Z
LAST-MODIFIED:20230403T171440Z
UID:10000912-1681056000-1681063200@www.gard30.fr
SUMMARY:Super loto à Quissac
DESCRIPTION:Dimanche 9 Avril à 16h :\n• 15 Quines – 5 cartons pleins\n• un séjour au Puy du Fou\n• 1 tablette\n• 1 aspirateur\n• Le poids du gagnant\n• 1 téléphone\n• 2 cochons\n• bons d’achats\n• Corbeilles garnies\n• jambons\n• et bin plus encore !!!\n• 2€ le carton\, 10€ les 7 cartons\, 20€ les 15 cartons
URL:https://www.gard30.fr/agenda/super-loto-a-quissac/
LOCATION:Foyer Municipal Désiré Rousset Quissac\, Avenue du Onze Novembre\, Quissac\, Gard\, 30260\, France
CATEGORIES:Loto
ATTACH;FMTTYPE=image/jpeg:https://www.gard30.fr/wp-content/uploads/2023/04/IMG-8013.jpg
GEO:43.9101808;4.0013105
X-APPLE-STRUCTURED-LOCATION;VALUE=URI;X-ADDRESS=Foyer Municipal Désiré Rousset Quissac Avenue du Onze Novembre Quissac Gard 30260 France;X-APPLE-RADIUS=500;X-TITLE=Avenue du Onze Novembre:geo:4.0013105,43.9101808
END:VEVENT
BEGIN:VEVENT
DTSTART;TZID=Europe/Paris:20230402T160000
DTEND;TZID=Europe/Paris:20230402T185900
DTSTAMP:20260425T203643
CREATED:20230102T155328Z
LAST-MODIFIED:20230102T155328Z
UID:10000645-1680451200-1680461940@www.gard30.fr
SUMMARY:Loto à Quissac
DESCRIPTION:Organisé par les pompiers
URL:https://www.gard30.fr/agenda/loto-a-quissac-12/
LOCATION:Foyer Municipal Désiré Rousset Quissac\, Avenue du Onze Novembre\, Quissac\, Gard\, 30260\, France
CATEGORIES:Loto
ATTACH;FMTTYPE=image/png:https://www.gard30.fr/wp-content/uploads/2023/01/quissac-2.png
GEO:43.9101808;4.0013105
X-APPLE-STRUCTURED-LOCATION;VALUE=URI;X-ADDRESS=Foyer Municipal Désiré Rousset Quissac Avenue du Onze Novembre Quissac Gard 30260 France;X-APPLE-RADIUS=500;X-TITLE=Avenue du Onze Novembre:geo:4.0013105,43.9101808
END:VEVENT
BEGIN:VEVENT
DTSTART;TZID=Europe/Paris:20230326T160000
DTEND;TZID=Europe/Paris:20230326T180000
DTSTAMP:20260425T203643
CREATED:20230323T135122Z
LAST-MODIFIED:20230323T135122Z
UID:10000886-1679846400-1679853600@www.gard30.fr
SUMMARY:Loto à Quissac
DESCRIPTION:Dimanche 26 Mars 2023 à 16 h :\n• 3500€ de lots\n• 5 cartons pleins\n• 1 machine pâtissier\n• 1 trottinette électrique\n• 1 bon achat 150€ + carburant 150€\n• 15 quines + 1 enfant/ado :\ncorbeilles garnies\, bons d’achats\, jambon\, rosette\, bon restaurants\, bon carburant\, vins\, soins\, entrée parc\, coffret cadeau\, enceinte Bluetooth\, jouets…\n• tombola avec de nomreux lots 100% gagnante :\nBons alimentaires\, restaurant\, entrée acrobranche\, paintball et autres cadeaux…\n• enveloppe 2€\n• buvette / snack\n• 1 cartons 2€ / 7 cartons 10€ / 15 cartons 20 €\n• Foyer Communal Quissac – parking gratuit champ de foire\n• Ouverture des portes à 15h début des jeux à 16h
URL:https://www.gard30.fr/agenda/loto-a-quissac-15/
LOCATION:Foyer Municipal Désiré Rousset Quissac\, Avenue du Onze Novembre\, Quissac\, Gard\, 30260\, France
CATEGORIES:Loto
ATTACH;FMTTYPE=image/jpeg:https://www.gard30.fr/wp-content/uploads/2023/03/IMG-7896.jpg
GEO:43.9101808;4.0013105
X-APPLE-STRUCTURED-LOCATION;VALUE=URI;X-ADDRESS=Foyer Municipal Désiré Rousset Quissac Avenue du Onze Novembre Quissac Gard 30260 France;X-APPLE-RADIUS=500;X-TITLE=Avenue du Onze Novembre:geo:4.0013105,43.9101808
END:VEVENT
BEGIN:VEVENT
DTSTART;TZID=Europe/Paris:20230319T160000
DTEND;TZID=Europe/Paris:20230319T185900
DTSTAMP:20260425T203643
CREATED:20230102T155302Z
LAST-MODIFIED:20230306T094554Z
UID:10000643-1679241600-1679252340@www.gard30.fr
SUMMARY:Loto à Quissac
DESCRIPTION:Organisé par l’AQTT
URL:https://www.gard30.fr/agenda/loto-a-quissac-10/
LOCATION:Foyer Municipal Désiré Rousset Quissac\, Avenue du Onze Novembre\, Quissac\, Gard\, 30260\, France
CATEGORIES:Loto
ATTACH;FMTTYPE=image/jpeg:https://www.gard30.fr/wp-content/uploads/2023/01/quissac-1.jpg
GEO:43.9101808;4.0013105
X-APPLE-STRUCTURED-LOCATION;VALUE=URI;X-ADDRESS=Foyer Municipal Désiré Rousset Quissac Avenue du Onze Novembre Quissac Gard 30260 France;X-APPLE-RADIUS=500;X-TITLE=Avenue du Onze Novembre:geo:4.0013105,43.9101808
END:VEVENT
BEGIN:VEVENT
DTSTART;TZID=Europe/Paris:20230312T160000
DTEND;TZID=Europe/Paris:20230312T185900
DTSTAMP:20260425T203643
CREATED:20230102T155247Z
LAST-MODIFIED:20230102T155247Z
UID:10000642-1678636800-1678647540@www.gard30.fr
SUMMARY:Loto à Quissac
DESCRIPTION:Organisé par le Rugby Piemont Cevenol
URL:https://www.gard30.fr/agenda/loto-a-quissac-9/
LOCATION:Foyer Municipal Désiré Rousset Quissac\, Avenue du Onze Novembre\, Quissac\, Gard\, 30260\, France
CATEGORIES:Loto
ATTACH;FMTTYPE=image/png:https://www.gard30.fr/wp-content/uploads/2023/01/quissac-2.png
GEO:43.9101808;4.0013105
X-APPLE-STRUCTURED-LOCATION;VALUE=URI;X-ADDRESS=Foyer Municipal Désiré Rousset Quissac Avenue du Onze Novembre Quissac Gard 30260 France;X-APPLE-RADIUS=500;X-TITLE=Avenue du Onze Novembre:geo:4.0013105,43.9101808
END:VEVENT
BEGIN:VEVENT
DTSTART;TZID=Europe/Paris:20230305T160000
DTEND;TZID=Europe/Paris:20230305T185900
DTSTAMP:20260425T203643
CREATED:20230102T155227Z
LAST-MODIFIED:20230102T155227Z
UID:10000641-1678032000-1678042740@www.gard30.fr
SUMMARY:Loto à Quissac
DESCRIPTION:Organisé par la société de peche Haut Vidourle
URL:https://www.gard30.fr/agenda/loto-a-quissac-8/
LOCATION:Foyer Municipal Désiré Rousset Quissac\, Avenue du Onze Novembre\, Quissac\, Gard\, 30260\, France
CATEGORIES:Loto
ATTACH;FMTTYPE=image/png:https://www.gard30.fr/wp-content/uploads/2023/01/quissac-2.png
GEO:43.9101808;4.0013105
X-APPLE-STRUCTURED-LOCATION;VALUE=URI;X-ADDRESS=Foyer Municipal Désiré Rousset Quissac Avenue du Onze Novembre Quissac Gard 30260 France;X-APPLE-RADIUS=500;X-TITLE=Avenue du Onze Novembre:geo:4.0013105,43.9101808
END:VEVENT
BEGIN:VEVENT
DTSTART;TZID=Europe/Paris:20230226T160000
DTEND;TZID=Europe/Paris:20230226T185900
DTSTAMP:20260425T203643
CREATED:20230102T155156Z
LAST-MODIFIED:20230102T155156Z
UID:10000640-1677427200-1677437940@www.gard30.fr
SUMMARY:Loto à Quissac
DESCRIPTION:Organisé par les anciens jeunes
URL:https://www.gard30.fr/agenda/loto-a-quissac-7/
LOCATION:Foyer Municipal Désiré Rousset Quissac\, Avenue du Onze Novembre\, Quissac\, Gard\, 30260\, France
CATEGORIES:Loto
ATTACH;FMTTYPE=image/png:https://www.gard30.fr/wp-content/uploads/2023/01/quissac-2.png
GEO:43.9101808;4.0013105
X-APPLE-STRUCTURED-LOCATION;VALUE=URI;X-ADDRESS=Foyer Municipal Désiré Rousset Quissac Avenue du Onze Novembre Quissac Gard 30260 France;X-APPLE-RADIUS=500;X-TITLE=Avenue du Onze Novembre:geo:4.0013105,43.9101808
END:VEVENT
BEGIN:VEVENT
DTSTART;TZID=Europe/Paris:20230219T160000
DTEND;TZID=Europe/Paris:20230219T185900
DTSTAMP:20260425T203643
CREATED:20230102T155138Z
LAST-MODIFIED:20230102T155138Z
UID:10000639-1676822400-1676833140@www.gard30.fr
SUMMARY:Loto à Quissac
DESCRIPTION:Organisé par le Comité des fêtes Viele
URL:https://www.gard30.fr/agenda/loto-a-quissac-6/
LOCATION:Foyer Municipal Désiré Rousset Quissac\, Avenue du Onze Novembre\, Quissac\, Gard\, 30260\, France
CATEGORIES:Loto
ATTACH;FMTTYPE=image/png:https://www.gard30.fr/wp-content/uploads/2023/01/quissac-2.png
GEO:43.9101808;4.0013105
X-APPLE-STRUCTURED-LOCATION;VALUE=URI;X-ADDRESS=Foyer Municipal Désiré Rousset Quissac Avenue du Onze Novembre Quissac Gard 30260 France;X-APPLE-RADIUS=500;X-TITLE=Avenue du Onze Novembre:geo:4.0013105,43.9101808
END:VEVENT
BEGIN:VEVENT
DTSTART;TZID=Europe/Paris:20230212T160000
DTEND;TZID=Europe/Paris:20230212T185900
DTSTAMP:20260425T203643
CREATED:20230102T155122Z
LAST-MODIFIED:20230206T080224Z
UID:10000638-1676217600-1676228340@www.gard30.fr
SUMMARY:Loto à Quissac
DESCRIPTION:Organisé par le Gallia Club\n2euros le carton\, 10e les 7\, 20e les 15\n21 parties
URL:https://www.gard30.fr/agenda/loto-a-quissac-5/
LOCATION:Foyer Municipal Désiré Rousset Quissac\, Avenue du Onze Novembre\, Quissac\, Gard\, 30260\, France
CATEGORIES:Loto
ATTACH;FMTTYPE=image/jpeg:https://www.gard30.fr/wp-content/uploads/2023/01/IMG-7120.jpg
GEO:43.9101808;4.0013105
X-APPLE-STRUCTURED-LOCATION;VALUE=URI;X-ADDRESS=Foyer Municipal Désiré Rousset Quissac Avenue du Onze Novembre Quissac Gard 30260 France;X-APPLE-RADIUS=500;X-TITLE=Avenue du Onze Novembre:geo:4.0013105,43.9101808
END:VEVENT
BEGIN:VEVENT
DTSTART;TZID=Europe/Paris:20230205T160000
DTEND;TZID=Europe/Paris:20230205T185900
DTSTAMP:20260425T203643
CREATED:20230102T155108Z
LAST-MODIFIED:20230123T154600Z
UID:10000637-1675612800-1675623540@www.gard30.fr
SUMMARY:Loto à Quissac
DESCRIPTION:Organisé par “dans les pas de mael”
URL:https://www.gard30.fr/agenda/loto-a-quissac-4/
LOCATION:Foyer Municipal Désiré Rousset Quissac\, Avenue du Onze Novembre\, Quissac\, Gard\, 30260\, France
CATEGORIES:Loto
ATTACH;FMTTYPE=image/jpeg:https://www.gard30.fr/wp-content/uploads/2023/01/IMG-6872.jpg
GEO:43.9101808;4.0013105
X-APPLE-STRUCTURED-LOCATION;VALUE=URI;X-ADDRESS=Foyer Municipal Désiré Rousset Quissac Avenue du Onze Novembre Quissac Gard 30260 France;X-APPLE-RADIUS=500;X-TITLE=Avenue du Onze Novembre:geo:4.0013105,43.9101808
END:VEVENT
BEGIN:VEVENT
DTSTART;TZID=Europe/Paris:20230205T143000
DTEND;TZID=Europe/Paris:20230205T173000
DTSTAMP:20260425T203643
CREATED:20230123T154441Z
LAST-MODIFIED:20230123T154441Z
UID:10000742-1675607400-1675618200@www.gard30.fr
SUMMARY:Loto à Ponteils
DESCRIPTION:4 cartons pleins 28 quines
URL:https://www.gard30.fr/agenda/loto-a-ponteils/
LOCATION:Foyer Municipal Désiré Rousset Quissac\, Avenue du Onze Novembre\, Quissac\, Gard\, 30260\, France
CATEGORIES:Loto
ATTACH;FMTTYPE=image/jpeg:https://www.gard30.fr/wp-content/uploads/2023/01/IMG-6856.jpg
GEO:43.9101808;4.0013105
X-APPLE-STRUCTURED-LOCATION;VALUE=URI;X-ADDRESS=Foyer Municipal Désiré Rousset Quissac Avenue du Onze Novembre Quissac Gard 30260 France;X-APPLE-RADIUS=500;X-TITLE=Avenue du Onze Novembre:geo:4.0013105,43.9101808
END:VEVENT
BEGIN:VEVENT
DTSTART;TZID=Europe/Paris:20230122T160000
DTEND;TZID=Europe/Paris:20230122T185900
DTSTAMP:20260425T203643
CREATED:20230102T155052Z
LAST-MODIFIED:20230102T155052Z
UID:10000636-1674403200-1674413940@www.gard30.fr
SUMMARY:Loto à Quissac
DESCRIPTION:Organisé par l’école de musique
URL:https://www.gard30.fr/agenda/loto-a-quissac-3/
LOCATION:Foyer Municipal Désiré Rousset Quissac\, Avenue du Onze Novembre\, Quissac\, Gard\, 30260\, France
CATEGORIES:Loto
ATTACH;FMTTYPE=image/png:https://www.gard30.fr/wp-content/uploads/2023/01/quissac-2.png
GEO:43.9101808;4.0013105
X-APPLE-STRUCTURED-LOCATION;VALUE=URI;X-ADDRESS=Foyer Municipal Désiré Rousset Quissac Avenue du Onze Novembre Quissac Gard 30260 France;X-APPLE-RADIUS=500;X-TITLE=Avenue du Onze Novembre:geo:4.0013105,43.9101808
END:VEVENT
BEGIN:VEVENT
DTSTART;TZID=Europe/Paris:20230115T160000
DTEND;TZID=Europe/Paris:20230115T185900
DTSTAMP:20260425T203643
CREATED:20230102T155038Z
LAST-MODIFIED:20230102T155038Z
UID:10000635-1673798400-1673809140@www.gard30.fr
SUMMARY:Loto à Quissac
DESCRIPTION:Organisé par l’APE Jean Auzilhon
URL:https://www.gard30.fr/agenda/loto-a-quissac-2/
LOCATION:Foyer Municipal Désiré Rousset Quissac\, Avenue du Onze Novembre\, Quissac\, Gard\, 30260\, France
CATEGORIES:Loto
ATTACH;FMTTYPE=image/png:https://www.gard30.fr/wp-content/uploads/2023/01/quissac-2.png
GEO:43.9101808;4.0013105
X-APPLE-STRUCTURED-LOCATION;VALUE=URI;X-ADDRESS=Foyer Municipal Désiré Rousset Quissac Avenue du Onze Novembre Quissac Gard 30260 France;X-APPLE-RADIUS=500;X-TITLE=Avenue du Onze Novembre:geo:4.0013105,43.9101808
END:VEVENT
BEGIN:VEVENT
DTSTART;TZID=Europe/Paris:20230108T160000
DTEND;TZID=Europe/Paris:20230108T185900
DTSTAMP:20260425T203643
CREATED:20230102T154858Z
LAST-MODIFIED:20230106T091107Z
UID:10000634-1673193600-1673204340@www.gard30.fr
SUMMARY:Loto à Quissac
DESCRIPTION:Mega Loto\nAu foyer communal à 16h\nPar l’amicale quissacoise de loisirs et voyages (ex mi sponsa italis)\n2€ le carton 10€ les 7 20€ les 15\n\nLots : \n\n1 Vovage à L’Estartit Génération Tubes 2pers. 4Jrs Pension Complète hôtel 3*** avec boissons et excursions Valeur 538 €\n3 Bons d’achat de 60 Euros\n1 Bon repas pour 2 Pers au «Chêne blane » à Logrian-Florian\n1 Bon cadeau à 1’Aéroclub d’Alès – Deaux – Balade aérienne pour trois_ personnes.\n5 Poteries d’Anduze garnies de Produits alimentaires\n1 Enceinte bluetooth JBL\n1 Journée au Domaine des Mylords pour\n 2 pers avec repas et spectacle Valeur 150 E\n1 Montre connectée xiaomi redmi watch\n1 Bon cadeau de 60 € chez Prim’Fruits de Quissac\n1 Bracelet +1 Collier Argent Valeur 180 €\n2 Jambons – 2 Rosettes + Vin – 1 Consolante\nEnveloppes Surprises (25 Petits lots 25 jeux à gratter)\nDans toutes les enveloppes en + I carton et 1 billet de loterie\n2€ Le Carton 10 € les 7 Cartons – 20 € les 15 Cartons\n\nSalle Chauffée – Buvette Loterie – Pâtisserie – Parking
URL:https://www.gard30.fr/agenda/loto-a-quissac/
LOCATION:Foyer Municipal Désiré Rousset Quissac\, Avenue du Onze Novembre\, Quissac\, Gard\, 30260\, France
CATEGORIES:Loto
ATTACH;FMTTYPE=image/jpeg:https://www.gard30.fr/wp-content/uploads/2023/01/quissac.jpg
GEO:43.9101808;4.0013105
X-APPLE-STRUCTURED-LOCATION;VALUE=URI;X-ADDRESS=Foyer Municipal Désiré Rousset Quissac Avenue du Onze Novembre Quissac Gard 30260 France;X-APPLE-RADIUS=500;X-TITLE=Avenue du Onze Novembre:geo:4.0013105,43.9101808
END:VEVENT
END:VCALENDAR