BEGIN:VCALENDAR
VERSION:2.0
PRODID:-//Gard 30 - ECPv6.15.20//NONSGML v1.0//EN
CALSCALE:GREGORIAN
METHOD:PUBLISH
X-WR-CALNAME:Gard 30
X-ORIGINAL-URL:https://www.gard30.fr
X-WR-CALDESC:Évènements pour Gard 30
REFRESH-INTERVAL;VALUE=DURATION:PT1H
X-Robots-Tag:noindex
X-PUBLISHED-TTL:PT1H
BEGIN:VTIMEZONE
TZID:Europe/Paris
BEGIN:DAYLIGHT
TZOFFSETFROM:+0100
TZOFFSETTO:+0200
TZNAME:CEST
DTSTART:20220327T010000
END:DAYLIGHT
BEGIN:STANDARD
TZOFFSETFROM:+0200
TZOFFSETTO:+0100
TZNAME:CET
DTSTART:20221030T010000
END:STANDARD
BEGIN:DAYLIGHT
TZOFFSETFROM:+0100
TZOFFSETTO:+0200
TZNAME:CEST
DTSTART:20230326T010000
END:DAYLIGHT
BEGIN:STANDARD
TZOFFSETFROM:+0200
TZOFFSETTO:+0100
TZNAME:CET
DTSTART:20231029T010000
END:STANDARD
BEGIN:DAYLIGHT
TZOFFSETFROM:+0100
TZOFFSETTO:+0200
TZNAME:CEST
DTSTART:20240331T010000
END:DAYLIGHT
BEGIN:STANDARD
TZOFFSETFROM:+0200
TZOFFSETTO:+0100
TZNAME:CET
DTSTART:20241027T010000
END:STANDARD
BEGIN:DAYLIGHT
TZOFFSETFROM:+0100
TZOFFSETTO:+0200
TZNAME:CEST
DTSTART:20250330T010000
END:DAYLIGHT
BEGIN:STANDARD
TZOFFSETFROM:+0200
TZOFFSETTO:+0100
TZNAME:CET
DTSTART:20251026T010000
END:STANDARD
BEGIN:DAYLIGHT
TZOFFSETFROM:+0100
TZOFFSETTO:+0200
TZNAME:CEST
DTSTART:20260329T010000
END:DAYLIGHT
BEGIN:STANDARD
TZOFFSETFROM:+0200
TZOFFSETTO:+0100
TZNAME:CET
DTSTART:20261025T010000
END:STANDARD
END:VTIMEZONE
BEGIN:VEVENT
DTSTART;TZID=Europe/Paris:20250309T143000
DTEND;TZID=Europe/Paris:20250309T173000
DTSTAMP:20260425T164706
CREATED:20250128T101425Z
LAST-MODIFIED:20250222T205203Z
UID:10002976-1741530600-1741541400@www.gard30.fr
SUMMARY:Loto à Saint-Bauzely
DESCRIPTION:Loto à Saint-Bauzely lme 9 mars à 14h30 \nOuverture des portes à 13h30 \n\n12 quines\n3 cartons pleins\n1 quine surprise\n1 carton vide adulte\n1 carton vide enfant\nRégalez vous sur place\nA gagner plus de 300€de lots\n1 carton 2€\n10€ les 6\nTombola 2€\nCB/VISA Acceptés\n\nRenseignements : 06.76.49.35.81
URL:https://www.gard30.fr/agenda/loto-a-saint-bauzely-3/
LOCATION:Foyer – Saint-Bauzely\, Place Cave Coopérative\, Saint-Bauzély\, Gard\, 30730\, France
CATEGORIES:Loto
ATTACH;FMTTYPE=image/jpeg:https://www.gard30.fr/wp-content/uploads/2025/01/FE8325A0-127D-4E04-A872-AFCB60A905CB_1_105_c.jpeg
GEO:43.918551;4.197981
X-APPLE-STRUCTURED-LOCATION;VALUE=URI;X-ADDRESS=Foyer – Saint-Bauzely Place Cave Coopérative Saint-Bauzély Gard 30730 France;X-APPLE-RADIUS=500;X-TITLE=Place Cave Coopérative:geo:4.197981,43.918551
END:VEVENT
BEGIN:VEVENT
DTSTART;TZID=Europe/Paris:20241109T190000
DTEND;TZID=Europe/Paris:20241109T220000
DTSTAMP:20260425T164706
CREATED:20241105T185226Z
LAST-MODIFIED:20241105T185226Z
UID:10002090-1731178800-1731189600@www.gard30.fr
SUMMARY:Loto à Saint-Bauzely
DESCRIPTION:Samedi 9 novembre \nLOTO FOYER DE ST-BAUZELY\nOuverture des portes des 18h\nDébut du loto à 19h\n2€ le carton\n10€ les 6 cartons\n400€ en bon d achat\nBillets d’entrée parc familial\nCabas garnis\nEt biens d’autres lots !
URL:https://www.gard30.fr/agenda/loto-a-saint-bauzely-2/
LOCATION:Foyer – Saint-Bauzely\, Place Cave Coopérative\, Saint-Bauzély\, Gard\, 30730\, France
CATEGORIES:Loto
ATTACH;FMTTYPE=image/jpeg:https://www.gard30.fr/wp-content/uploads/2024/11/99344ACC-0877-443A-AB38-6DFDC38E3E2E_1_105_c.jpeg
GEO:43.918551;4.197981
X-APPLE-STRUCTURED-LOCATION;VALUE=URI;X-ADDRESS=Foyer – Saint-Bauzely Place Cave Coopérative Saint-Bauzély Gard 30730 France;X-APPLE-RADIUS=500;X-TITLE=Place Cave Coopérative:geo:4.197981,43.918551
END:VEVENT
BEGIN:VEVENT
DTSTART;TZID=Europe/Paris:20230305T143000
DTEND;TZID=Europe/Paris:20230305T173000
DTSTAMP:20260425T164706
CREATED:20230224T110450Z
LAST-MODIFIED:20230224T110450Z
UID:10000820-1678026600-1678037400@www.gard30.fr
SUMMARY:Loto à Saint-Bauzely
DESCRIPTION:Plus de 3000 e de lots\n2 euros le carton\, 10€ les 6
URL:https://www.gard30.fr/agenda/loto-a-saint-bauzely/
LOCATION:Foyer – Saint-Bauzely\, Place Cave Coopérative\, Saint-Bauzély\, Gard\, 30730\, France
CATEGORIES:Loto
ATTACH;FMTTYPE=image/jpeg:https://www.gard30.fr/wp-content/uploads/2023/02/IMG-7400.jpg
GEO:43.918551;4.197981
X-APPLE-STRUCTURED-LOCATION;VALUE=URI;X-ADDRESS=Foyer – Saint-Bauzely Place Cave Coopérative Saint-Bauzély Gard 30730 France;X-APPLE-RADIUS=500;X-TITLE=Place Cave Coopérative:geo:4.197981,43.918551
END:VEVENT
END:VCALENDAR