BEGIN:VCALENDAR
VERSION:2.0
PRODID:-//Gard 30 - ECPv6.15.20//NONSGML v1.0//EN
CALSCALE:GREGORIAN
METHOD:PUBLISH
X-ORIGINAL-URL:https://www.gard30.fr
X-WR-CALDESC:Évènements pour Gard 30
REFRESH-INTERVAL;VALUE=DURATION:PT1H
X-Robots-Tag:noindex
X-PUBLISHED-TTL:PT1H
BEGIN:VTIMEZONE
TZID:Europe/Paris
BEGIN:DAYLIGHT
TZOFFSETFROM:+0100
TZOFFSETTO:+0200
TZNAME:CEST
DTSTART:20230326T010000
END:DAYLIGHT
BEGIN:STANDARD
TZOFFSETFROM:+0200
TZOFFSETTO:+0100
TZNAME:CET
DTSTART:20231029T010000
END:STANDARD
BEGIN:DAYLIGHT
TZOFFSETFROM:+0100
TZOFFSETTO:+0200
TZNAME:CEST
DTSTART:20240331T010000
END:DAYLIGHT
BEGIN:STANDARD
TZOFFSETFROM:+0200
TZOFFSETTO:+0100
TZNAME:CET
DTSTART:20241027T010000
END:STANDARD
BEGIN:DAYLIGHT
TZOFFSETFROM:+0100
TZOFFSETTO:+0200
TZNAME:CEST
DTSTART:20250330T010000
END:DAYLIGHT
BEGIN:STANDARD
TZOFFSETFROM:+0200
TZOFFSETTO:+0100
TZNAME:CET
DTSTART:20251026T010000
END:STANDARD
BEGIN:DAYLIGHT
TZOFFSETFROM:+0100
TZOFFSETTO:+0200
TZNAME:CEST
DTSTART:20260329T010000
END:DAYLIGHT
BEGIN:STANDARD
TZOFFSETFROM:+0200
TZOFFSETTO:+0100
TZNAME:CET
DTSTART:20261025T010000
END:STANDARD
END:VTIMEZONE
BEGIN:VEVENT
DTSTART;TZID=Europe/Paris:20250330T160000
DTEND;TZID=Europe/Paris:20250330T190000
DTSTAMP:20260421T180059
CREATED:20241119T174659Z
LAST-MODIFIED:20241124T205053Z
UID:10002393-1743350400-1743361200@www.gard30.fr
SUMMARY:Loto à la Grand Combe
DESCRIPTION:Tous les dimanches à 16 heures du 24 novembre 2024 au 30 mars 2025\nTarif : 6 euros par tranches de 3 cartons\n10 parties : 7 parties de 5 quines + 3 parties de 1 quine et un carton plein\nune partie gratuite supplémentaire\, le train de plaisir\, de 5 quines\nlots : nourriture et bouteilles spiritueux. Pour les cartons pleins nous proposons aussi des éléments pour la maison : déco\, linge de maison\,…
URL:https://www.gard30.fr/agenda/loto-a-la-grand-combe-2/2025-03-30/
LOCATION:Les joyeux mineurs – La Grand Combe\, Rue du Gouffre\, La Grand-Combe\, Gard\, 30110\, France
CATEGORIES:Loto
ATTACH;FMTTYPE=image/jpeg:https://www.gard30.fr/wp-content/uploads/2024/11/IMG_7735.jpeg
ORGANIZER;CN="Les joyeux mineurs - La Grand Combe":MAILTO:ass-les-joyeux-mineurs@orange.fr
GEO:44.2150995;4.0220433
X-APPLE-STRUCTURED-LOCATION;VALUE=URI;X-ADDRESS=Les joyeux mineurs – La Grand Combe Rue du Gouffre La Grand-Combe Gard 30110 France;X-APPLE-RADIUS=500;X-TITLE=Rue du Gouffre:geo:4.0220433,44.2150995
END:VEVENT
BEGIN:VEVENT
DTSTART;TZID=Europe/Paris:20250323T160000
DTEND;TZID=Europe/Paris:20250323T190000
DTSTAMP:20260421T180059
CREATED:20241119T174659Z
LAST-MODIFIED:20241124T205053Z
UID:10002392-1742745600-1742756400@www.gard30.fr
SUMMARY:Loto à la Grand Combe
DESCRIPTION:Tous les dimanches à 16 heures du 24 novembre 2024 au 30 mars 2025\nTarif : 6 euros par tranches de 3 cartons\n10 parties : 7 parties de 5 quines + 3 parties de 1 quine et un carton plein\nune partie gratuite supplémentaire\, le train de plaisir\, de 5 quines\nlots : nourriture et bouteilles spiritueux. Pour les cartons pleins nous proposons aussi des éléments pour la maison : déco\, linge de maison\,…
URL:https://www.gard30.fr/agenda/loto-a-la-grand-combe-2/2025-03-23/
LOCATION:Les joyeux mineurs – La Grand Combe\, Rue du Gouffre\, La Grand-Combe\, Gard\, 30110\, France
CATEGORIES:Loto
ATTACH;FMTTYPE=image/jpeg:https://www.gard30.fr/wp-content/uploads/2024/11/IMG_7735.jpeg
ORGANIZER;CN="Les joyeux mineurs - La Grand Combe":MAILTO:ass-les-joyeux-mineurs@orange.fr
GEO:44.2150995;4.0220433
X-APPLE-STRUCTURED-LOCATION;VALUE=URI;X-ADDRESS=Les joyeux mineurs – La Grand Combe Rue du Gouffre La Grand-Combe Gard 30110 France;X-APPLE-RADIUS=500;X-TITLE=Rue du Gouffre:geo:4.0220433,44.2150995
END:VEVENT
BEGIN:VEVENT
DTSTART;TZID=Europe/Paris:20250316T160000
DTEND;TZID=Europe/Paris:20250316T190000
DTSTAMP:20260421T180059
CREATED:20241119T174659Z
LAST-MODIFIED:20241124T205053Z
UID:10002391-1742140800-1742151600@www.gard30.fr
SUMMARY:Loto à la Grand Combe
DESCRIPTION:Tous les dimanches à 16 heures du 24 novembre 2024 au 30 mars 2025\nTarif : 6 euros par tranches de 3 cartons\n10 parties : 7 parties de 5 quines + 3 parties de 1 quine et un carton plein\nune partie gratuite supplémentaire\, le train de plaisir\, de 5 quines\nlots : nourriture et bouteilles spiritueux. Pour les cartons pleins nous proposons aussi des éléments pour la maison : déco\, linge de maison\,…
URL:https://www.gard30.fr/agenda/loto-a-la-grand-combe-2/2025-03-16/
LOCATION:Les joyeux mineurs – La Grand Combe\, Rue du Gouffre\, La Grand-Combe\, Gard\, 30110\, France
CATEGORIES:Loto
ATTACH;FMTTYPE=image/jpeg:https://www.gard30.fr/wp-content/uploads/2024/11/IMG_7735.jpeg
ORGANIZER;CN="Les joyeux mineurs - La Grand Combe":MAILTO:ass-les-joyeux-mineurs@orange.fr
GEO:44.2150995;4.0220433
X-APPLE-STRUCTURED-LOCATION;VALUE=URI;X-ADDRESS=Les joyeux mineurs – La Grand Combe Rue du Gouffre La Grand-Combe Gard 30110 France;X-APPLE-RADIUS=500;X-TITLE=Rue du Gouffre:geo:4.0220433,44.2150995
END:VEVENT
BEGIN:VEVENT
DTSTART;TZID=Europe/Paris:20250309T160000
DTEND;TZID=Europe/Paris:20250309T190000
DTSTAMP:20260421T180059
CREATED:20241119T174659Z
LAST-MODIFIED:20241124T205053Z
UID:10002390-1741536000-1741546800@www.gard30.fr
SUMMARY:Loto à la Grand Combe
DESCRIPTION:Tous les dimanches à 16 heures du 24 novembre 2024 au 30 mars 2025\nTarif : 6 euros par tranches de 3 cartons\n10 parties : 7 parties de 5 quines + 3 parties de 1 quine et un carton plein\nune partie gratuite supplémentaire\, le train de plaisir\, de 5 quines\nlots : nourriture et bouteilles spiritueux. Pour les cartons pleins nous proposons aussi des éléments pour la maison : déco\, linge de maison\,…
URL:https://www.gard30.fr/agenda/loto-a-la-grand-combe-2/2025-03-09/
LOCATION:Les joyeux mineurs – La Grand Combe\, Rue du Gouffre\, La Grand-Combe\, Gard\, 30110\, France
CATEGORIES:Loto
ATTACH;FMTTYPE=image/jpeg:https://www.gard30.fr/wp-content/uploads/2024/11/IMG_7735.jpeg
ORGANIZER;CN="Les joyeux mineurs - La Grand Combe":MAILTO:ass-les-joyeux-mineurs@orange.fr
GEO:44.2150995;4.0220433
X-APPLE-STRUCTURED-LOCATION;VALUE=URI;X-ADDRESS=Les joyeux mineurs – La Grand Combe Rue du Gouffre La Grand-Combe Gard 30110 France;X-APPLE-RADIUS=500;X-TITLE=Rue du Gouffre:geo:4.0220433,44.2150995
END:VEVENT
BEGIN:VEVENT
DTSTART;TZID=Europe/Paris:20250302T160000
DTEND;TZID=Europe/Paris:20250302T190000
DTSTAMP:20260421T180059
CREATED:20241119T174659Z
LAST-MODIFIED:20241124T205053Z
UID:10002389-1740931200-1740942000@www.gard30.fr
SUMMARY:Loto à la Grand Combe
DESCRIPTION:Tous les dimanches à 16 heures du 24 novembre 2024 au 30 mars 2025\nTarif : 6 euros par tranches de 3 cartons\n10 parties : 7 parties de 5 quines + 3 parties de 1 quine et un carton plein\nune partie gratuite supplémentaire\, le train de plaisir\, de 5 quines\nlots : nourriture et bouteilles spiritueux. Pour les cartons pleins nous proposons aussi des éléments pour la maison : déco\, linge de maison\,…
URL:https://www.gard30.fr/agenda/loto-a-la-grand-combe-2/2025-03-02/
LOCATION:Les joyeux mineurs – La Grand Combe\, Rue du Gouffre\, La Grand-Combe\, Gard\, 30110\, France
CATEGORIES:Loto
ATTACH;FMTTYPE=image/jpeg:https://www.gard30.fr/wp-content/uploads/2024/11/IMG_7735.jpeg
ORGANIZER;CN="Les joyeux mineurs - La Grand Combe":MAILTO:ass-les-joyeux-mineurs@orange.fr
GEO:44.2150995;4.0220433
X-APPLE-STRUCTURED-LOCATION;VALUE=URI;X-ADDRESS=Les joyeux mineurs – La Grand Combe Rue du Gouffre La Grand-Combe Gard 30110 France;X-APPLE-RADIUS=500;X-TITLE=Rue du Gouffre:geo:4.0220433,44.2150995
END:VEVENT
BEGIN:VEVENT
DTSTART;TZID=Europe/Paris:20250223T160000
DTEND;TZID=Europe/Paris:20250223T190000
DTSTAMP:20260421T180059
CREATED:20241119T174659Z
LAST-MODIFIED:20241124T205053Z
UID:10002388-1740326400-1740337200@www.gard30.fr
SUMMARY:Loto à la Grand Combe
DESCRIPTION:Tous les dimanches à 16 heures du 24 novembre 2024 au 30 mars 2025\nTarif : 6 euros par tranches de 3 cartons\n10 parties : 7 parties de 5 quines + 3 parties de 1 quine et un carton plein\nune partie gratuite supplémentaire\, le train de plaisir\, de 5 quines\nlots : nourriture et bouteilles spiritueux. Pour les cartons pleins nous proposons aussi des éléments pour la maison : déco\, linge de maison\,…
URL:https://www.gard30.fr/agenda/loto-a-la-grand-combe-2/2025-02-23/
LOCATION:Les joyeux mineurs – La Grand Combe\, Rue du Gouffre\, La Grand-Combe\, Gard\, 30110\, France
CATEGORIES:Loto
ATTACH;FMTTYPE=image/jpeg:https://www.gard30.fr/wp-content/uploads/2024/11/IMG_7735.jpeg
ORGANIZER;CN="Les joyeux mineurs - La Grand Combe":MAILTO:ass-les-joyeux-mineurs@orange.fr
GEO:44.2150995;4.0220433
X-APPLE-STRUCTURED-LOCATION;VALUE=URI;X-ADDRESS=Les joyeux mineurs – La Grand Combe Rue du Gouffre La Grand-Combe Gard 30110 France;X-APPLE-RADIUS=500;X-TITLE=Rue du Gouffre:geo:4.0220433,44.2150995
END:VEVENT
BEGIN:VEVENT
DTSTART;TZID=Europe/Paris:20250216T160000
DTEND;TZID=Europe/Paris:20250216T190000
DTSTAMP:20260421T180059
CREATED:20241119T174659Z
LAST-MODIFIED:20241124T205053Z
UID:10002387-1739721600-1739732400@www.gard30.fr
SUMMARY:Loto à la Grand Combe
DESCRIPTION:Tous les dimanches à 16 heures du 24 novembre 2024 au 30 mars 2025\nTarif : 6 euros par tranches de 3 cartons\n10 parties : 7 parties de 5 quines + 3 parties de 1 quine et un carton plein\nune partie gratuite supplémentaire\, le train de plaisir\, de 5 quines\nlots : nourriture et bouteilles spiritueux. Pour les cartons pleins nous proposons aussi des éléments pour la maison : déco\, linge de maison\,…
URL:https://www.gard30.fr/agenda/loto-a-la-grand-combe-2/2025-02-16/
LOCATION:Les joyeux mineurs – La Grand Combe\, Rue du Gouffre\, La Grand-Combe\, Gard\, 30110\, France
CATEGORIES:Loto
ATTACH;FMTTYPE=image/jpeg:https://www.gard30.fr/wp-content/uploads/2024/11/IMG_7735.jpeg
ORGANIZER;CN="Les joyeux mineurs - La Grand Combe":MAILTO:ass-les-joyeux-mineurs@orange.fr
GEO:44.2150995;4.0220433
X-APPLE-STRUCTURED-LOCATION;VALUE=URI;X-ADDRESS=Les joyeux mineurs – La Grand Combe Rue du Gouffre La Grand-Combe Gard 30110 France;X-APPLE-RADIUS=500;X-TITLE=Rue du Gouffre:geo:4.0220433,44.2150995
END:VEVENT
BEGIN:VEVENT
DTSTART;TZID=Europe/Paris:20250209T160000
DTEND;TZID=Europe/Paris:20250209T190000
DTSTAMP:20260421T180059
CREATED:20241119T174659Z
LAST-MODIFIED:20241124T205053Z
UID:10002386-1739116800-1739127600@www.gard30.fr
SUMMARY:Loto à la Grand Combe
DESCRIPTION:Tous les dimanches à 16 heures du 24 novembre 2024 au 30 mars 2025\nTarif : 6 euros par tranches de 3 cartons\n10 parties : 7 parties de 5 quines + 3 parties de 1 quine et un carton plein\nune partie gratuite supplémentaire\, le train de plaisir\, de 5 quines\nlots : nourriture et bouteilles spiritueux. Pour les cartons pleins nous proposons aussi des éléments pour la maison : déco\, linge de maison\,…
URL:https://www.gard30.fr/agenda/loto-a-la-grand-combe-2/2025-02-09/
LOCATION:Les joyeux mineurs – La Grand Combe\, Rue du Gouffre\, La Grand-Combe\, Gard\, 30110\, France
CATEGORIES:Loto
ATTACH;FMTTYPE=image/jpeg:https://www.gard30.fr/wp-content/uploads/2024/11/IMG_7735.jpeg
ORGANIZER;CN="Les joyeux mineurs - La Grand Combe":MAILTO:ass-les-joyeux-mineurs@orange.fr
GEO:44.2150995;4.0220433
X-APPLE-STRUCTURED-LOCATION;VALUE=URI;X-ADDRESS=Les joyeux mineurs – La Grand Combe Rue du Gouffre La Grand-Combe Gard 30110 France;X-APPLE-RADIUS=500;X-TITLE=Rue du Gouffre:geo:4.0220433,44.2150995
END:VEVENT
BEGIN:VEVENT
DTSTART;TZID=Europe/Paris:20250202T160000
DTEND;TZID=Europe/Paris:20250202T190000
DTSTAMP:20260421T180059
CREATED:20241119T174659Z
LAST-MODIFIED:20241124T205053Z
UID:10002385-1738512000-1738522800@www.gard30.fr
SUMMARY:Loto à la Grand Combe
DESCRIPTION:Tous les dimanches à 16 heures du 24 novembre 2024 au 30 mars 2025\nTarif : 6 euros par tranches de 3 cartons\n10 parties : 7 parties de 5 quines + 3 parties de 1 quine et un carton plein\nune partie gratuite supplémentaire\, le train de plaisir\, de 5 quines\nlots : nourriture et bouteilles spiritueux. Pour les cartons pleins nous proposons aussi des éléments pour la maison : déco\, linge de maison\,…
URL:https://www.gard30.fr/agenda/loto-a-la-grand-combe-2/2025-02-02/
LOCATION:Les joyeux mineurs – La Grand Combe\, Rue du Gouffre\, La Grand-Combe\, Gard\, 30110\, France
CATEGORIES:Loto
ATTACH;FMTTYPE=image/jpeg:https://www.gard30.fr/wp-content/uploads/2024/11/IMG_7735.jpeg
ORGANIZER;CN="Les joyeux mineurs - La Grand Combe":MAILTO:ass-les-joyeux-mineurs@orange.fr
GEO:44.2150995;4.0220433
X-APPLE-STRUCTURED-LOCATION;VALUE=URI;X-ADDRESS=Les joyeux mineurs – La Grand Combe Rue du Gouffre La Grand-Combe Gard 30110 France;X-APPLE-RADIUS=500;X-TITLE=Rue du Gouffre:geo:4.0220433,44.2150995
END:VEVENT
BEGIN:VEVENT
DTSTART;TZID=Europe/Paris:20250126T160000
DTEND;TZID=Europe/Paris:20250126T190000
DTSTAMP:20260421T180059
CREATED:20241119T174659Z
LAST-MODIFIED:20241124T205053Z
UID:10002384-1737907200-1737918000@www.gard30.fr
SUMMARY:Loto à la Grand Combe
DESCRIPTION:Tous les dimanches à 16 heures du 24 novembre 2024 au 30 mars 2025\nTarif : 6 euros par tranches de 3 cartons\n10 parties : 7 parties de 5 quines + 3 parties de 1 quine et un carton plein\nune partie gratuite supplémentaire\, le train de plaisir\, de 5 quines\nlots : nourriture et bouteilles spiritueux. Pour les cartons pleins nous proposons aussi des éléments pour la maison : déco\, linge de maison\,…
URL:https://www.gard30.fr/agenda/loto-a-la-grand-combe-2/2025-01-26/
LOCATION:Les joyeux mineurs – La Grand Combe\, Rue du Gouffre\, La Grand-Combe\, Gard\, 30110\, France
CATEGORIES:Loto
ATTACH;FMTTYPE=image/jpeg:https://www.gard30.fr/wp-content/uploads/2024/11/IMG_7735.jpeg
ORGANIZER;CN="Les joyeux mineurs - La Grand Combe":MAILTO:ass-les-joyeux-mineurs@orange.fr
GEO:44.2150995;4.0220433
X-APPLE-STRUCTURED-LOCATION;VALUE=URI;X-ADDRESS=Les joyeux mineurs – La Grand Combe Rue du Gouffre La Grand-Combe Gard 30110 France;X-APPLE-RADIUS=500;X-TITLE=Rue du Gouffre:geo:4.0220433,44.2150995
END:VEVENT
BEGIN:VEVENT
DTSTART;TZID=Europe/Paris:20250119T160000
DTEND;TZID=Europe/Paris:20250119T190000
DTSTAMP:20260421T180059
CREATED:20241119T174659Z
LAST-MODIFIED:20241124T205053Z
UID:10002383-1737302400-1737313200@www.gard30.fr
SUMMARY:Loto à la Grand Combe
DESCRIPTION:Tous les dimanches à 16 heures du 24 novembre 2024 au 30 mars 2025\nTarif : 6 euros par tranches de 3 cartons\n10 parties : 7 parties de 5 quines + 3 parties de 1 quine et un carton plein\nune partie gratuite supplémentaire\, le train de plaisir\, de 5 quines\nlots : nourriture et bouteilles spiritueux. Pour les cartons pleins nous proposons aussi des éléments pour la maison : déco\, linge de maison\,…
URL:https://www.gard30.fr/agenda/loto-a-la-grand-combe-2/2025-01-19/
LOCATION:Les joyeux mineurs – La Grand Combe\, Rue du Gouffre\, La Grand-Combe\, Gard\, 30110\, France
CATEGORIES:Loto
ATTACH;FMTTYPE=image/jpeg:https://www.gard30.fr/wp-content/uploads/2024/11/IMG_7735.jpeg
ORGANIZER;CN="Les joyeux mineurs - La Grand Combe":MAILTO:ass-les-joyeux-mineurs@orange.fr
GEO:44.2150995;4.0220433
X-APPLE-STRUCTURED-LOCATION;VALUE=URI;X-ADDRESS=Les joyeux mineurs – La Grand Combe Rue du Gouffre La Grand-Combe Gard 30110 France;X-APPLE-RADIUS=500;X-TITLE=Rue du Gouffre:geo:4.0220433,44.2150995
END:VEVENT
BEGIN:VEVENT
DTSTART;TZID=Europe/Paris:20250112T160000
DTEND;TZID=Europe/Paris:20250112T190000
DTSTAMP:20260421T180059
CREATED:20241119T174659Z
LAST-MODIFIED:20241124T205053Z
UID:10002382-1736697600-1736708400@www.gard30.fr
SUMMARY:Loto à la Grand Combe
DESCRIPTION:Tous les dimanches à 16 heures du 24 novembre 2024 au 30 mars 2025\nTarif : 6 euros par tranches de 3 cartons\n10 parties : 7 parties de 5 quines + 3 parties de 1 quine et un carton plein\nune partie gratuite supplémentaire\, le train de plaisir\, de 5 quines\nlots : nourriture et bouteilles spiritueux. Pour les cartons pleins nous proposons aussi des éléments pour la maison : déco\, linge de maison\,…
URL:https://www.gard30.fr/agenda/loto-a-la-grand-combe-2/2025-01-12/
LOCATION:Les joyeux mineurs – La Grand Combe\, Rue du Gouffre\, La Grand-Combe\, Gard\, 30110\, France
CATEGORIES:Loto
ATTACH;FMTTYPE=image/jpeg:https://www.gard30.fr/wp-content/uploads/2024/11/IMG_7735.jpeg
ORGANIZER;CN="Les joyeux mineurs - La Grand Combe":MAILTO:ass-les-joyeux-mineurs@orange.fr
GEO:44.2150995;4.0220433
X-APPLE-STRUCTURED-LOCATION;VALUE=URI;X-ADDRESS=Les joyeux mineurs – La Grand Combe Rue du Gouffre La Grand-Combe Gard 30110 France;X-APPLE-RADIUS=500;X-TITLE=Rue du Gouffre:geo:4.0220433,44.2150995
END:VEVENT
BEGIN:VEVENT
DTSTART;TZID=Europe/Paris:20250105T160000
DTEND;TZID=Europe/Paris:20250105T190000
DTSTAMP:20260421T180059
CREATED:20241119T174659Z
LAST-MODIFIED:20241124T205053Z
UID:10002381-1736092800-1736103600@www.gard30.fr
SUMMARY:Loto à la Grand Combe
DESCRIPTION:Tous les dimanches à 16 heures du 24 novembre 2024 au 30 mars 2025\nTarif : 6 euros par tranches de 3 cartons\n10 parties : 7 parties de 5 quines + 3 parties de 1 quine et un carton plein\nune partie gratuite supplémentaire\, le train de plaisir\, de 5 quines\nlots : nourriture et bouteilles spiritueux. Pour les cartons pleins nous proposons aussi des éléments pour la maison : déco\, linge de maison\,…
URL:https://www.gard30.fr/agenda/loto-a-la-grand-combe-2/2025-01-05/
LOCATION:Les joyeux mineurs – La Grand Combe\, Rue du Gouffre\, La Grand-Combe\, Gard\, 30110\, France
CATEGORIES:Loto
ATTACH;FMTTYPE=image/jpeg:https://www.gard30.fr/wp-content/uploads/2024/11/IMG_7735.jpeg
ORGANIZER;CN="Les joyeux mineurs - La Grand Combe":MAILTO:ass-les-joyeux-mineurs@orange.fr
GEO:44.2150995;4.0220433
X-APPLE-STRUCTURED-LOCATION;VALUE=URI;X-ADDRESS=Les joyeux mineurs – La Grand Combe Rue du Gouffre La Grand-Combe Gard 30110 France;X-APPLE-RADIUS=500;X-TITLE=Rue du Gouffre:geo:4.0220433,44.2150995
END:VEVENT
BEGIN:VEVENT
DTSTART;TZID=Europe/Paris:20241229T160000
DTEND;TZID=Europe/Paris:20241229T190000
DTSTAMP:20260421T180059
CREATED:20241119T174659Z
LAST-MODIFIED:20241124T205053Z
UID:10002380-1735488000-1735498800@www.gard30.fr
SUMMARY:Loto à la Grand Combe
DESCRIPTION:Tous les dimanches à 16 heures du 24 novembre 2024 au 30 mars 2025\nTarif : 6 euros par tranches de 3 cartons\n10 parties : 7 parties de 5 quines + 3 parties de 1 quine et un carton plein\nune partie gratuite supplémentaire\, le train de plaisir\, de 5 quines\nlots : nourriture et bouteilles spiritueux. Pour les cartons pleins nous proposons aussi des éléments pour la maison : déco\, linge de maison\,…
URL:https://www.gard30.fr/agenda/loto-a-la-grand-combe-2/2024-12-29/
LOCATION:Les joyeux mineurs – La Grand Combe\, Rue du Gouffre\, La Grand-Combe\, Gard\, 30110\, France
CATEGORIES:Loto
ATTACH;FMTTYPE=image/jpeg:https://www.gard30.fr/wp-content/uploads/2024/11/IMG_7735.jpeg
ORGANIZER;CN="Les joyeux mineurs - La Grand Combe":MAILTO:ass-les-joyeux-mineurs@orange.fr
GEO:44.2150995;4.0220433
X-APPLE-STRUCTURED-LOCATION;VALUE=URI;X-ADDRESS=Les joyeux mineurs – La Grand Combe Rue du Gouffre La Grand-Combe Gard 30110 France;X-APPLE-RADIUS=500;X-TITLE=Rue du Gouffre:geo:4.0220433,44.2150995
END:VEVENT
BEGIN:VEVENT
DTSTART;TZID=Europe/Paris:20241222T160000
DTEND;TZID=Europe/Paris:20241222T190000
DTSTAMP:20260421T180059
CREATED:20241119T174659Z
LAST-MODIFIED:20241124T205053Z
UID:10002379-1734883200-1734894000@www.gard30.fr
SUMMARY:Loto à la Grand Combe
DESCRIPTION:Tous les dimanches à 16 heures du 24 novembre 2024 au 30 mars 2025\nTarif : 6 euros par tranches de 3 cartons\n10 parties : 7 parties de 5 quines + 3 parties de 1 quine et un carton plein\nune partie gratuite supplémentaire\, le train de plaisir\, de 5 quines\nlots : nourriture et bouteilles spiritueux. Pour les cartons pleins nous proposons aussi des éléments pour la maison : déco\, linge de maison\,…
URL:https://www.gard30.fr/agenda/loto-a-la-grand-combe-2/2024-12-22/
LOCATION:Les joyeux mineurs – La Grand Combe\, Rue du Gouffre\, La Grand-Combe\, Gard\, 30110\, France
CATEGORIES:Loto
ATTACH;FMTTYPE=image/jpeg:https://www.gard30.fr/wp-content/uploads/2024/11/IMG_7735.jpeg
ORGANIZER;CN="Les joyeux mineurs - La Grand Combe":MAILTO:ass-les-joyeux-mineurs@orange.fr
GEO:44.2150995;4.0220433
X-APPLE-STRUCTURED-LOCATION;VALUE=URI;X-ADDRESS=Les joyeux mineurs – La Grand Combe Rue du Gouffre La Grand-Combe Gard 30110 France;X-APPLE-RADIUS=500;X-TITLE=Rue du Gouffre:geo:4.0220433,44.2150995
END:VEVENT
BEGIN:VEVENT
DTSTART;TZID=Europe/Paris:20241215T160000
DTEND;TZID=Europe/Paris:20241215T190000
DTSTAMP:20260421T180059
CREATED:20241119T174659Z
LAST-MODIFIED:20241124T205053Z
UID:10002378-1734278400-1734289200@www.gard30.fr
SUMMARY:Loto à la Grand Combe
DESCRIPTION:Tous les dimanches à 16 heures du 24 novembre 2024 au 30 mars 2025\nTarif : 6 euros par tranches de 3 cartons\n10 parties : 7 parties de 5 quines + 3 parties de 1 quine et un carton plein\nune partie gratuite supplémentaire\, le train de plaisir\, de 5 quines\nlots : nourriture et bouteilles spiritueux. Pour les cartons pleins nous proposons aussi des éléments pour la maison : déco\, linge de maison\,…
URL:https://www.gard30.fr/agenda/loto-a-la-grand-combe-2/2024-12-15/
LOCATION:Les joyeux mineurs – La Grand Combe\, Rue du Gouffre\, La Grand-Combe\, Gard\, 30110\, France
CATEGORIES:Loto
ATTACH;FMTTYPE=image/jpeg:https://www.gard30.fr/wp-content/uploads/2024/11/IMG_7735.jpeg
ORGANIZER;CN="Les joyeux mineurs - La Grand Combe":MAILTO:ass-les-joyeux-mineurs@orange.fr
GEO:44.2150995;4.0220433
X-APPLE-STRUCTURED-LOCATION;VALUE=URI;X-ADDRESS=Les joyeux mineurs – La Grand Combe Rue du Gouffre La Grand-Combe Gard 30110 France;X-APPLE-RADIUS=500;X-TITLE=Rue du Gouffre:geo:4.0220433,44.2150995
END:VEVENT
BEGIN:VEVENT
DTSTART;TZID=Europe/Paris:20241208T160000
DTEND;TZID=Europe/Paris:20241208T190000
DTSTAMP:20260421T180059
CREATED:20241119T174659Z
LAST-MODIFIED:20241124T205053Z
UID:10002377-1733673600-1733684400@www.gard30.fr
SUMMARY:Loto à la Grand Combe
DESCRIPTION:Tous les dimanches à 16 heures du 24 novembre 2024 au 30 mars 2025\nTarif : 6 euros par tranches de 3 cartons\n10 parties : 7 parties de 5 quines + 3 parties de 1 quine et un carton plein\nune partie gratuite supplémentaire\, le train de plaisir\, de 5 quines\nlots : nourriture et bouteilles spiritueux. Pour les cartons pleins nous proposons aussi des éléments pour la maison : déco\, linge de maison\,…
URL:https://www.gard30.fr/agenda/loto-a-la-grand-combe-2/2024-12-08/
LOCATION:Les joyeux mineurs – La Grand Combe\, Rue du Gouffre\, La Grand-Combe\, Gard\, 30110\, France
CATEGORIES:Loto
ATTACH;FMTTYPE=image/jpeg:https://www.gard30.fr/wp-content/uploads/2024/11/IMG_7735.jpeg
ORGANIZER;CN="Les joyeux mineurs - La Grand Combe":MAILTO:ass-les-joyeux-mineurs@orange.fr
GEO:44.2150995;4.0220433
X-APPLE-STRUCTURED-LOCATION;VALUE=URI;X-ADDRESS=Les joyeux mineurs – La Grand Combe Rue du Gouffre La Grand-Combe Gard 30110 France;X-APPLE-RADIUS=500;X-TITLE=Rue du Gouffre:geo:4.0220433,44.2150995
END:VEVENT
BEGIN:VEVENT
DTSTART;TZID=Europe/Paris:20241201T160000
DTEND;TZID=Europe/Paris:20241201T190000
DTSTAMP:20260421T180059
CREATED:20241119T174659Z
LAST-MODIFIED:20241124T205053Z
UID:10002376-1733068800-1733079600@www.gard30.fr
SUMMARY:Loto à la Grand Combe
DESCRIPTION:Tous les dimanches à 16 heures du 24 novembre 2024 au 30 mars 2025\nTarif : 6 euros par tranches de 3 cartons\n10 parties : 7 parties de 5 quines + 3 parties de 1 quine et un carton plein\nune partie gratuite supplémentaire\, le train de plaisir\, de 5 quines\nlots : nourriture et bouteilles spiritueux. Pour les cartons pleins nous proposons aussi des éléments pour la maison : déco\, linge de maison\,…
URL:https://www.gard30.fr/agenda/loto-a-la-grand-combe-2/2024-12-01/
LOCATION:Les joyeux mineurs – La Grand Combe\, Rue du Gouffre\, La Grand-Combe\, Gard\, 30110\, France
CATEGORIES:Loto
ATTACH;FMTTYPE=image/jpeg:https://www.gard30.fr/wp-content/uploads/2024/11/IMG_7735.jpeg
ORGANIZER;CN="Les joyeux mineurs - La Grand Combe":MAILTO:ass-les-joyeux-mineurs@orange.fr
GEO:44.2150995;4.0220433
X-APPLE-STRUCTURED-LOCATION;VALUE=URI;X-ADDRESS=Les joyeux mineurs – La Grand Combe Rue du Gouffre La Grand-Combe Gard 30110 France;X-APPLE-RADIUS=500;X-TITLE=Rue du Gouffre:geo:4.0220433,44.2150995
END:VEVENT
BEGIN:VEVENT
DTSTART;TZID=Europe/Paris:20241124T160000
DTEND;TZID=Europe/Paris:20241124T190000
DTSTAMP:20260421T180059
CREATED:20241119T174659Z
LAST-MODIFIED:20241124T205053Z
UID:10002375-1732464000-1732474800@www.gard30.fr
SUMMARY:Loto à la Grand Combe
DESCRIPTION:Tous les dimanches à 16 heures du 24 novembre 2024 au 30 mars 2025\nTarif : 6 euros par tranches de 3 cartons\n10 parties : 7 parties de 5 quines + 3 parties de 1 quine et un carton plein\nune partie gratuite supplémentaire\, le train de plaisir\, de 5 quines\nlots : nourriture et bouteilles spiritueux. Pour les cartons pleins nous proposons aussi des éléments pour la maison : déco\, linge de maison\,…
URL:https://www.gard30.fr/agenda/loto-a-la-grand-combe-2/2024-11-24/
LOCATION:Les joyeux mineurs – La Grand Combe\, Rue du Gouffre\, La Grand-Combe\, Gard\, 30110\, France
CATEGORIES:Loto
ATTACH;FMTTYPE=image/jpeg:https://www.gard30.fr/wp-content/uploads/2024/11/IMG_7735.jpeg
ORGANIZER;CN="Les joyeux mineurs - La Grand Combe":MAILTO:ass-les-joyeux-mineurs@orange.fr
GEO:44.2150995;4.0220433
X-APPLE-STRUCTURED-LOCATION;VALUE=URI;X-ADDRESS=Les joyeux mineurs – La Grand Combe Rue du Gouffre La Grand-Combe Gard 30110 France;X-APPLE-RADIUS=500;X-TITLE=Rue du Gouffre:geo:4.0220433,44.2150995
END:VEVENT
END:VCALENDAR