BEGIN:VCALENDAR
VERSION:2.0
PRODID:-//Gard 30 - ECPv6.15.20//NONSGML v1.0//EN
CALSCALE:GREGORIAN
METHOD:PUBLISH
X-WR-CALNAME:Gard 30
X-ORIGINAL-URL:https://www.gard30.fr
X-WR-CALDESC:Évènements pour Gard 30
REFRESH-INTERVAL;VALUE=DURATION:PT1H
X-Robots-Tag:noindex
X-PUBLISHED-TTL:PT1H
BEGIN:VTIMEZONE
TZID:Europe/Paris
BEGIN:DAYLIGHT
TZOFFSETFROM:+0100
TZOFFSETTO:+0200
TZNAME:CEST
DTSTART:20220327T010000
END:DAYLIGHT
BEGIN:STANDARD
TZOFFSETFROM:+0200
TZOFFSETTO:+0100
TZNAME:CET
DTSTART:20221030T010000
END:STANDARD
BEGIN:DAYLIGHT
TZOFFSETFROM:+0100
TZOFFSETTO:+0200
TZNAME:CEST
DTSTART:20230326T010000
END:DAYLIGHT
BEGIN:STANDARD
TZOFFSETFROM:+0200
TZOFFSETTO:+0100
TZNAME:CET
DTSTART:20231029T010000
END:STANDARD
BEGIN:DAYLIGHT
TZOFFSETFROM:+0100
TZOFFSETTO:+0200
TZNAME:CEST
DTSTART:20240331T010000
END:DAYLIGHT
BEGIN:STANDARD
TZOFFSETFROM:+0200
TZOFFSETTO:+0100
TZNAME:CET
DTSTART:20241027T010000
END:STANDARD
BEGIN:DAYLIGHT
TZOFFSETFROM:+0100
TZOFFSETTO:+0200
TZNAME:CEST
DTSTART:20250330T010000
END:DAYLIGHT
BEGIN:STANDARD
TZOFFSETFROM:+0200
TZOFFSETTO:+0100
TZNAME:CET
DTSTART:20251026T010000
END:STANDARD
BEGIN:DAYLIGHT
TZOFFSETFROM:+0100
TZOFFSETTO:+0200
TZNAME:CEST
DTSTART:20260329T010000
END:DAYLIGHT
BEGIN:STANDARD
TZOFFSETFROM:+0200
TZOFFSETTO:+0100
TZNAME:CET
DTSTART:20261025T010000
END:STANDARD
END:VTIMEZONE
BEGIN:VEVENT
DTSTART;TZID=Europe/Paris:20250308T180000
DTEND;TZID=Europe/Paris:20250308T210000
DTSTAMP:20260425T055407
CREATED:20250223T204528Z
LAST-MODIFIED:20250307T074055Z
UID:10003165-1741456800-1741467600@www.gard30.fr
SUMMARY:Concours de bandidos à Beauvoisin (annulé)
DESCRIPTION:Communiqué de l’organisateur : En raison des intempéries prévues ce week-end\, nous préférons annuler. Merci de votre compréhension \nPROGRAMME: \n18H CONCOURS DE BANDIDOS \n19H SOIRÉE AVEC DJ A. ROUVIN \nJEUX POUR LES ENFANTS \nRESTAURATION SUR PLACE
URL:https://www.gard30.fr/agenda/concours-de-bandidos-a-beauvoisin/
LOCATION:Manade Cayzac – Beauvoisin\, Chemin de Florian - Manade Cayzac\, Beauvoisin\, Gard\, 30640\, France
CATEGORIES:Fêtes votives
ATTACH;FMTTYPE=image/jpeg:https://www.gard30.fr/wp-content/uploads/2025/02/551BBE88-76CB-45AF-9D01-F4193BEF4C4B.jpeg
ORGANIZER;CN="Comit%C3%A9 d'animation Beauvoisin":MAILTO:rodier.emmanuel@hotmail.fr
GEO:43.71395;4.3070174
X-APPLE-STRUCTURED-LOCATION;VALUE=URI;X-ADDRESS=Manade Cayzac – Beauvoisin Chemin de Florian - Manade Cayzac Beauvoisin Gard 30640 France;X-APPLE-RADIUS=500;X-TITLE=Chemin de Florian - Manade Cayzac:geo:4.3070174,43.71395
END:VEVENT
BEGIN:VEVENT
DTSTART;TZID=Europe/Paris:20240929T100000
DTEND;TZID=Europe/Paris:20240929T170000
DTSTAMP:20260425T055407
CREATED:20240903T114156Z
LAST-MODIFIED:20240907T063226Z
UID:10001888-1727604000-1727629200@www.gard30.fr
SUMMARY:Journée en pays à Beauvoisin (Manade Cayzac)
DESCRIPTION:Cet évènement initialement prévu le 8 septembre a été reporté au 29 septembre en raison des conditions météos. \nDécouvrez à Beauvoisin\, dans le Gard\, au sud de la ville de Nîmes\, la Journée en pays\, une fête votive animée. Suivez le programme de cette fête traditionnelle\, heure par heure\, sur cette page. Par ailleurs\, il convient de souligner que la commune possède un patrimoine naturel remarquable. En effet\, elle abrite trois sites Natura 2000\, ainsi que deux espaces protégés et trois zones naturelles d’intérêt écologique\, faunistique et floristique. Cette richesse environnementale témoigne de l’engagement de Beauvoisin envers la préservation de sa biodiversité. Explorez ces merveilles naturelles lors de votre visite et laissez-vous émerveiller par la beauté de la nature préservée. \nDimanche 29 septembre \n\n10H – CAPTURE DE L’ANOUBLE\n11H – ABRIVADO\n11H30 – CONCOURS DE PLANTER DE PIQUETS\n12H – APERO MIX I DJ TOTOFF\n16H – CONCOURS DE RASET INTER MANADE VACHES & VEAUX POUR LA JEUNESSE\n17H – BANDIDO\n\nVous pouvez consulter le programme de la fête votive de 2024 et du loto de 2024.
URL:https://www.gard30.fr/agenda/journee-en-pays-a-beauvoisin-manade-cayzac/
LOCATION:Manade Cayzac – Beauvoisin\, Chemin de Florian - Manade Cayzac\, Beauvoisin\, Gard\, 30640\, France
CATEGORIES:Fêtes votives
ATTACH;FMTTYPE=image/jpeg:https://www.gard30.fr/wp-content/uploads/2024/09/B0722508-4E92-4A7D-B65D-F173834EBD9A_1_105_c.jpeg
GEO:43.71395;4.3070174
X-APPLE-STRUCTURED-LOCATION;VALUE=URI;X-ADDRESS=Manade Cayzac – Beauvoisin Chemin de Florian - Manade Cayzac Beauvoisin Gard 30640 France;X-APPLE-RADIUS=500;X-TITLE=Chemin de Florian - Manade Cayzac:geo:4.3070174,43.71395
END:VEVENT
BEGIN:VEVENT
DTSTART;VALUE=DATE:20230423
DTEND;VALUE=DATE:20230424
DTSTAMP:20260425T055407
CREATED:20230412T073424Z
LAST-MODIFIED:20230412T073424Z
UID:10000933-1682208000-1682294399@www.gard30.fr
SUMMARY:Journée Taurine à Beauvoisin
DESCRIPTION:9h déjeuner 3€\n11 h concours d’abrivados manade cayzac \,devaux \,du juge et martini\nConcours de planter de piquets\n12h apéritif\n16 concours de raset inter manade plus vache et veau pour la jeunesse\nAprès la course bandido
URL:https://www.gard30.fr/agenda/journee-taurine-a-beauvoisin/
LOCATION:Manade Cayzac – Beauvoisin\, Chemin de Florian - Manade Cayzac\, Beauvoisin\, Gard\, 30640\, France
CATEGORIES:Fêtes votives
ATTACH;FMTTYPE=image/jpeg:https://www.gard30.fr/wp-content/uploads/2023/04/cayzac.jpg
GEO:43.71395;4.3070174
X-APPLE-STRUCTURED-LOCATION;VALUE=URI;X-ADDRESS=Manade Cayzac – Beauvoisin Chemin de Florian - Manade Cayzac Beauvoisin Gard 30640 France;X-APPLE-RADIUS=500;X-TITLE=Chemin de Florian - Manade Cayzac:geo:4.3070174,43.71395
END:VEVENT
END:VCALENDAR