BEGIN:VCALENDAR
VERSION:2.0
PRODID:-//Gard 30 - ECPv6.15.20//NONSGML v1.0//EN
CALSCALE:GREGORIAN
METHOD:PUBLISH
X-WR-CALNAME:Gard 30
X-ORIGINAL-URL:https://www.gard30.fr
X-WR-CALDESC:Évènements pour Gard 30
REFRESH-INTERVAL;VALUE=DURATION:PT1H
X-Robots-Tag:noindex
X-PUBLISHED-TTL:PT1H
BEGIN:VTIMEZONE
TZID:Europe/Paris
BEGIN:DAYLIGHT
TZOFFSETFROM:+0100
TZOFFSETTO:+0200
TZNAME:CEST
DTSTART:20240331T010000
END:DAYLIGHT
BEGIN:STANDARD
TZOFFSETFROM:+0200
TZOFFSETTO:+0100
TZNAME:CET
DTSTART:20241027T010000
END:STANDARD
BEGIN:DAYLIGHT
TZOFFSETFROM:+0100
TZOFFSETTO:+0200
TZNAME:CEST
DTSTART:20250330T010000
END:DAYLIGHT
BEGIN:STANDARD
TZOFFSETFROM:+0200
TZOFFSETTO:+0100
TZNAME:CET
DTSTART:20251026T010000
END:STANDARD
BEGIN:DAYLIGHT
TZOFFSETFROM:+0100
TZOFFSETTO:+0200
TZNAME:CEST
DTSTART:20260329T010000
END:DAYLIGHT
BEGIN:STANDARD
TZOFFSETFROM:+0200
TZOFFSETTO:+0100
TZNAME:CET
DTSTART:20261025T010000
END:STANDARD
END:VTIMEZONE
BEGIN:VEVENT
DTSTART;VALUE=DATE:20250329
DTEND;VALUE=DATE:20250330
DTSTAMP:20260421T083256
CREATED:20250324T131126Z
LAST-MODIFIED:20250326T103246Z
UID:10003406-1743206400-1743292799@www.gard30.fr
SUMMARY:Entrainement d'abrivado en pays à Franquevaux (Annulé)
DESCRIPTION:Entrainement d’abrivado en pays à Franquevaux \nLe samedi 29 mars \n\n11h Abrivado\n17h Bandido\n\nRestauration \nRéservation au 06 11 83 84 98 \nRenseignements au 06 17 63 31 64
URL:https://www.gard30.fr/agenda/entrainement-dabrivado-en-pays-a-franquevaux/
LOCATION:Manade Martini – Franquevaux\, 467 Route de Gallician\, Beauvoisin\, Gard\, 30640\, France
CATEGORIES:Fêtes votives
ATTACH;FMTTYPE=image/jpeg:https://www.gard30.fr/wp-content/uploads/2025/03/IMG_0719.jpg
ORGANIZER;CN="Comit%C3%A9 des f%C3%AAtes de Franquevaux":MAILTO:comitefranquevaux@gmail.com
GEO:43.648979;4.341136
X-APPLE-STRUCTURED-LOCATION;VALUE=URI;X-ADDRESS=Manade Martini – Franquevaux 467 Route de Gallician Beauvoisin Gard 30640 France;X-APPLE-RADIUS=500;X-TITLE=467 Route de Gallician:geo:4.341136,43.648979
END:VEVENT
END:VCALENDAR