BEGIN:VCALENDAR
VERSION:2.0
PRODID:-//Gard 30 - ECPv6.15.20//NONSGML v1.0//EN
CALSCALE:GREGORIAN
METHOD:PUBLISH
X-ORIGINAL-URL:https://www.gard30.fr
X-WR-CALDESC:Évènements pour Gard 30
REFRESH-INTERVAL;VALUE=DURATION:PT1H
X-Robots-Tag:noindex
X-PUBLISHED-TTL:PT1H
BEGIN:VTIMEZONE
TZID:Europe/Paris
BEGIN:DAYLIGHT
TZOFFSETFROM:+0100
TZOFFSETTO:+0200
TZNAME:CEST
DTSTART:20240331T010000
END:DAYLIGHT
BEGIN:STANDARD
TZOFFSETFROM:+0200
TZOFFSETTO:+0100
TZNAME:CET
DTSTART:20241027T010000
END:STANDARD
BEGIN:DAYLIGHT
TZOFFSETFROM:+0100
TZOFFSETTO:+0200
TZNAME:CEST
DTSTART:20250330T010000
END:DAYLIGHT
BEGIN:STANDARD
TZOFFSETFROM:+0200
TZOFFSETTO:+0100
TZNAME:CET
DTSTART:20251026T010000
END:STANDARD
BEGIN:DAYLIGHT
TZOFFSETFROM:+0100
TZOFFSETTO:+0200
TZNAME:CEST
DTSTART:20260329T010000
END:DAYLIGHT
BEGIN:STANDARD
TZOFFSETFROM:+0200
TZOFFSETTO:+0100
TZNAME:CET
DTSTART:20261025T010000
END:STANDARD
END:VTIMEZONE
BEGIN:VEVENT
DTSTART;TZID=Europe/Paris:20251206T100000
DTEND;TZID=Europe/Paris:20251206T180000
DTSTAMP:20260421T100513
CREATED:20251201T093225Z
LAST-MODIFIED:20251201T093225Z
UID:10004740-1765015200-1765044000@www.gard30.fr
SUMMARY:Marché de Noël à Uzès
DESCRIPTION:Samedi 6 décembre 2025\n\n10h00 – Ouverture du marché 🎉\n10h30 – Nombreux exposants 🐂\n11h00 – Atelier maquillage et activités pour enfants 🎨\n12h00 – Vente de décorations de Noël 🎄\n14h00 – Espace restauration : chocolats chauds\, vin chaud ☕\n15h00 – Crêpes et biscuits 🍪\n16h00 – Food truck 🍽️\n18h00 – Fermeture du marché 🔥
URL:https://www.gard30.fr/agenda/marche-de-noel-a-uzes/
LOCATION:MFR Le Grand Mas – Uzès\, 930 chemin du grand mas\, Uzès\, Gard\, 30700\, France
CATEGORIES:Marchés de Noël
ATTACH;FMTTYPE=image/jpeg:https://www.gard30.fr/wp-content/uploads/2025/12/IMG_6291-1.jpg
GEO:43.9914976;4.4027588
X-APPLE-STRUCTURED-LOCATION;VALUE=URI;X-ADDRESS=MFR Le Grand Mas – Uzès 930 chemin du grand mas Uzès Gard 30700 France;X-APPLE-RADIUS=500;X-TITLE=930 chemin du grand mas:geo:4.4027588,43.9914976
END:VEVENT
BEGIN:VEVENT
DTSTART;TZID=Europe/Paris:20251116T140000
DTEND;TZID=Europe/Paris:20251116T170000
DTSTAMP:20260421T100513
CREATED:20250910T135510Z
LAST-MODIFIED:20250910T135510Z
UID:10004346-1763301600-1763312400@www.gard30.fr
SUMMARY:Loto à Uzès
DESCRIPTION:Dimanche 16 novembre 2025\n\n14h00 : 🎉 Début du Loto Vert\n🎁 De nombreux lots à gagner (détails à venir)\n🍽️ Buvette et petite restauration sur place\n🎟️ Tarifs des cartons : 2€ : 1 carton\, 6€ : 4 cartons\, 10€ : 8 cartons\, 16€ : 12 cartons
URL:https://www.gard30.fr/agenda/loto-a-uzes-14/
LOCATION:MFR Le Grand Mas – Uzès\, 930 chemin du grand mas\, Uzès\, Gard\, 30700\, France
CATEGORIES:Loto
ATTACH;FMTTYPE=image/jpeg:https://www.gard30.fr/wp-content/uploads/2025/09/IMG_4715-1.jpg
GEO:43.9914976;4.4027588
X-APPLE-STRUCTURED-LOCATION;VALUE=URI;X-ADDRESS=MFR Le Grand Mas – Uzès 930 chemin du grand mas Uzès Gard 30700 France;X-APPLE-RADIUS=500;X-TITLE=930 chemin du grand mas:geo:4.4027588,43.9914976
END:VEVENT
BEGIN:VEVENT
DTSTART;TZID=Europe/Paris:20250413T140000
DTEND;TZID=Europe/Paris:20250413T170000
DTSTAMP:20260421T100513
CREATED:20250318T151437Z
LAST-MODIFIED:20250318T151437Z
UID:10003369-1744552800-1744563600@www.gard30.fr
SUMMARY:Loto à Uzès
DESCRIPTION:Loto à Uzès le 13 avril à 14h \n\n15 quines et 3 cartons pleins\nLots :\n\n1 nuit en lodge pour une famille\nDeux oliviers\nUn citronnier\nUn érable du japon\nLauriers roses\nMassage bien être\nAbonnements à la salle de sport\nDe nombreux bons d’achat\nRestaurant\nLots beauté\nEt bien d’autres lots à découvrir\n\n\n2€ : 1 carton\n6€ : 4 cartons\n10€ : 8 cartons\n16€ : 12 cartons\nBuvette et petite restauration sur place
URL:https://www.gard30.fr/agenda/loto-a-uzes-13/
LOCATION:MFR Le Grand Mas – Uzès\, 930 chemin du grand mas\, Uzès\, Gard\, 30700\, France
CATEGORIES:Loto
ATTACH;FMTTYPE=image/jpeg:https://www.gard30.fr/wp-content/uploads/2025/03/0E9CB95A-4319-4309-ADF1-754F0D305DB3_1_105_c.jpeg
GEO:43.9914976;4.4027588
X-APPLE-STRUCTURED-LOCATION;VALUE=URI;X-ADDRESS=MFR Le Grand Mas – Uzès 930 chemin du grand mas Uzès Gard 30700 France;X-APPLE-RADIUS=500;X-TITLE=930 chemin du grand mas:geo:4.4027588,43.9914976
END:VEVENT
END:VCALENDAR