BEGIN:VCALENDAR
VERSION:2.0
PRODID:-//Gard 30 - ECPv6.15.20//NONSGML v1.0//EN
CALSCALE:GREGORIAN
METHOD:PUBLISH
X-ORIGINAL-URL:https://www.gard30.fr
X-WR-CALDESC:Évènements pour Gard 30
REFRESH-INTERVAL;VALUE=DURATION:PT1H
X-Robots-Tag:noindex
X-PUBLISHED-TTL:PT1H
BEGIN:VTIMEZONE
TZID:Europe/Paris
BEGIN:DAYLIGHT
TZOFFSETFROM:+0100
TZOFFSETTO:+0200
TZNAME:CEST
DTSTART:20230326T010000
END:DAYLIGHT
BEGIN:STANDARD
TZOFFSETFROM:+0200
TZOFFSETTO:+0100
TZNAME:CET
DTSTART:20231029T010000
END:STANDARD
BEGIN:DAYLIGHT
TZOFFSETFROM:+0100
TZOFFSETTO:+0200
TZNAME:CEST
DTSTART:20240331T010000
END:DAYLIGHT
BEGIN:STANDARD
TZOFFSETFROM:+0200
TZOFFSETTO:+0100
TZNAME:CET
DTSTART:20241027T010000
END:STANDARD
BEGIN:DAYLIGHT
TZOFFSETFROM:+0100
TZOFFSETTO:+0200
TZNAME:CEST
DTSTART:20250330T010000
END:DAYLIGHT
BEGIN:STANDARD
TZOFFSETFROM:+0200
TZOFFSETTO:+0100
TZNAME:CET
DTSTART:20251026T010000
END:STANDARD
BEGIN:DAYLIGHT
TZOFFSETFROM:+0100
TZOFFSETTO:+0200
TZNAME:CEST
DTSTART:20260329T010000
END:DAYLIGHT
BEGIN:STANDARD
TZOFFSETFROM:+0200
TZOFFSETTO:+0100
TZNAME:CET
DTSTART:20261025T010000
END:STANDARD
BEGIN:DAYLIGHT
TZOFFSETFROM:+0100
TZOFFSETTO:+0200
TZNAME:CEST
DTSTART:20270328T010000
END:DAYLIGHT
BEGIN:STANDARD
TZOFFSETFROM:+0200
TZOFFSETTO:+0100
TZNAME:CET
DTSTART:20271031T010000
END:STANDARD
END:VTIMEZONE
BEGIN:VEVENT
DTSTART;TZID=Europe/Paris:20260215T133000
DTEND;TZID=Europe/Paris:20260215T163000
DTSTAMP:20260420T113938
CREATED:20260128T074853Z
LAST-MODIFIED:20260128T074853Z
UID:10004929-1771162200-1771173000@www.gard30.fr
SUMMARY:Loto à Roquemaure
DESCRIPTION:Dimanche 15 Février 2026\n\n13h30 : Début du Loto des Ados 🎉\nNombreux lots à gagner : Casque Bluetooth JBL\, Écouteurs JBL\, Petit électroménager\, Montre connectée 🎁\nBons d’achat à gagner 🛍️\nBuvette sur place 🍽️
URL:https://www.gard30.fr/agenda/loto-a-roquemaure-7/
LOCATION:Place de la Mairie – Roquemaure\, Place de la Mairie\, Roquemaure\, Gard\, 30150\, France
CATEGORIES:Loto
ATTACH;FMTTYPE=image/jpeg:https://www.gard30.fr/wp-content/uploads/2026/01/IMG_7580-1.jpg
GEO:44.0522476;4.7789562
X-APPLE-STRUCTURED-LOCATION;VALUE=URI;X-ADDRESS=Place de la Mairie – Roquemaure Place de la Mairie Roquemaure Gard 30150 France;X-APPLE-RADIUS=500;X-TITLE=Place de la Mairie:geo:4.7789562,44.0522476
END:VEVENT
BEGIN:VEVENT
DTSTART;TZID=Europe/Paris:20241214T100000
DTEND;TZID=Europe/Paris:20241215T170000
DTSTAMP:20260420T113938
CREATED:20241128T093949Z
LAST-MODIFIED:20241128T093949Z
UID:10002546-1734170400-1734282000@www.gard30.fr
SUMMARY:Marché de Noël à Roquemaure
DESCRIPTION:Marché de Noël à Roquemaure \nSamedi 14 décembre 2024 de 10h – 18h \nDimanche 15 décembre 10h – 17h \n\nChâlets\,\nAnimations enfants\,\nParade lumineuse\, feu d’artifices\,\nChampagne\, gourmandises\,\nArtisans et créateurs\,\nIdées cadeaux\, I\nFoodtrucks\,\nBalade à poneys\n\nRenseignements \n\nader30150@gmail.com\nwww.roquemaure.fr
URL:https://www.gard30.fr/agenda/marche-de-noel-a-roquemaure/
LOCATION:Place de la Mairie – Roquemaure\, Place de la Mairie\, Roquemaure\, Gard\, 30150\, France
CATEGORIES:Marchés de Noël
ATTACH;FMTTYPE=image/jpeg:https://www.gard30.fr/wp-content/uploads/2024/11/D671EF56-B0BD-46DA-BE20-433CA5137C59.jpeg
ORGANIZER;CN="Association Des Entreprises de Roquemaure":MAILTO:ader30150@gmail.com
GEO:44.0522476;4.7789562
X-APPLE-STRUCTURED-LOCATION;VALUE=URI;X-ADDRESS=Place de la Mairie – Roquemaure Place de la Mairie Roquemaure Gard 30150 France;X-APPLE-RADIUS=500;X-TITLE=Place de la Mairie:geo:4.7789562,44.0522476
END:VEVENT
END:VCALENDAR