BEGIN:VCALENDAR
VERSION:2.0
PRODID:-//Gard 30 - ECPv6.15.20//NONSGML v1.0//EN
CALSCALE:GREGORIAN
METHOD:PUBLISH
X-ORIGINAL-URL:https://www.gard30.fr
X-WR-CALDESC:Évènements pour Gard 30
REFRESH-INTERVAL;VALUE=DURATION:PT1H
X-Robots-Tag:noindex
X-PUBLISHED-TTL:PT1H
BEGIN:VTIMEZONE
TZID:Europe/Paris
BEGIN:DAYLIGHT
TZOFFSETFROM:+0100
TZOFFSETTO:+0200
TZNAME:CEST
DTSTART:20230326T010000
END:DAYLIGHT
BEGIN:STANDARD
TZOFFSETFROM:+0200
TZOFFSETTO:+0100
TZNAME:CET
DTSTART:20231029T010000
END:STANDARD
BEGIN:DAYLIGHT
TZOFFSETFROM:+0100
TZOFFSETTO:+0200
TZNAME:CEST
DTSTART:20240331T010000
END:DAYLIGHT
BEGIN:STANDARD
TZOFFSETFROM:+0200
TZOFFSETTO:+0100
TZNAME:CET
DTSTART:20241027T010000
END:STANDARD
BEGIN:DAYLIGHT
TZOFFSETFROM:+0100
TZOFFSETTO:+0200
TZNAME:CEST
DTSTART:20250330T010000
END:DAYLIGHT
BEGIN:STANDARD
TZOFFSETFROM:+0200
TZOFFSETTO:+0100
TZNAME:CET
DTSTART:20251026T010000
END:STANDARD
END:VTIMEZONE
BEGIN:VEVENT
DTSTART;TZID=Europe/Paris:20241208T100000
DTEND;TZID=Europe/Paris:20241208T163000
DTSTAMP:20260420T062614
CREATED:20241109T073412Z
LAST-MODIFIED:20241109T073412Z
UID:10002213-1733652000-1733675400@www.gard30.fr
SUMMARY:Marché de Noël à Aubord
DESCRIPTION:Dimanche 8 décembre 2024\nDe 10h00 à 16h30 \nPlace Silhol \nPour exposer\, inscrivez-vous en mairie ou par email à accueil@aubord.fr\n10€ l’emplacement 2m (sans matériel)
URL:https://www.gard30.fr/agenda/marche-de-noel-a-aubord/
LOCATION:Place Silhol à Aubord\, Place Silhol\, Aubord\, Gard\, 30620\, France
CATEGORIES:Marchés de Noël
ATTACH;FMTTYPE=image/jpeg:https://www.gard30.fr/wp-content/uploads/2024/11/marche-de-noel-a-aubord-2024.jpg
GEO:43.756822;4.3123839
X-APPLE-STRUCTURED-LOCATION;VALUE=URI;X-ADDRESS=Place Silhol à Aubord Place Silhol Aubord Gard 30620 France;X-APPLE-RADIUS=500;X-TITLE=Place Silhol:geo:4.3123839,43.756822
END:VEVENT
END:VCALENDAR