BEGIN:VCALENDAR
VERSION:2.0
PRODID:-//Gard 30 - ECPv6.15.20//NONSGML v1.0//EN
CALSCALE:GREGORIAN
METHOD:PUBLISH
X-WR-CALNAME:Gard 30
X-ORIGINAL-URL:https://www.gard30.fr
X-WR-CALDESC:Évènements pour Gard 30
REFRESH-INTERVAL;VALUE=DURATION:PT1H
X-Robots-Tag:noindex
X-PUBLISHED-TTL:PT1H
BEGIN:VTIMEZONE
TZID:Europe/Paris
BEGIN:DAYLIGHT
TZOFFSETFROM:+0100
TZOFFSETTO:+0200
TZNAME:CEST
DTSTART:20220327T010000
END:DAYLIGHT
BEGIN:STANDARD
TZOFFSETFROM:+0200
TZOFFSETTO:+0100
TZNAME:CET
DTSTART:20221030T010000
END:STANDARD
BEGIN:DAYLIGHT
TZOFFSETFROM:+0100
TZOFFSETTO:+0200
TZNAME:CEST
DTSTART:20230326T010000
END:DAYLIGHT
BEGIN:STANDARD
TZOFFSETFROM:+0200
TZOFFSETTO:+0100
TZNAME:CET
DTSTART:20231029T010000
END:STANDARD
BEGIN:DAYLIGHT
TZOFFSETFROM:+0100
TZOFFSETTO:+0200
TZNAME:CEST
DTSTART:20240331T010000
END:DAYLIGHT
BEGIN:STANDARD
TZOFFSETFROM:+0200
TZOFFSETTO:+0100
TZNAME:CET
DTSTART:20241027T010000
END:STANDARD
BEGIN:DAYLIGHT
TZOFFSETFROM:+0100
TZOFFSETTO:+0200
TZNAME:CEST
DTSTART:20250330T010000
END:DAYLIGHT
BEGIN:STANDARD
TZOFFSETFROM:+0200
TZOFFSETTO:+0100
TZNAME:CET
DTSTART:20251026T010000
END:STANDARD
BEGIN:DAYLIGHT
TZOFFSETFROM:+0100
TZOFFSETTO:+0200
TZNAME:CEST
DTSTART:20260329T010000
END:DAYLIGHT
BEGIN:STANDARD
TZOFFSETFROM:+0200
TZOFFSETTO:+0100
TZNAME:CET
DTSTART:20261025T010000
END:STANDARD
END:VTIMEZONE
BEGIN:VEVENT
DTSTART;TZID=Europe/Paris:20250202T143000
DTEND;TZID=Europe/Paris:20250202T173000
DTSTAMP:20260426T052847
CREATED:20250118T203023Z
LAST-MODIFIED:20250118T203023Z
UID:10002881-1738506600-1738517400@www.gard30.fr
SUMMARY:Loto à Roquemaure
DESCRIPTION:Ouverture des portes 13h30 début des jeux à 14h30\n18 quines\, 6 cartons pleins\n2 Supers cartons pleins\nBon d’achat de 400€\nHostellerie du Château de Fines Roches\nDéjeuner et Détente\nAu château pour 2 Personnes\n1 partie spéciale enfants\nTombola\nTarifs : 5€ le carton\, 10€ les 3\, 15€ les 6\, 20€ les 10
URL:https://www.gard30.fr/agenda/loto-a-roquemaure-6/
LOCATION:Salle Cantarelle à Roquemaure\, Route de Nîmes\, Roquemaure\, Gard\, 30150\, France
CATEGORIES:Loto
ATTACH;FMTTYPE=image/jpeg:https://www.gard30.fr/wp-content/uploads/2025/01/CE290DF5-F61F-40BC-A597-D015D24DE61D.jpeg
ORGANIZER;CN="Handball Club Roquemaurois - Roquemaure":MAILTO:audepoublan52@gmail.com
GEO:44.0317172;4.7598
X-APPLE-STRUCTURED-LOCATION;VALUE=URI;X-ADDRESS=Salle Cantarelle à Roquemaure Route de Nîmes Roquemaure Gard 30150 France;X-APPLE-RADIUS=500;X-TITLE=Route de Nîmes:geo:4.7598,44.0317172
END:VEVENT
BEGIN:VEVENT
DTSTART;TZID=Europe/Paris:20250112T140000
DTEND;TZID=Europe/Paris:20250112T170000
DTSTAMP:20260426T052847
CREATED:20241229T133111Z
LAST-MODIFIED:20241229T133111Z
UID:10002756-1736690400-1736701200@www.gard30.fr
SUMMARY:Loto à Roquemaure
DESCRIPTION:Loto à Roquemaure le dimanche 12 janvier à 14h30 \nOuverture des portes à partir de 13h30 \n\nNombreux lots !\n\nSéjour pour 4 personnes au Puy du Fou\nSmartphone\nObjets connectés\nPetit électroménagers\nBon d’achats\netc…\n\n\nPartie enfant : Nintendo switch à gagner\nBuvette et goûter sur place\ntombola 1€ gagnant à tous les coups\n4€ le carton\n10€ les 3 cartons\n20€ les 7 cartons
URL:https://www.gard30.fr/agenda/loto-a-roquemaure-5/
LOCATION:Salle Cantarelle à Roquemaure\, Route de Nîmes\, Roquemaure\, Gard\, 30150\, France
CATEGORIES:Loto
ATTACH;FMTTYPE=image/jpeg:https://www.gard30.fr/wp-content/uploads/2024/12/664C6C39-B1FC-45D0-84C8-409BAEE55682_1_105_c.jpeg
ORGANIZER;CN="Le Sou des %C3%A9coles de Roquemaure":MAILTO:lesou-roquemaure@live.fr
GEO:44.0317172;4.7598
X-APPLE-STRUCTURED-LOCATION;VALUE=URI;X-ADDRESS=Salle Cantarelle à Roquemaure Route de Nîmes Roquemaure Gard 30150 France;X-APPLE-RADIUS=500;X-TITLE=Route de Nîmes:geo:4.7598,44.0317172
END:VEVENT
BEGIN:VEVENT
DTSTART;TZID=Europe/Paris:20250104T153000
DTEND;TZID=Europe/Paris:20250104T183000
DTSTAMP:20260426T052847
CREATED:20241224T081039Z
LAST-MODIFIED:20241224T081039Z
UID:10002748-1736004600-1736015400@www.gard30.fr
SUMMARY:Loto à Roquemaure
DESCRIPTION:Samedi 4 janvier 2025 \n15H30 : Super Loto\n12 quines / 6 Cartons pleins\n+ 2 Supers Cartons\nJambons / Longes / Rosettes\n1/2 Agneaux / Magnums de vin\nRepas / Colis de viande\nEtc …\nBon d’achats 150 Euros et 350 Euros\n4€ le carton / 10€ les 3 /15€ les 5 / 20€ les 12
URL:https://www.gard30.fr/agenda/loto-a-roquemaure-4/
LOCATION:Salle Cantarelle à Roquemaure\, Route de Nîmes\, Roquemaure\, Gard\, 30150\, France
CATEGORIES:Loto
ATTACH;FMTTYPE=image/jpeg:https://www.gard30.fr/wp-content/uploads/2024/12/E54EDF8C-1A6D-40C3-B334-953064A0FEF5.jpeg
ORGANIZER;CN="Club Taurin de Roquemaure":MAILTO:ct.roquemaure@gmail.com
GEO:44.0317172;4.7598
X-APPLE-STRUCTURED-LOCATION;VALUE=URI;X-ADDRESS=Salle Cantarelle à Roquemaure Route de Nîmes Roquemaure Gard 30150 France;X-APPLE-RADIUS=500;X-TITLE=Route de Nîmes:geo:4.7598,44.0317172
END:VEVENT
BEGIN:VEVENT
DTSTART;VALUE=DATE:20241208
DTEND;VALUE=DATE:20241209
DTSTAMP:20260426T052847
CREATED:20241107T140511Z
LAST-MODIFIED:20241223T172452Z
UID:10002133-1733616000-1733702399@www.gard30.fr
SUMMARY:Marché de Noël de Roquemaure
DESCRIPTION:Dimanche 08 décembre \nMarché de Noël\nSalle des fêtes Canterello\nHuille d’olive\, chocolat\, fromages\, charcuterie\, bonbons\, vin etc…
URL:https://www.gard30.fr/agenda/marche-de-noel-de-roquemaure/
LOCATION:Salle Cantarelle à Roquemaure\, Route de Nîmes\, Roquemaure\, Gard\, 30150\, France
CATEGORIES:Marchés de Noël
ATTACH;FMTTYPE=image/jpeg:https://www.gard30.fr/wp-content/uploads/2024/11/AA.jpeg
ORGANIZER;CN="Le Sou des %C3%A9coles de Roquemaure":MAILTO:lesou-roquemaure@live.fr
GEO:44.0317172;4.7598
X-APPLE-STRUCTURED-LOCATION;VALUE=URI;X-ADDRESS=Salle Cantarelle à Roquemaure Route de Nîmes Roquemaure Gard 30150 France;X-APPLE-RADIUS=500;X-TITLE=Route de Nîmes:geo:4.7598,44.0317172
END:VEVENT
BEGIN:VEVENT
DTSTART;TZID=Europe/Paris:20230115T143000
DTEND;TZID=Europe/Paris:20230115T173000
DTSTAMP:20260426T052847
CREATED:20230112T131456Z
LAST-MODIFIED:20241223T172504Z
UID:10000703-1673793000-1673803800@www.gard30.fr
SUMMARY:Loto à Roquemaure
DESCRIPTION:4e le carton\, 10e les 3\, 20e les 7\nouverture des portes 13h30\nnintendo switch\, trotinette électrique\, smartphone\, montre connectée\, tablette\, enceinte et casque bluetooth\, petits électroménagers\, bons d’achats\, …
URL:https://www.gard30.fr/agenda/loto-a-roquemaure-3/
LOCATION:Salle Cantarelle à Roquemaure\, Route de Nîmes\, Roquemaure\, Gard\, 30150\, France
CATEGORIES:Loto
ATTACH;FMTTYPE=image/jpeg:https://www.gard30.fr/wp-content/uploads/2023/01/IMG-6695.jpg
GEO:44.0317172;4.7598
X-APPLE-STRUCTURED-LOCATION;VALUE=URI;X-ADDRESS=Salle Cantarelle à Roquemaure Route de Nîmes Roquemaure Gard 30150 France;X-APPLE-RADIUS=500;X-TITLE=Route de Nîmes:geo:4.7598,44.0317172
END:VEVENT
BEGIN:VEVENT
DTSTART;TZID=Europe/Paris:20230108T150000
DTEND;TZID=Europe/Paris:20230108T180000
DTSTAMP:20260426T052847
CREATED:20230103T112650Z
LAST-MODIFIED:20241223T172511Z
UID:10000670-1673190000-1673200800@www.gard30.fr
SUMMARY:Loto à Roquemaure
DESCRIPTION:1 carton 4€\n4 cartons 12€\n10 cartons 20 €\nSalle des fêtes canterello\n6 cartons pleins et nombreuses quines
URL:https://www.gard30.fr/agenda/loto-a-roquemaure-2/
LOCATION:Salle Cantarelle à Roquemaure\, Route de Nîmes\, Roquemaure\, Gard\, 30150\, France
CATEGORIES:Loto
ATTACH;FMTTYPE=image/jpeg:https://www.gard30.fr/wp-content/uploads/2023/01/318203678_2423015891195338_7370230375953623044_n.jpg
ORGANIZER;CN="Stock Cars Club de Roquemaure":MAILTO:stockcarsroquemaure@hotmail.com
GEO:44.0317172;4.7598
X-APPLE-STRUCTURED-LOCATION;VALUE=URI;X-ADDRESS=Salle Cantarelle à Roquemaure Route de Nîmes Roquemaure Gard 30150 France;X-APPLE-RADIUS=500;X-TITLE=Route de Nîmes:geo:4.7598,44.0317172
END:VEVENT
BEGIN:VEVENT
DTSTART;TZID=Europe/Paris:20230107T180000
DTEND;TZID=Europe/Paris:20230107T205900
DTSTAMP:20260426T052847
CREATED:20230102T154307Z
LAST-MODIFIED:20230102T154307Z
UID:10000630-1673114400-1673125140@www.gard30.fr
SUMMARY:Loto à Roquemaure
DESCRIPTION:Organisé par le club taurin
URL:https://www.gard30.fr/agenda/loto-a-roquemaure/
LOCATION:Salle Cantarelle à Roquemaure\, Route de Nîmes\, Roquemaure\, Gard\, 30150\, France
CATEGORIES:Loto
GEO:44.0317172;4.7598
X-APPLE-STRUCTURED-LOCATION;VALUE=URI;X-ADDRESS=Salle Cantarelle à Roquemaure Route de Nîmes Roquemaure Gard 30150 France;X-APPLE-RADIUS=500;X-TITLE=Route de Nîmes:geo:4.7598,44.0317172
END:VEVENT
END:VCALENDAR