BEGIN:VCALENDAR
VERSION:2.0
PRODID:-//Gard 30 - ECPv6.15.20//NONSGML v1.0//EN
CALSCALE:GREGORIAN
METHOD:PUBLISH
X-WR-CALNAME:Gard 30
X-ORIGINAL-URL:https://www.gard30.fr
X-WR-CALDESC:Évènements pour Gard 30
REFRESH-INTERVAL;VALUE=DURATION:PT1H
X-Robots-Tag:noindex
X-PUBLISHED-TTL:PT1H
BEGIN:VTIMEZONE
TZID:Europe/Paris
BEGIN:DAYLIGHT
TZOFFSETFROM:+0100
TZOFFSETTO:+0200
TZNAME:CEST
DTSTART:20230326T010000
END:DAYLIGHT
BEGIN:STANDARD
TZOFFSETFROM:+0200
TZOFFSETTO:+0100
TZNAME:CET
DTSTART:20231029T010000
END:STANDARD
BEGIN:DAYLIGHT
TZOFFSETFROM:+0100
TZOFFSETTO:+0200
TZNAME:CEST
DTSTART:20240331T010000
END:DAYLIGHT
BEGIN:STANDARD
TZOFFSETFROM:+0200
TZOFFSETTO:+0100
TZNAME:CET
DTSTART:20241027T010000
END:STANDARD
BEGIN:DAYLIGHT
TZOFFSETFROM:+0100
TZOFFSETTO:+0200
TZNAME:CEST
DTSTART:20250330T010000
END:DAYLIGHT
BEGIN:STANDARD
TZOFFSETFROM:+0200
TZOFFSETTO:+0100
TZNAME:CET
DTSTART:20251026T010000
END:STANDARD
BEGIN:DAYLIGHT
TZOFFSETFROM:+0100
TZOFFSETTO:+0200
TZNAME:CEST
DTSTART:20260329T010000
END:DAYLIGHT
BEGIN:STANDARD
TZOFFSETFROM:+0200
TZOFFSETTO:+0100
TZNAME:CET
DTSTART:20261025T010000
END:STANDARD
BEGIN:DAYLIGHT
TZOFFSETFROM:+0100
TZOFFSETTO:+0200
TZNAME:CEST
DTSTART:20270328T010000
END:DAYLIGHT
BEGIN:STANDARD
TZOFFSETFROM:+0200
TZOFFSETTO:+0100
TZNAME:CET
DTSTART:20271031T010000
END:STANDARD
END:VTIMEZONE
BEGIN:VEVENT
DTSTART;TZID=Europe/Paris:20260208T140000
DTEND;TZID=Europe/Paris:20260208T170000
DTSTAMP:20260423T215304
CREATED:20260108T101756Z
LAST-MODIFIED:20260108T101756Z
UID:10004829-1770559200-1770570000@www.gard30.fr
SUMMARY:Loto à Saint-Étienne-des-Sorts
DESCRIPTION:Dimanche 8 Février 2026\n\n13h00 : Ouverture des portes 🎉\n14h00 : Début du loto 🐂\nTout au long de l’après-midi : Buvette et petite restauration 🍽️\nLots à gagner : Séjour à deux\, corbeilles garnies\, trancheuse électrique\, shampouineuse\, entrées parcs attractions\, spa massage\, corbeilles enfants 🎁
URL:https://www.gard30.fr/agenda/loto-a-saint-etienne-des-sorts-2/
LOCATION:Salle des fêtes de Saint-Etienne-des-Sorts\, Grand Rue 276\, Saint-Étienne-des-Sorts\, Gard\, 30200\, France
CATEGORIES:Loto
ATTACH;FMTTYPE=image/jpeg:https://www.gard30.fr/wp-content/uploads/2026/01/IMG_7192-1.jpg
GEO:44.1852985;4.7054858
X-APPLE-STRUCTURED-LOCATION;VALUE=URI;X-ADDRESS=Salle des fêtes de Saint-Etienne-des-Sorts Grand Rue 276 Saint-Étienne-des-Sorts Gard 30200 France;X-APPLE-RADIUS=500;X-TITLE=Grand Rue 276:geo:4.7054858,44.1852985
END:VEVENT
BEGIN:VEVENT
DTSTART;TZID=Europe/Paris:20250209T140000
DTEND;TZID=Europe/Paris:20250209T170000
DTSTAMP:20260423T215304
CREATED:20250122T163218Z
LAST-MODIFIED:20250122T163218Z
UID:10002945-1739109600-1739120400@www.gard30.fr
SUMMARY:Loto à Saint-Etienne des sorts
DESCRIPTION:Les premières quines seront pour les enfants \n2 € LE CARTON \n10 € LES 6 CARTONS \n20 € LES 12 CARTONS \n4 CARTONS PLEINS – 16 QUINES \n\nDes Entrées aux parcs\n1 Micro – Onde SAMSUNG\n1 Nuit avec jacuzzi\n1 Cafetière BOSCH\n1 Airfryer MOULINEX\nPlein d’autres surprises
URL:https://www.gard30.fr/agenda/loto-a-saint-etienne-des-sorts/
LOCATION:Salle des fêtes de Saint-Etienne-des-Sorts\, Grand Rue 276\, Saint-Étienne-des-Sorts\, Gard\, 30200\, France
CATEGORIES:Loto
ATTACH;FMTTYPE=image/jpeg:https://www.gard30.fr/wp-content/uploads/2025/01/1229FBB6-DBBA-44FE-8442-76ABF786DE88_1_201_a.jpeg
ORGANIZER;CN="Amicale La%C3%AFque %C3%A9cole les enfants du Rhone - Saint-Etienne-des-Sorts":MAILTO:amicale_seds@yahoo.fr
GEO:44.1852985;4.7054858
X-APPLE-STRUCTURED-LOCATION;VALUE=URI;X-ADDRESS=Salle des fêtes de Saint-Etienne-des-Sorts Grand Rue 276 Saint-Étienne-des-Sorts Gard 30200 France;X-APPLE-RADIUS=500;X-TITLE=Grand Rue 276:geo:4.7054858,44.1852985
END:VEVENT
BEGIN:VEVENT
DTSTART;TZID=Europe/Paris:20241110T140000
DTEND;TZID=Europe/Paris:20241110T170000
DTSTAMP:20260423T215304
CREATED:20241105T185227Z
LAST-MODIFIED:20241106T083914Z
UID:10002089-1731247200-1731258000@www.gard30.fr
SUMMARY:Grand loto à Saint-Etienne des sorts
DESCRIPTION:Dimanche 10 novembre \nGrand loto\nSALLE DES FÊTES\nquines\ndoubles quines\n2 cartons pleins à 150€\nfilets garnis\nbons d’achat\ndivers lots\ncarton – 3€\n6 cartons – 10€ \n 
URL:https://www.gard30.fr/agenda/grand-loto-a-saint-etienne-des-sorts/
LOCATION:Salle des fêtes de Saint-Etienne-des-Sorts\, Grand Rue 276\, Saint-Étienne-des-Sorts\, Gard\, 30200\, France
CATEGORIES:Loto
ATTACH;FMTTYPE=image/jpeg:https://www.gard30.fr/wp-content/uploads/2024/11/CE931ECA-084C-47B5-A854-CD2DC234C353_1_105_c.jpeg
ORGANIZER;CN="Zem Yoga de Pont-Saint-Esprit":MAILTO:zemyoga@hotmail.com
GEO:44.1852985;4.7054858
X-APPLE-STRUCTURED-LOCATION;VALUE=URI;X-ADDRESS=Salle des fêtes de Saint-Etienne-des-Sorts Grand Rue 276 Saint-Étienne-des-Sorts Gard 30200 France;X-APPLE-RADIUS=500;X-TITLE=Grand Rue 276:geo:4.7054858,44.1852985
END:VEVENT
END:VCALENDAR