BEGIN:VCALENDAR
VERSION:2.0
PRODID:-//Gard 30 - ECPv6.15.20//NONSGML v1.0//EN
CALSCALE:GREGORIAN
METHOD:PUBLISH
X-ORIGINAL-URL:https://www.gard30.fr
X-WR-CALDESC:Évènements pour Gard 30
REFRESH-INTERVAL;VALUE=DURATION:PT1H
X-Robots-Tag:noindex
X-PUBLISHED-TTL:PT1H
BEGIN:VTIMEZONE
TZID:Europe/Paris
BEGIN:DAYLIGHT
TZOFFSETFROM:+0100
TZOFFSETTO:+0200
TZNAME:CEST
DTSTART:20230326T010000
END:DAYLIGHT
BEGIN:STANDARD
TZOFFSETFROM:+0200
TZOFFSETTO:+0100
TZNAME:CET
DTSTART:20231029T010000
END:STANDARD
BEGIN:DAYLIGHT
TZOFFSETFROM:+0100
TZOFFSETTO:+0200
TZNAME:CEST
DTSTART:20240331T010000
END:DAYLIGHT
BEGIN:STANDARD
TZOFFSETFROM:+0200
TZOFFSETTO:+0100
TZNAME:CET
DTSTART:20241027T010000
END:STANDARD
BEGIN:DAYLIGHT
TZOFFSETFROM:+0100
TZOFFSETTO:+0200
TZNAME:CEST
DTSTART:20250330T010000
END:DAYLIGHT
BEGIN:STANDARD
TZOFFSETFROM:+0200
TZOFFSETTO:+0100
TZNAME:CET
DTSTART:20251026T010000
END:STANDARD
BEGIN:DAYLIGHT
TZOFFSETFROM:+0100
TZOFFSETTO:+0200
TZNAME:CEST
DTSTART:20260329T010000
END:DAYLIGHT
BEGIN:STANDARD
TZOFFSETFROM:+0200
TZOFFSETTO:+0100
TZNAME:CET
DTSTART:20261025T010000
END:STANDARD
END:VTIMEZONE
BEGIN:VEVENT
DTSTART;TZID=Europe/Paris:20250330T143000
DTEND;TZID=Europe/Paris:20250330T173000
DTSTAMP:20260425T200728
CREATED:20250311T122340Z
LAST-MODIFIED:20250311T122340Z
UID:10003336-1743345000-1743355800@www.gard30.fr
SUMMARY:Loto à Saint-Laurent-des-Arbres
DESCRIPTION:Loto à Saint-Laurent-des-Arbres le 20 mars à 14h30 \n\nRestauration\nBuvette\nNombreux lots\n\nVoyages / séjours\nConsole de jeu\nPack électroménagers\nBons d’achat\nRobot aspirateur\nOutillages\nPack entretien auto\nPanier garnis\n+ plein d’autres surprises\n\n\n8 parties\n\n16 quines\n8 cartons pleins
URL:https://www.gard30.fr/agenda/loto-a-saint-laurent-des-arbres/
LOCATION:Salle des fêtes Pierre Garcia de Saint-Laurent-des-Arbres\, Rue du Baron le Roy 87\, Saint-Laurent-des-Arbres\, Gard\, 30126\, France
CATEGORIES:Loto
ATTACH;FMTTYPE=image/jpeg:https://www.gard30.fr/wp-content/uploads/2025/03/F8145702-4C3B-4455-A7FC-29BBA43E11B4_1_105_c.jpeg
ORGANIZER;CN="Racing club de Saint-Laurent-des-Arbres":MAILTO:hziat30@gmail.com
GEO:44.0524195;4.6981935
X-APPLE-STRUCTURED-LOCATION;VALUE=URI;X-ADDRESS=Salle des fêtes Pierre Garcia de Saint-Laurent-des-Arbres Rue du Baron le Roy 87 Saint-Laurent-des-Arbres Gard 30126 France;X-APPLE-RADIUS=500;X-TITLE=Rue du Baron le Roy 87:geo:4.6981935,44.0524195
END:VEVENT
BEGIN:VEVENT
DTSTART;TZID=Europe/Paris:20241117T143000
DTEND;TZID=Europe/Paris:20241117T170000
DTSTAMP:20260425T200728
CREATED:20241107T075232Z
LAST-MODIFIED:20241107T075232Z
UID:10002115-1731853800-1731862800@www.gard30.fr
SUMMARY:Grand loto à Saint-Laurent-des-Arbres
DESCRIPTION:Dimanche 17 novembre \n14H30 GRAND LOTO au profit des RESTAURANTS DU COEUR\nSalle des Fêtes Pierre GARCIA\n4€ LE CARTON\n12€ LES 4 CARTONS\n20€ LES 9 CARTONS\nPANIERS GARNIS\nCAFETIERE DOLCE GUSTO\nLOTS DE VAISSELLE\nLOTS DE BRICOLAGE\nBONS D’ACHAT DE 100€\, 150 € et 300€\nNOMBREUX AUTRES LOTS
URL:https://www.gard30.fr/agenda/grand-loto-a-saint-laurent-des-arbres/
LOCATION:Salle des fêtes Pierre Garcia de Saint-Laurent-des-Arbres\, Rue du Baron le Roy 87\, Saint-Laurent-des-Arbres\, Gard\, 30126\, France
CATEGORIES:Loto
ATTACH;FMTTYPE=image/jpeg:https://www.gard30.fr/wp-content/uploads/2024/11/9CEEEE72-B664-4D4D-9706-CBCBF38757EA_1_105_c.jpeg
GEO:44.0524195;4.6981935
X-APPLE-STRUCTURED-LOCATION;VALUE=URI;X-ADDRESS=Salle des fêtes Pierre Garcia de Saint-Laurent-des-Arbres Rue du Baron le Roy 87 Saint-Laurent-des-Arbres Gard 30126 France;X-APPLE-RADIUS=500;X-TITLE=Rue du Baron le Roy 87:geo:4.6981935,44.0524195
END:VEVENT
END:VCALENDAR