BEGIN:VCALENDAR
VERSION:2.0
PRODID:-//Gard 30 - ECPv6.15.20//NONSGML v1.0//EN
CALSCALE:GREGORIAN
METHOD:PUBLISH
X-WR-CALNAME:Gard 30
X-ORIGINAL-URL:https://www.gard30.fr
X-WR-CALDESC:Évènements pour Gard 30
REFRESH-INTERVAL;VALUE=DURATION:PT1H
X-Robots-Tag:noindex
X-PUBLISHED-TTL:PT1H
BEGIN:VTIMEZONE
TZID:Europe/Paris
BEGIN:DAYLIGHT
TZOFFSETFROM:+0100
TZOFFSETTO:+0200
TZNAME:CEST
DTSTART:20220327T010000
END:DAYLIGHT
BEGIN:STANDARD
TZOFFSETFROM:+0200
TZOFFSETTO:+0100
TZNAME:CET
DTSTART:20221030T010000
END:STANDARD
BEGIN:DAYLIGHT
TZOFFSETFROM:+0100
TZOFFSETTO:+0200
TZNAME:CEST
DTSTART:20230326T010000
END:DAYLIGHT
BEGIN:STANDARD
TZOFFSETFROM:+0200
TZOFFSETTO:+0100
TZNAME:CET
DTSTART:20231029T010000
END:STANDARD
BEGIN:DAYLIGHT
TZOFFSETFROM:+0100
TZOFFSETTO:+0200
TZNAME:CEST
DTSTART:20240331T010000
END:DAYLIGHT
BEGIN:STANDARD
TZOFFSETFROM:+0200
TZOFFSETTO:+0100
TZNAME:CET
DTSTART:20241027T010000
END:STANDARD
BEGIN:DAYLIGHT
TZOFFSETFROM:+0100
TZOFFSETTO:+0200
TZNAME:CEST
DTSTART:20250330T010000
END:DAYLIGHT
BEGIN:STANDARD
TZOFFSETFROM:+0200
TZOFFSETTO:+0100
TZNAME:CET
DTSTART:20251026T010000
END:STANDARD
END:VTIMEZONE
BEGIN:VEVENT
DTSTART;TZID=Europe/Paris:20241117T150000
DTEND;TZID=Europe/Paris:20241117T180000
DTSTAMP:20260423T124928
CREATED:20241114T214113Z
LAST-MODIFIED:20241115T085723Z
UID:10002328-1731855600-1731866400@www.gard30.fr
SUMMARY:Loto à Ribaute les Tavernes
DESCRIPTION:Loto à Ribaute les Tavernes le dimanche 17 novembre à 15h\, salle des vignes \n\n30 quines à 30€\n10 double quines à 40€\n1 carton plein à 300€\n2 cartons pleins 200€\n2 cartons pleins à 150€\n5 cartons pleins à 130€\n20€ la planche de 24\n18€ la planche de 18\n15€ la planche de 12\nPack jeux simple : 10€\nPack jeux doubles : 13€\n\nBingo à 14h45
URL:https://www.gard30.fr/agenda/loto-a-ribaute-les-tavernes-4/
LOCATION:Salle des vignes Ribaute-les-Tavernes\, Chemin d'Alès\, Ribaute-les-Tavernes\, Gard\, 30720\, France
CATEGORIES:Loto
ATTACH;FMTTYPE=image/jpeg:https://www.gard30.fr/wp-content/uploads/2024/11/465570325_1032368755361599_8490567600753563662_n.jpg
GEO:44.0532094;4.0902335
X-APPLE-STRUCTURED-LOCATION;VALUE=URI;X-ADDRESS=Salle des vignes Ribaute-les-Tavernes Chemin d'Alès Ribaute-les-Tavernes Gard 30720 France;X-APPLE-RADIUS=500;X-TITLE=Chemin d'Alès:geo:4.0902335,44.0532094
END:VEVENT
BEGIN:VEVENT
DTSTART;TZID=Europe/Paris:20241116T210000
DTEND;TZID=Europe/Paris:20241116T233000
DTSTAMP:20260423T124928
CREATED:20241114T213409Z
LAST-MODIFIED:20241114T213409Z
UID:10002327-1731790800-1731799800@www.gard30.fr
SUMMARY:Loto à Ribaute les Tavernes
DESCRIPTION:Loto à Ribaute les Tavernes le samedi 16 novembre 2024\, à 21h\, salle des vignes \n\n30 quines à 30€\n10 double quines à 40€\n1 carton plein à 200€\n1 carton plein à 150€\n1 carton plein à 130€\n7 cartons pleins à 100€\nPlanche aux choix 12\, 18 ou 24 : 15€\nPack jeux 10€\nPack jeux double 13€
URL:https://www.gard30.fr/agenda/loto-a-ribaute-les-tavernes-3/
LOCATION:Salle des vignes Ribaute-les-Tavernes\, Chemin d'Alès\, Ribaute-les-Tavernes\, Gard\, 30720\, France
CATEGORIES:Loto
ATTACH;FMTTYPE=image/jpeg:https://www.gard30.fr/wp-content/uploads/2024/11/465916492_1032368632028278_4946775264454675178_n.jpg
GEO:44.0532094;4.0902335
X-APPLE-STRUCTURED-LOCATION;VALUE=URI;X-ADDRESS=Salle des vignes Ribaute-les-Tavernes Chemin d'Alès Ribaute-les-Tavernes Gard 30720 France;X-APPLE-RADIUS=500;X-TITLE=Chemin d'Alès:geo:4.0902335,44.0532094
END:VEVENT
BEGIN:VEVENT
DTSTART;TZID=Europe/Paris:20241115T210000
DTEND;TZID=Europe/Paris:20241115T233000
DTSTAMP:20260423T124928
CREATED:20241114T212951Z
LAST-MODIFIED:20241114T213749Z
UID:10002326-1731704400-1731713400@www.gard30.fr
SUMMARY:Loto à Ribaute les Tavernes
DESCRIPTION:Loto à Ribaute les Tavernes le vendredi 15 novembre à 21h\, salle des vignes \n\n30 quines à 30€\n10 doubles quines à 40€\n2 cartons pleins à 200€\n2 cartons pleins à 150€\n4 cartons pleins à 130€\n2 cartons pleins à 100€\n20€ la planche de 24\n18€ la planche de 18\n15€ la planche de 12\nPack de jeux simple : 10€\nPack de jeux double : 13€
URL:https://www.gard30.fr/agenda/loto-a-ribaute-les-tavernes-2/
LOCATION:Salle des vignes Ribaute-les-Tavernes\, Chemin d'Alès\, Ribaute-les-Tavernes\, Gard\, 30720\, France
CATEGORIES:Loto
ATTACH;FMTTYPE=image/jpeg:https://www.gard30.fr/wp-content/uploads/2024/11/465909790_1032368398694968_5434847876552938969_n.jpg
GEO:44.0532094;4.0902335
X-APPLE-STRUCTURED-LOCATION;VALUE=URI;X-ADDRESS=Salle des vignes Ribaute-les-Tavernes Chemin d'Alès Ribaute-les-Tavernes Gard 30720 France;X-APPLE-RADIUS=500;X-TITLE=Chemin d'Alès:geo:4.0902335,44.0532094
END:VEVENT
BEGIN:VEVENT
DTSTART;TZID=Europe/Paris:20230106T210000
DTEND;TZID=Europe/Paris:20230106T233000
DTSTAMP:20260423T124928
CREATED:20230106T092419Z
LAST-MODIFIED:20230106T092419Z
UID:10000680-1673038800-1673047800@www.gard30.fr
SUMMARY:Loto à Ribaute-les-Tavernes
DESCRIPTION:30 quines à 30 €\n10 double quines à 40€\nPlanche + pack jeux : 25 €\nPlanche 24 : 18 €\n1 carton plein à 200 €\n1 carton plein à 150 €\n2 cartons pleins à 130 €\n6 cartons pleins à 100 €
URL:https://www.gard30.fr/agenda/loto-a-ribaute-les-tavernes/
LOCATION:Salle des vignes Ribaute-les-Tavernes\, Chemin d'Alès\, Ribaute-les-Tavernes\, Gard\, 30720\, France
CATEGORIES:Loto
ATTACH;FMTTYPE=image/jpeg:https://www.gard30.fr/wp-content/uploads/2023/01/IMG-6482.jpg
GEO:44.0532094;4.0902335
X-APPLE-STRUCTURED-LOCATION;VALUE=URI;X-ADDRESS=Salle des vignes Ribaute-les-Tavernes Chemin d'Alès Ribaute-les-Tavernes Gard 30720 France;X-APPLE-RADIUS=500;X-TITLE=Chemin d'Alès:geo:4.0902335,44.0532094
END:VEVENT
END:VCALENDAR