BEGIN:VCALENDAR
VERSION:2.0
PRODID:-//Gard 30 - ECPv6.15.20//NONSGML v1.0//EN
CALSCALE:GREGORIAN
METHOD:PUBLISH
X-ORIGINAL-URL:https://www.gard30.fr
X-WR-CALDESC:Évènements pour Gard 30
REFRESH-INTERVAL;VALUE=DURATION:PT1H
X-Robots-Tag:noindex
X-PUBLISHED-TTL:PT1H
BEGIN:VTIMEZONE
TZID:Europe/Paris
BEGIN:DAYLIGHT
TZOFFSETFROM:+0100
TZOFFSETTO:+0200
TZNAME:CEST
DTSTART:20240331T010000
END:DAYLIGHT
BEGIN:STANDARD
TZOFFSETFROM:+0200
TZOFFSETTO:+0100
TZNAME:CET
DTSTART:20241027T010000
END:STANDARD
BEGIN:DAYLIGHT
TZOFFSETFROM:+0100
TZOFFSETTO:+0200
TZNAME:CEST
DTSTART:20250330T010000
END:DAYLIGHT
BEGIN:STANDARD
TZOFFSETFROM:+0200
TZOFFSETTO:+0100
TZNAME:CET
DTSTART:20251026T010000
END:STANDARD
BEGIN:DAYLIGHT
TZOFFSETFROM:+0100
TZOFFSETTO:+0200
TZNAME:CEST
DTSTART:20260329T010000
END:DAYLIGHT
BEGIN:STANDARD
TZOFFSETFROM:+0200
TZOFFSETTO:+0100
TZNAME:CET
DTSTART:20261025T010000
END:STANDARD
END:VTIMEZONE
BEGIN:VEVENT
DTSTART;TZID=Europe/Paris:20251102T150000
DTEND;TZID=Europe/Paris:20251102T180000
DTSTAMP:20260425T235018
CREATED:20251031T081902Z
LAST-MODIFIED:20251031T081902Z
UID:10004551-1762095600-1762106400@www.gard30.fr
SUMMARY:Loto à Sommières
DESCRIPTION:Dimanche 2 novembre 2025\n15h00 : 🎉 Début du Super Loto \n\n🎁 Lots surprises à gagner\n🛍️ Bons d’achat\n🎟️ Tombola\n📋 Mini planche\n🍻 Buvette sur place
URL:https://www.gard30.fr/agenda/loto-a-sommieres-5/
LOCATION:Salle du jumelage à Sommières\, 3 bis rue abbé Fabre\, Sommieres\, Gard\, 30250\, France
CATEGORIES:Loto
ATTACH;FMTTYPE=image/jpeg:https://www.gard30.fr/wp-content/uploads/2025/10/1C07C775-1C7C-4B95-B170-EF1D7EDAB5F3_1_105_c-1.jpeg
ORGANIZER;CN="Jumelage Sommi%C3%A8res / Callosa de Segura":MAILTO:juanito302010@hotmail.fr
GEO:43.7842148;4.0882545
X-APPLE-STRUCTURED-LOCATION;VALUE=URI;X-ADDRESS=Salle du jumelage à Sommières 3 bis rue abbé Fabre Sommieres Gard 30250 France;X-APPLE-RADIUS=500;X-TITLE=3 bis rue abbé Fabre:geo:4.0882545,43.7842148
END:VEVENT
BEGIN:VEVENT
DTSTART;TZID=Europe/Paris:20250323T150000
DTEND;TZID=Europe/Paris:20250323T180000
DTSTAMP:20260425T235018
CREATED:20250310T125342Z
LAST-MODIFIED:20250310T125342Z
UID:10003293-1742742000-1742752800@www.gard30.fr
SUMMARY:Loto à Sommières
DESCRIPTION:Loto à Sommières le 23 mars à 15h \n\n5 quines\n5 double quines\n5 carton pleins\nSurprise\n1 partie Mini planche\nTombola\nBons d’achat et de nombreuses surprises !\nBuvette (boissons\, sucrés et salés) sur place\n10€ les 6 cartons
URL:https://www.gard30.fr/agenda/loto-a-sommieres-2/
LOCATION:Salle du jumelage à Sommières\, 3 bis rue abbé Fabre\, Sommieres\, Gard\, 30250\, France
CATEGORIES:Loto
ATTACH;FMTTYPE=image/jpeg:https://www.gard30.fr/wp-content/uploads/2025/03/E9E6F236-7869-44F9-A7A3-0038FC9EA13B.jpeg
ORGANIZER;CN="Jumelage Sommi%C3%A8res / Callosa de Segura":MAILTO:juanito302010@hotmail.fr
GEO:43.7842148;4.0882545
X-APPLE-STRUCTURED-LOCATION;VALUE=URI;X-ADDRESS=Salle du jumelage à Sommières 3 bis rue abbé Fabre Sommieres Gard 30250 France;X-APPLE-RADIUS=500;X-TITLE=3 bis rue abbé Fabre:geo:4.0882545,43.7842148
END:VEVENT
BEGIN:VEVENT
DTSTART;TZID=Europe/Paris:20250126T150000
DTEND;TZID=Europe/Paris:20250126T180000
DTSTAMP:20260425T235018
CREATED:20250120T081731Z
LAST-MODIFIED:20250120T081731Z
UID:10002898-1737903600-1737914400@www.gard30.fr
SUMMARY:Loto à Sommières
DESCRIPTION:16 PARTIES\nBons d’achats 30-50-80-100-150 euros\nSURPRISES\n10 € les 6 CARTONS\n20 € les 13 CARTONS
URL:https://www.gard30.fr/agenda/loto-a-sommieres/
LOCATION:Salle du jumelage à Sommières\, 3 bis rue abbé Fabre\, Sommieres\, Gard\, 30250\, France
CATEGORIES:Loto
ATTACH;FMTTYPE=image/jpeg:https://www.gard30.fr/wp-content/uploads/2025/01/87C898F2-A094-48C7-98EF-5C49E549A4C5_1_201_a.jpeg
ORGANIZER;CN="Jumelage Sommi%C3%A8res / Callosa de Segura":MAILTO:juanito302010@hotmail.fr
GEO:43.7842148;4.0882545
X-APPLE-STRUCTURED-LOCATION;VALUE=URI;X-ADDRESS=Salle du jumelage à Sommières 3 bis rue abbé Fabre Sommieres Gard 30250 France;X-APPLE-RADIUS=500;X-TITLE=3 bis rue abbé Fabre:geo:4.0882545,43.7842148
END:VEVENT
END:VCALENDAR