BEGIN:VCALENDAR
VERSION:2.0
PRODID:-//Gard 30 - ECPv6.15.20//NONSGML v1.0//EN
CALSCALE:GREGORIAN
METHOD:PUBLISH
X-WR-CALNAME:Gard 30
X-ORIGINAL-URL:https://www.gard30.fr
X-WR-CALDESC:Évènements pour Gard 30
REFRESH-INTERVAL;VALUE=DURATION:PT1H
X-Robots-Tag:noindex
X-PUBLISHED-TTL:PT1H
BEGIN:VTIMEZONE
TZID:Europe/Paris
BEGIN:DAYLIGHT
TZOFFSETFROM:+0100
TZOFFSETTO:+0200
TZNAME:CEST
DTSTART:20230326T010000
END:DAYLIGHT
BEGIN:STANDARD
TZOFFSETFROM:+0200
TZOFFSETTO:+0100
TZNAME:CET
DTSTART:20231029T010000
END:STANDARD
BEGIN:DAYLIGHT
TZOFFSETFROM:+0100
TZOFFSETTO:+0200
TZNAME:CEST
DTSTART:20240331T010000
END:DAYLIGHT
BEGIN:STANDARD
TZOFFSETFROM:+0200
TZOFFSETTO:+0100
TZNAME:CET
DTSTART:20241027T010000
END:STANDARD
BEGIN:DAYLIGHT
TZOFFSETFROM:+0100
TZOFFSETTO:+0200
TZNAME:CEST
DTSTART:20250330T010000
END:DAYLIGHT
BEGIN:STANDARD
TZOFFSETFROM:+0200
TZOFFSETTO:+0100
TZNAME:CET
DTSTART:20251026T010000
END:STANDARD
BEGIN:DAYLIGHT
TZOFFSETFROM:+0100
TZOFFSETTO:+0200
TZNAME:CEST
DTSTART:20260329T010000
END:DAYLIGHT
BEGIN:STANDARD
TZOFFSETFROM:+0200
TZOFFSETTO:+0100
TZNAME:CET
DTSTART:20261025T010000
END:STANDARD
BEGIN:DAYLIGHT
TZOFFSETFROM:+0100
TZOFFSETTO:+0200
TZNAME:CEST
DTSTART:20270328T010000
END:DAYLIGHT
BEGIN:STANDARD
TZOFFSETFROM:+0200
TZOFFSETTO:+0100
TZNAME:CET
DTSTART:20271031T010000
END:STANDARD
END:VTIMEZONE
BEGIN:VEVENT
DTSTART;TZID=Europe/Paris:20260207T170000
DTEND;TZID=Europe/Paris:20260207T200000
DTSTAMP:20260423T100625
CREATED:20260202T075847Z
LAST-MODIFIED:20260202T075847Z
UID:10004950-1770483600-1770494400@www.gard30.fr
SUMMARY:Loto à Robiac - Rochessadoule
DESCRIPTION:Samedi 7 Février 2026\n\n17h00 : Début du Loto 🎉\nDe nombreux lots à gagner lors de la grande tombola 🎁\n15 quines à remporter 🐂\n3 cartons pleins 🎵\n1 avant quine 🍽️\nBuvette & petites gourmandises salées et sucrées disponibles 🍬
URL:https://www.gard30.fr/agenda/loto-a-robiac-rochessadoule-3/
LOCATION:Salle du moulin à Robiac-Rochessadoule\, Robiac-Rochessadoule\, Gard\, 30160\, France
CATEGORIES:Loto
ATTACH;FMTTYPE=image/jpeg:https://www.gard30.fr/wp-content/uploads/2026/02/0BA5CA3D-4138-48C9-901A-7ADC375FC392_1_105_c-1.jpeg
END:VEVENT
BEGIN:VEVENT
DTSTART;TZID=Europe/Paris:20250208T170000
DTEND;TZID=Europe/Paris:20250208T200000
DTSTAMP:20260423T100625
CREATED:20250122T162706Z
LAST-MODIFIED:20250122T162706Z
UID:10002943-1739034000-1739044800@www.gard30.fr
SUMMARY:Loto à Robiac-Rochessadoule
DESCRIPTION:AVANT QUINE CARTON PLEIN \n15 QUINES \n3 CARTONS PLEINS \nTOMBOLA \n1 QUINE CARTON VIDE
URL:https://www.gard30.fr/agenda/loto-a-robiac-rochessadoule-2/
LOCATION:Salle du moulin à Robiac-Rochessadoule\, Robiac-Rochessadoule\, Gard\, 30160\, France
CATEGORIES:Loto
ATTACH;FMTTYPE=image/jpeg:https://www.gard30.fr/wp-content/uploads/2025/01/13A54990-1C55-47E3-87A5-691C7524BABA_1_105_c.jpeg
ORGANIZER;CN="Moto Cyclo Side Cevenol de Robiac":MAILTO:motocezeinfos@gmail.com
END:VEVENT
BEGIN:VEVENT
DTSTART;TZID=Europe/Paris:20241207T170000
DTEND;TZID=Europe/Paris:20241207T200000
DTSTAMP:20260423T100625
CREATED:20241125T101706Z
LAST-MODIFIED:20241125T101706Z
UID:10002512-1733590800-1733601600@www.gard30.fr
SUMMARY:Loto à Robiac-Rochessadoule
DESCRIPTION:Samedi 7 décembre \n17H00 : LOTO\nSALLE DU MOULIN\nAVANT QUINE\nCARTON PLEIN\n15 QUINES\n3 CARTONS PLEINS\nTOMBOLA\n1 QUINE CARTON VIDE\nBUVETTE
URL:https://www.gard30.fr/agenda/loto-a-robiac-rochessadoule/
LOCATION:Salle du moulin à Robiac-Rochessadoule\, Robiac-Rochessadoule\, Gard\, 30160\, France
CATEGORIES:Loto
ATTACH;FMTTYPE=image/jpeg:https://www.gard30.fr/wp-content/uploads/2024/11/952118E2-42BF-4094-A1AA-43B8E5239D83_1_105_c.jpeg
ORGANIZER;CN="Moto Cyclo Side Cevenol de Robiac":MAILTO:motocezeinfos@gmail.com
END:VEVENT
BEGIN:VEVENT
DTSTART;TZID=Europe/Paris:20241130T080000
DTEND;TZID=Europe/Paris:20241130T200000
DTSTAMP:20260423T100625
CREATED:20241125T101711Z
LAST-MODIFIED:20241125T101711Z
UID:10002507-1732953600-1732996800@www.gard30.fr
SUMMARY:Marché de Noël à Robiac-Rochessadoule
DESCRIPTION:Samedi 30 novembre \nA PARTIR DE 10H :\nBAPTÊMES EN SIDE CAR (AU PROFIT  DU SOU DES ECOLES)\nEXPOSITION\nMOTOS – MOBYLETTES – SIDE CAR COURS \nDe 8h à 16h : Marché de Noël\nMarché artisanal – Vide grenier animé far la fanfare “Malaigue d’or” (07 8215 43 37 – réservation)\nExpo motos – mobylettes\nBalade en side-car pour les enfants\nVenue du Père-Noël \nà partir de 10h dégustation d’huitres \nREPAS à 12h (06 59 22 68 21 – réservation)\nAligot\nSoupe de courge\nDessert\n18€ \nLoto à 17h\nAvant quines\n15 quines\nCartons pleins\nCagnotte \n  \n 
URL:https://www.gard30.fr/agenda/marche-de-noel-a-robiac-rochessadoule/
LOCATION:Salle du moulin à Robiac-Rochessadoule\, Robiac-Rochessadoule\, Gard\, 30160\, France
CATEGORIES:Marchés de Noël
ATTACH;FMTTYPE=image/jpeg:https://www.gard30.fr/wp-content/uploads/2024/11/8C5BA8C6-0292-4E96-8C90-0BCE3622A1F8_1_105_c.jpeg
ORGANIZER;CN="Moto Cyclo Side Cevenol de Robiac":MAILTO:motocezeinfos@gmail.com
END:VEVENT
END:VCALENDAR