BEGIN:VCALENDAR
VERSION:2.0
PRODID:-//Gard 30 - ECPv6.15.20//NONSGML v1.0//EN
CALSCALE:GREGORIAN
METHOD:PUBLISH
X-WR-CALNAME:Gard 30
X-ORIGINAL-URL:https://www.gard30.fr
X-WR-CALDESC:Évènements pour Gard 30
REFRESH-INTERVAL;VALUE=DURATION:PT1H
X-Robots-Tag:noindex
X-PUBLISHED-TTL:PT1H
BEGIN:VTIMEZONE
TZID:Europe/Paris
BEGIN:DAYLIGHT
TZOFFSETFROM:+0100
TZOFFSETTO:+0200
TZNAME:CEST
DTSTART:20220327T010000
END:DAYLIGHT
BEGIN:STANDARD
TZOFFSETFROM:+0200
TZOFFSETTO:+0100
TZNAME:CET
DTSTART:20221030T010000
END:STANDARD
BEGIN:DAYLIGHT
TZOFFSETFROM:+0100
TZOFFSETTO:+0200
TZNAME:CEST
DTSTART:20230326T010000
END:DAYLIGHT
BEGIN:STANDARD
TZOFFSETFROM:+0200
TZOFFSETTO:+0100
TZNAME:CET
DTSTART:20231029T010000
END:STANDARD
BEGIN:DAYLIGHT
TZOFFSETFROM:+0100
TZOFFSETTO:+0200
TZNAME:CEST
DTSTART:20240331T010000
END:DAYLIGHT
BEGIN:STANDARD
TZOFFSETFROM:+0200
TZOFFSETTO:+0100
TZNAME:CET
DTSTART:20241027T010000
END:STANDARD
BEGIN:DAYLIGHT
TZOFFSETFROM:+0100
TZOFFSETTO:+0200
TZNAME:CEST
DTSTART:20250330T010000
END:DAYLIGHT
BEGIN:STANDARD
TZOFFSETFROM:+0200
TZOFFSETTO:+0100
TZNAME:CET
DTSTART:20251026T010000
END:STANDARD
BEGIN:DAYLIGHT
TZOFFSETFROM:+0100
TZOFFSETTO:+0200
TZNAME:CEST
DTSTART:20260329T010000
END:DAYLIGHT
BEGIN:STANDARD
TZOFFSETFROM:+0200
TZOFFSETTO:+0100
TZNAME:CET
DTSTART:20261025T010000
END:STANDARD
BEGIN:DAYLIGHT
TZOFFSETFROM:+0100
TZOFFSETTO:+0200
TZNAME:CEST
DTSTART:20270328T010000
END:DAYLIGHT
BEGIN:STANDARD
TZOFFSETFROM:+0200
TZOFFSETTO:+0100
TZNAME:CET
DTSTART:20271031T010000
END:STANDARD
END:VTIMEZONE
BEGIN:VEVENT
DTSTART;TZID=Europe/Paris:20260201T153000
DTEND;TZID=Europe/Paris:20260201T183000
DTSTAMP:20260421T100625
CREATED:20260121T083113Z
LAST-MODIFIED:20260121T083113Z
UID:10004892-1769959800-1769970600@www.gard30.fr
SUMMARY:Loto à Saint-Ambroix
DESCRIPTION:Dimanche 1er Février 2026\n\n14h00 : Ouverture des portes 🎉\n15h30 : Début du Loto 🐂\nTout au long de l’événement : Buvette et restauration sur place 🍽️
URL:https://www.gard30.fr/agenda/loto-a-saint-ambroix-13/
LOCATION:Salle du tremplin – Saint Ambroix\, Rue de l'Esplanade\, Saint-Ambroix\, Gard\, 30500\, France
CATEGORIES:Loto
ATTACH;FMTTYPE=image/jpeg:https://www.gard30.fr/wp-content/uploads/2026/01/IMG_7456-1.jpg
ORGANIZER;CN="Amicale Sapeurs Pompiers Saint-Ambroix":MAILTO:amicalepompiersambroix@orange.fr
GEO:44.259519;4.196614
X-APPLE-STRUCTURED-LOCATION;VALUE=URI;X-ADDRESS=Salle du tremplin – Saint Ambroix Rue de l'Esplanade Saint-Ambroix Gard 30500 France;X-APPLE-RADIUS=500;X-TITLE=Rue de l'Esplanade:geo:4.196614,44.259519
END:VEVENT
BEGIN:VEVENT
DTSTART;TZID=Europe/Paris:20251207T153000
DTEND;TZID=Europe/Paris:20251207T183000
DTSTAMP:20260421T100625
CREATED:20251203T210953Z
LAST-MODIFIED:20251203T210953Z
UID:10004777-1765121400-1765132200@www.gard30.fr
SUMMARY:Loto à Saint-Ambroix
DESCRIPTION:Dimanche 7 décembre\n\n14h00 : Ouverture des portes 🎉\n15h30 : Début du loto 🐂\nAvant-Quine : 2€ le carton\, 5€ les 3 🎟️\n20 Quines : Nombreux lots à gagner 🎁\nCarton plein : Gagnez le gros lot 🎉\nSurprise finale : Ne manquez pas la surprise 🎊\nVente de crêpes et buvette disponibles 🍽️
URL:https://www.gard30.fr/agenda/loto-a-saint-ambroix-12/
LOCATION:Salle du tremplin – Saint Ambroix\, Rue de l'Esplanade\, Saint-Ambroix\, Gard\, 30500\, France
CATEGORIES:Loto
ATTACH;FMTTYPE=image/jpeg:https://www.gard30.fr/wp-content/uploads/2025/12/A176D235-E84A-4936-8590-88A56D25A56C_1_105_c-1.jpeg
GEO:44.259519;4.196614
X-APPLE-STRUCTURED-LOCATION;VALUE=URI;X-ADDRESS=Salle du tremplin – Saint Ambroix Rue de l'Esplanade Saint-Ambroix Gard 30500 France;X-APPLE-RADIUS=500;X-TITLE=Rue de l'Esplanade:geo:4.196614,44.259519
END:VEVENT
BEGIN:VEVENT
DTSTART;TZID=Europe/Paris:20251116T153000
DTEND;TZID=Europe/Paris:20251116T183000
DTSTAMP:20260421T100625
CREATED:20251113T133859Z
LAST-MODIFIED:20251113T133859Z
UID:10004642-1763307000-1763317800@www.gard30.fr
SUMMARY:Loto à Saint-Ambroix
DESCRIPTION:Dimanche 16 novembre 2025\n\n15h30 : Début du Loto 🎉\nNombreux lots à gagner : Paniers garnis\, vins\, bons d’achat\, … 🎁\nPrix des cartons : 2€ le carton (avant Quine) / 10€ les 6 / 18€ les 12
URL:https://www.gard30.fr/agenda/loto-a-saint-ambroix-11/
LOCATION:Salle du tremplin – Saint Ambroix\, Rue de l'Esplanade\, Saint-Ambroix\, Gard\, 30500\, France
CATEGORIES:Loto
ATTACH;FMTTYPE=image/jpeg:https://www.gard30.fr/wp-content/uploads/2025/11/IMG_6032-1.jpg
ORGANIZER;CN="Comit%C3%A9 d'animation Le Moulinet de Saint-Ambroix":MAILTO:szeteifrancoise@gmail.com
GEO:44.259519;4.196614
X-APPLE-STRUCTURED-LOCATION;VALUE=URI;X-ADDRESS=Salle du tremplin – Saint Ambroix Rue de l'Esplanade Saint-Ambroix Gard 30500 France;X-APPLE-RADIUS=500;X-TITLE=Rue de l'Esplanade:geo:4.196614,44.259519
END:VEVENT
BEGIN:VEVENT
DTSTART;TZID=Europe/Paris:20251026T153000
DTEND;TZID=Europe/Paris:20251026T183000
DTSTAMP:20260421T100625
CREATED:20251020T071810Z
LAST-MODIFIED:20251020T071810Z
UID:10004514-1761492600-1761503400@www.gard30.fr
SUMMARY:Loto à Saint-Ambroix
DESCRIPTION:Dimanche 26 octobre\n\n14h00 : Ouverture des portes 🔑\n15h30 : Début du Grand Loto 🎉\n🗒️ 30 Quines à gagner\n🎟️ 10 Cartons pleins\n🎁 1 Partie en enveloppe (Valeur 500€)\n🍽️ Petite restauration sur place
URL:https://www.gard30.fr/agenda/loto-a-saint-ambroix-10/
LOCATION:Salle du tremplin – Saint Ambroix\, Rue de l'Esplanade\, Saint-Ambroix\, Gard\, 30500\, France
CATEGORIES:Loto
ATTACH;FMTTYPE=image/jpeg:https://www.gard30.fr/wp-content/uploads/2025/10/5051576E-A18E-47B3-8310-2B6C78D554B1_1_105_c-1.jpeg
GEO:44.259519;4.196614
X-APPLE-STRUCTURED-LOCATION;VALUE=URI;X-ADDRESS=Salle du tremplin – Saint Ambroix Rue de l'Esplanade Saint-Ambroix Gard 30500 France;X-APPLE-RADIUS=500;X-TITLE=Rue de l'Esplanade:geo:4.196614,44.259519
END:VEVENT
BEGIN:VEVENT
DTSTART;TZID=Europe/Paris:20250309T160000
DTEND;TZID=Europe/Paris:20250309T190000
DTSTAMP:20260421T100625
CREATED:20250307T211634Z
LAST-MODIFIED:20250307T211634Z
UID:10003258-1741536000-1741546800@www.gard30.fr
SUMMARY:Loto à Saint-Ambroix
DESCRIPTION:De Nombreuses quines à gagner \n(Bons d’achats\, rosette\, cave à vin …) \n1 Avant quine \n1 Carton plein \nLes Bénéfices de la journée vont directement au profit des résidents de la Maison de Retraite de
URL:https://www.gard30.fr/agenda/loto-a-saint-ambroix-8/
LOCATION:Salle du tremplin – Saint Ambroix\, Rue de l'Esplanade\, Saint-Ambroix\, Gard\, 30500\, France
CATEGORIES:Loto
ATTACH;FMTTYPE=image/jpeg:https://www.gard30.fr/wp-content/uploads/2025/03/13703B91-778B-4D9A-8A49-35D07E266557.jpeg
ORGANIZER;CN="Au fil du temps - Saint-Ambroix":MAILTO:s.hermet@mrsa.fr
GEO:44.259519;4.196614
X-APPLE-STRUCTURED-LOCATION;VALUE=URI;X-ADDRESS=Salle du tremplin – Saint Ambroix Rue de l'Esplanade Saint-Ambroix Gard 30500 France;X-APPLE-RADIUS=500;X-TITLE=Rue de l'Esplanade:geo:4.196614,44.259519
END:VEVENT
BEGIN:VEVENT
DTSTART;TZID=Europe/Paris:20250119T153000
DTEND;TZID=Europe/Paris:20250119T183000
DTSTAMP:20260421T100625
CREATED:20250107T152424Z
LAST-MODIFIED:20250107T152424Z
UID:10002800-1737300600-1737311400@www.gard30.fr
SUMMARY:Loto à Saint-Ambroix
DESCRIPTION:Dimanche 19 janvier 2025 \n15H30 : LOTO CARITATIF\n1 avant-quine\n20 quines\n4 cartons pleins
URL:https://www.gard30.fr/agenda/loto-a-saint-ambroix-7/
LOCATION:Salle du tremplin – Saint Ambroix\, Rue de l'Esplanade\, Saint-Ambroix\, Gard\, 30500\, France
CATEGORIES:Loto
ATTACH;FMTTYPE=image/png:https://www.gard30.fr/wp-content/uploads/2025/01/F2453134-0521-4DE1-82AE-A2BF1E9F6649.png
ORGANIZER;CN="Lions Club Hautes C%C3%A9vennes":MAILTO:j.delaroque@laposte.net
GEO:44.259519;4.196614
X-APPLE-STRUCTURED-LOCATION;VALUE=URI;X-ADDRESS=Salle du tremplin – Saint Ambroix Rue de l'Esplanade Saint-Ambroix Gard 30500 France;X-APPLE-RADIUS=500;X-TITLE=Rue de l'Esplanade:geo:4.196614,44.259519
END:VEVENT
BEGIN:VEVENT
DTSTART;TZID=Europe/Paris:20241208T153000
DTEND;TZID=Europe/Paris:20241208T183000
DTSTAMP:20260421T100625
CREATED:20241125T163648Z
LAST-MODIFIED:20241125T163648Z
UID:10002526-1733671800-1733682600@www.gard30.fr
SUMMARY:Loto caritatif à Saint-Ambroix
DESCRIPTION:Ouverture des portes à 14h\nNombreux lots\nVente de crêpes\nBuvette\nAvant-quine\n20 quines\n2 cartons pleins\n\nTarif des cartons : \n\n2€ le carton\n5 € les 3\n10 € les 7\n20€ les 15\n\nAu profit des associations : \n\nTéléthon\nCroix Rouge française\nLes restaurants du coeur\nROMY Maintenant j’entends\, demain je veux voir
URL:https://www.gard30.fr/agenda/loto-caritatif-a-saint-ambroix/
LOCATION:Salle du tremplin – Saint Ambroix\, Rue de l'Esplanade\, Saint-Ambroix\, Gard\, 30500\, France
CATEGORIES:Loto
ATTACH;FMTTYPE=image/jpeg:https://www.gard30.fr/wp-content/uploads/2024/11/IMG_7926.jpg
GEO:44.259519;4.196614
X-APPLE-STRUCTURED-LOCATION;VALUE=URI;X-ADDRESS=Salle du tremplin – Saint Ambroix Rue de l'Esplanade Saint-Ambroix Gard 30500 France;X-APPLE-RADIUS=500;X-TITLE=Rue de l'Esplanade:geo:4.196614,44.259519
END:VEVENT
BEGIN:VEVENT
DTSTART;TZID=Europe/Paris:20241124T153000
DTEND;TZID=Europe/Paris:20241124T233000
DTSTAMP:20260421T100625
CREATED:20241113T205901Z
LAST-MODIFIED:20241117T180255Z
UID:10002324-1732462200-1732491000@www.gard30.fr
SUMMARY:Loto à Saint-Ambroix
DESCRIPTION:Loto à Saint-Ambroix le dimanche 24 novembre\, Salle du Tremplin 30500 Saint-Ambroix \nDébut du loto à 15h30 \nOuverture des portes à 14h \n\n20 Quines\n3 cartons pleins\n2€ le carton\n5€ les 3 cartons\n10€ les 7 cartons\n20€ les 15 cartons\nEnveloppes vendues à l’entracte 2€\nAvant quine d’une valeur de 150€\nNombreux lots\, dont\, Jambons\, Rosettes\, Bon d’achats….\nVente d’oreillettes\nBuvette
URL:https://www.gard30.fr/agenda/loto-a-saint-ambroix-5/
LOCATION:Salle du tremplin – Saint Ambroix\, Rue de l'Esplanade\, Saint-Ambroix\, Gard\, 30500\, France
CATEGORIES:Loto
ATTACH;FMTTYPE=image/jpeg:https://www.gard30.fr/wp-content/uploads/2024/11/183E6247-3A68-450C-BD15-4B5F143C8CB0_1_105_c.jpeg
ORGANIZER;CN="ASSA Association sportive Saint-Ambroisienne Handball":MAILTO:6130003@ffhandball.net
GEO:44.259519;4.196614
X-APPLE-STRUCTURED-LOCATION;VALUE=URI;X-ADDRESS=Salle du tremplin – Saint Ambroix Rue de l'Esplanade Saint-Ambroix Gard 30500 France;X-APPLE-RADIUS=500;X-TITLE=Rue de l'Esplanade:geo:4.196614,44.259519
END:VEVENT
BEGIN:VEVENT
DTSTART;TZID=Europe/Paris:20241117T153000
DTEND;TZID=Europe/Paris:20241117T183000
DTSTAMP:20260421T100625
CREATED:20241107T075230Z
LAST-MODIFIED:20241107T075230Z
UID:10002110-1731857400-1731868200@www.gard30.fr
SUMMARY:Loto à Saint-Ambroix
DESCRIPTION:Dimanche 17 novembre \n15H30 LOTO\nSALLE DU TREMPLIN\nPrix des cartons :\n2€ le carton\n10€ les 6\n15€ les 10\nNombreux lots : paniers garnis\, vins\, rosettes et bons d’achat (2×40€ 2×80€ 1×100€) \n 
URL:https://www.gard30.fr/agenda/loto-a-saint-ambroix-4/
LOCATION:Salle du tremplin – Saint Ambroix\, Rue de l'Esplanade\, Saint-Ambroix\, Gard\, 30500\, France
CATEGORIES:Loto
ATTACH;FMTTYPE=image/jpeg:https://www.gard30.fr/wp-content/uploads/2024/11/B8B510B3-1205-41C3-8001-BCC5ECA11127_1_105_c.jpeg
ORGANIZER;CN="Comit%C3%A9 d'animation Le Moulinet de Saint-Ambroix":MAILTO:szeteifrancoise@gmail.com
GEO:44.259519;4.196614
X-APPLE-STRUCTURED-LOCATION;VALUE=URI;X-ADDRESS=Salle du tremplin – Saint Ambroix Rue de l'Esplanade Saint-Ambroix Gard 30500 France;X-APPLE-RADIUS=500;X-TITLE=Rue de l'Esplanade:geo:4.196614,44.259519
END:VEVENT
BEGIN:VEVENT
DTSTART;TZID=Europe/Paris:20230211T203000
DTEND;TZID=Europe/Paris:20230211T223000
DTSTAMP:20260421T100625
CREATED:20230208T073847Z
LAST-MODIFIED:20230208T073847Z
UID:10000791-1676147400-1676154600@www.gard30.fr
SUMMARY:Loto à Saint Ambroix
DESCRIPTION:20€ planche de 12\n10 € planche enfant
URL:https://www.gard30.fr/agenda/loto-a-saint-ambroix-3/
LOCATION:Salle du tremplin – Saint Ambroix\, Rue de l'Esplanade\, Saint-Ambroix\, Gard\, 30500\, France
CATEGORIES:Loto
ATTACH;FMTTYPE=image/jpeg:https://www.gard30.fr/wp-content/uploads/2023/02/IMG-7132.jpg
GEO:44.259519;4.196614
X-APPLE-STRUCTURED-LOCATION;VALUE=URI;X-ADDRESS=Salle du tremplin – Saint Ambroix Rue de l'Esplanade Saint-Ambroix Gard 30500 France;X-APPLE-RADIUS=500;X-TITLE=Rue de l'Esplanade:geo:4.196614,44.259519
END:VEVENT
BEGIN:VEVENT
DTSTART;TZID=Europe/Paris:20230205T160000
DTEND;TZID=Europe/Paris:20230205T180000
DTSTAMP:20260421T100625
CREATED:20230203T125708Z
LAST-MODIFIED:20230203T125708Z
UID:10000780-1675612800-1675620000@www.gard30.fr
SUMMARY:Loto à Saint Ambroix
DESCRIPTION:30 quines à 65 euros\n3 surprises à 150  €\n1 avant quine à 200 euros
URL:https://www.gard30.fr/agenda/loto-a-saint-ambroix-2/
LOCATION:Salle du tremplin – Saint Ambroix\, Rue de l'Esplanade\, Saint-Ambroix\, Gard\, 30500\, France
CATEGORIES:Loto
ATTACH;FMTTYPE=image/jpeg:https://www.gard30.fr/wp-content/uploads/2023/02/IMG-7063.jpg
GEO:44.259519;4.196614
X-APPLE-STRUCTURED-LOCATION;VALUE=URI;X-ADDRESS=Salle du tremplin – Saint Ambroix Rue de l'Esplanade Saint-Ambroix Gard 30500 France;X-APPLE-RADIUS=500;X-TITLE=Rue de l'Esplanade:geo:4.196614,44.259519
END:VEVENT
END:VCALENDAR