BEGIN:VCALENDAR
VERSION:2.0
PRODID:-//Gard 30 - ECPv6.15.20//NONSGML v1.0//EN
CALSCALE:GREGORIAN
METHOD:PUBLISH
X-ORIGINAL-URL:https://www.gard30.fr
X-WR-CALDESC:Évènements pour Gard 30
REFRESH-INTERVAL;VALUE=DURATION:PT1H
X-Robots-Tag:noindex
X-PUBLISHED-TTL:PT1H
BEGIN:VTIMEZONE
TZID:Europe/Paris
BEGIN:DAYLIGHT
TZOFFSETFROM:+0100
TZOFFSETTO:+0200
TZNAME:CEST
DTSTART:20240331T010000
END:DAYLIGHT
BEGIN:STANDARD
TZOFFSETFROM:+0200
TZOFFSETTO:+0100
TZNAME:CET
DTSTART:20241027T010000
END:STANDARD
BEGIN:DAYLIGHT
TZOFFSETFROM:+0100
TZOFFSETTO:+0200
TZNAME:CEST
DTSTART:20250330T010000
END:DAYLIGHT
BEGIN:STANDARD
TZOFFSETFROM:+0200
TZOFFSETTO:+0100
TZNAME:CET
DTSTART:20251026T010000
END:STANDARD
BEGIN:DAYLIGHT
TZOFFSETFROM:+0100
TZOFFSETTO:+0200
TZNAME:CEST
DTSTART:20260329T010000
END:DAYLIGHT
BEGIN:STANDARD
TZOFFSETFROM:+0200
TZOFFSETTO:+0100
TZNAME:CET
DTSTART:20261025T010000
END:STANDARD
BEGIN:DAYLIGHT
TZOFFSETFROM:+0100
TZOFFSETTO:+0200
TZNAME:CEST
DTSTART:20270328T010000
END:DAYLIGHT
BEGIN:STANDARD
TZOFFSETFROM:+0200
TZOFFSETTO:+0100
TZNAME:CET
DTSTART:20271031T010000
END:STANDARD
END:VTIMEZONE
BEGIN:VEVENT
DTSTART;TZID=Europe/Paris:20260207T143000
DTEND;TZID=Europe/Paris:20260207T173000
DTSTAMP:20260421T221715
CREATED:20260127T080506Z
LAST-MODIFIED:20260127T080506Z
UID:10004925-1770474600-1770485400@www.gard30.fr
SUMMARY:Loto à St Bonnet du Gard
DESCRIPTION:Samedi 7 Février 2026\n\n14h30 : Début du Loto 🎉\n14 quines et 4 cartons pleins à gagner 🐂\nLots à gagner : Bons d’Achats\, Aspirateur balai\, Friteuse Fryer\, Une tablette tactile\, Paniers garnis\, Cageot BIO fruits et légumes 🎁
URL:https://www.gard30.fr/agenda/loto-a-st-bonnet-du-gard/
LOCATION:Salle municipale – Saint Bonnet du Gard\, 62 Pl. de la Fontaine\,\, Saint-Bonnet-du-Gard\, Gard\, 30210\, France
CATEGORIES:Loto
ATTACH;FMTTYPE=image/jpeg:https://www.gard30.fr/wp-content/uploads/2026/01/IMG_7563-1.jpg
ORGANIZER;CN="Les anciens combattants de Milhaud":MAILTO:anc-comb-milhaud@hotmail.com
GEO:43.9283066;4.5440617
X-APPLE-STRUCTURED-LOCATION;VALUE=URI;X-ADDRESS=Salle municipale – Saint Bonnet du Gard 62 Pl. de la Fontaine Saint-Bonnet-du-Gard Gard 30210 France;X-APPLE-RADIUS=500;X-TITLE=62 Pl. de la Fontaine\,:geo:4.5440617,43.9283066
END:VEVENT
BEGIN:VEVENT
DTSTART;TZID=Europe/Paris:20250208T143000
DTEND;TZID=Europe/Paris:20250208T173000
DTSTAMP:20260421T221715
CREATED:20250118T205100Z
LAST-MODIFIED:20250118T205100Z
UID:10002885-1739025000-1739035800@www.gard30.fr
SUMMARY:Loto à Saint-Bonnet-du-Gard
DESCRIPTION:14 quines – 4 cartons pleins \nNOMBREUX LOTS dont : \n\nBons d’Achats\nUne machine à coudre\nUne cafetière expresso\nUne tablette tactile\nPaniers garnis\n\n2 € le carton \n10 € les 6
URL:https://www.gard30.fr/agenda/loto-a-saint-bonnet-du-gard/
LOCATION:Salle municipale – Saint Bonnet du Gard\, 62 Pl. de la Fontaine\,\, Saint-Bonnet-du-Gard\, Gard\, 30210\, France
CATEGORIES:Loto
ATTACH;FMTTYPE=image/jpeg:https://www.gard30.fr/wp-content/uploads/2025/01/C3DD8900-BB24-4511-BC2A-A5644B85DA9F_1_201_a.jpeg
GEO:43.9283066;4.5440617
X-APPLE-STRUCTURED-LOCATION;VALUE=URI;X-ADDRESS=Salle municipale – Saint Bonnet du Gard 62 Pl. de la Fontaine Saint-Bonnet-du-Gard Gard 30210 France;X-APPLE-RADIUS=500;X-TITLE=62 Pl. de la Fontaine\,:geo:4.5440617,43.9283066
END:VEVENT
END:VCALENDAR