BEGIN:VCALENDAR
VERSION:2.0
PRODID:-//Gard 30 - ECPv6.15.20//NONSGML v1.0//EN
CALSCALE:GREGORIAN
METHOD:PUBLISH
X-ORIGINAL-URL:https://www.gard30.fr
X-WR-CALDESC:Évènements pour Gard 30
REFRESH-INTERVAL;VALUE=DURATION:PT1H
X-Robots-Tag:noindex
X-PUBLISHED-TTL:PT1H
BEGIN:VTIMEZONE
TZID:Europe/Paris
BEGIN:DAYLIGHT
TZOFFSETFROM:+0100
TZOFFSETTO:+0200
TZNAME:CEST
DTSTART:20230326T010000
END:DAYLIGHT
BEGIN:STANDARD
TZOFFSETFROM:+0200
TZOFFSETTO:+0100
TZNAME:CET
DTSTART:20231029T010000
END:STANDARD
BEGIN:DAYLIGHT
TZOFFSETFROM:+0100
TZOFFSETTO:+0200
TZNAME:CEST
DTSTART:20240331T010000
END:DAYLIGHT
BEGIN:STANDARD
TZOFFSETFROM:+0200
TZOFFSETTO:+0100
TZNAME:CET
DTSTART:20241027T010000
END:STANDARD
BEGIN:DAYLIGHT
TZOFFSETFROM:+0100
TZOFFSETTO:+0200
TZNAME:CEST
DTSTART:20250330T010000
END:DAYLIGHT
BEGIN:STANDARD
TZOFFSETFROM:+0200
TZOFFSETTO:+0100
TZNAME:CET
DTSTART:20251026T010000
END:STANDARD
BEGIN:DAYLIGHT
TZOFFSETFROM:+0100
TZOFFSETTO:+0200
TZNAME:CEST
DTSTART:20260329T010000
END:DAYLIGHT
BEGIN:STANDARD
TZOFFSETFROM:+0200
TZOFFSETTO:+0100
TZNAME:CET
DTSTART:20261025T010000
END:STANDARD
END:VTIMEZONE
BEGIN:VEVENT
DTSTART;TZID=Europe/Paris:20251130T153000
DTEND;TZID=Europe/Paris:20251130T183000
DTSTAMP:20260422T060927
CREATED:20251112T123536Z
LAST-MODIFIED:20251112T123536Z
UID:10004633-1764516600-1764527400@www.gard30.fr
SUMMARY:Loto à Sumène
DESCRIPTION:Dimanche 30 novembre 2025\n\n15h30 : Début du loto 🎉\nCartons pleins : 400€ chez Intermarché\, 400€ chez Super U 🛒\nNombreuses quines : bons d’achats\, paniers garnis\, bons repas\, bons coiffure\, tombola\, mises en train & consoles 🎁\nBuvette & petite restauration 🍽️
URL:https://www.gard30.fr/agenda/loto-a-sumene-3/
LOCATION:Salle Polyvalente du Diguedan à Sumène\, Diguedan\, Sumène\, Gard\, 30440\, France
CATEGORIES:Loto
ATTACH;FMTTYPE=image/jpeg:https://www.gard30.fr/wp-content/uploads/2025/11/IMG_6006-1.jpg
GEO:43.983332;3.716796
X-APPLE-STRUCTURED-LOCATION;VALUE=URI;X-ADDRESS=Salle Polyvalente du Diguedan à Sumène Diguedan Sumène Gard 30440 France;X-APPLE-RADIUS=500;X-TITLE=Diguedan:geo:3.716796,43.983332
END:VEVENT
BEGIN:VEVENT
DTSTART;TZID=Europe/Paris:20251026T153000
DTEND;TZID=Europe/Paris:20251026T183000
DTSTAMP:20260422T060927
CREATED:20251021T145952Z
LAST-MODIFIED:20251021T150008Z
UID:10004523-1761492600-1761503400@www.gard30.fr
SUMMARY:Loto à Sumène
DESCRIPTION:Dimanche 26 octobre\n\n15h30 : Début du Super Loto 🎉\n\n  \nBons d’Achats/+ Entrées parcs loisirs/+ Jarre d’Anduze/+ Repas aux restaurants locaux/ + Arbres Fruitiers/ + Bon coiffures/ + Produits du \nTerroir /+Pleins d’autres Surprises \n1.50 € le carton \n1 carton plein et 1 carton vide + de 2500 € DE LOTS
URL:https://www.gard30.fr/agenda/loto-a-sumene-2/
LOCATION:Salle Polyvalente du Diguedan à Sumène\, Diguedan\, Sumène\, Gard\, 30440\, France
CATEGORIES:Loto
ATTACH;FMTTYPE=image/jpeg:https://www.gard30.fr/wp-content/uploads/2025/10/18621789-0CB6-49A1-A6F8-2A4349B518F9_1_105_c-1.jpeg
ORGANIZER;CN="Amicale Pompiers de Sum%C3%A8ne":MAILTO:amicale.sum@gmail.com
GEO:43.983332;3.716796
X-APPLE-STRUCTURED-LOCATION;VALUE=URI;X-ADDRESS=Salle Polyvalente du Diguedan à Sumène Diguedan Sumène Gard 30440 France;X-APPLE-RADIUS=500;X-TITLE=Diguedan:geo:3.716796,43.983332
END:VEVENT
BEGIN:VEVENT
DTSTART;TZID=Europe/Paris:20241228T160000
DTEND;TZID=Europe/Paris:20241228T190000
DTSTAMP:20260422T060927
CREATED:20241216T133904Z
LAST-MODIFIED:20241216T133924Z
UID:10002704-1735401600-1735412400@www.gard30.fr
SUMMARY:Loto à Sumène
DESCRIPTION:Loto à Sumène le samedi 28 décembre à 16h \n+ 2500€ de lots : \n\nx2 bons d’achat 80€\nx2 bon d’achat 100€\n1 vélo\n1 brouette garnie\n1 panier garni\n1 cave à vin\n2 jambons\n2 demi agneaux\n1 air fryer\n1 bon de 70€ à la pizzeria chez Cathy et Laurent\n4 cartons pleins\n\nBons d’achat 300€ Intermarché\n1 télé 125cm\n1 ordinateur portable HP 17 pouces\n1 PS5\n\n\nLoto avec ordinateur\nMise en train et consolante\n1 quine enfant\n1 tombola\nBuvette (pendant et après loto)\nPâtisserie sucré et salé\n\nLe prix des cartons est à 1\,50€ seulement. Venez tenter votre chance et profitez de la mise en train\, d’une quine pour les enfants\, de 14 quines\, de 4 cartons pleins et des consolantes.
URL:https://www.gard30.fr/agenda/loto-a-sumene/
LOCATION:Salle Polyvalente du Diguedan à Sumène\, Diguedan\, Sumène\, Gard\, 30440\, France
CATEGORIES:Loto
ATTACH;FMTTYPE=image/jpeg:https://www.gard30.fr/wp-content/uploads/2024/12/A72C782C-21A9-440C-9326-FBCCA3BAF30F_1_105_c.jpeg
ORGANIZER;CN="Etoile sportive Sumenoise - Sum%C3%A8ne":MAILTO:ess.sumene@gmail.com
GEO:43.983332;3.716796
X-APPLE-STRUCTURED-LOCATION;VALUE=URI;X-ADDRESS=Salle Polyvalente du Diguedan à Sumène Diguedan Sumène Gard 30440 France;X-APPLE-RADIUS=500;X-TITLE=Diguedan:geo:3.716796,43.983332
END:VEVENT
END:VCALENDAR