BEGIN:VCALENDAR
VERSION:2.0
PRODID:-//Gard 30 - ECPv6.15.20//NONSGML v1.0//EN
CALSCALE:GREGORIAN
METHOD:PUBLISH
X-WR-CALNAME:Gard 30
X-ORIGINAL-URL:https://www.gard30.fr
X-WR-CALDESC:Évènements pour Gard 30
REFRESH-INTERVAL;VALUE=DURATION:PT1H
X-Robots-Tag:noindex
X-PUBLISHED-TTL:PT1H
BEGIN:VTIMEZONE
TZID:Europe/Paris
BEGIN:DAYLIGHT
TZOFFSETFROM:+0100
TZOFFSETTO:+0200
TZNAME:CEST
DTSTART:20210328T010000
END:DAYLIGHT
BEGIN:STANDARD
TZOFFSETFROM:+0200
TZOFFSETTO:+0100
TZNAME:CET
DTSTART:20211031T010000
END:STANDARD
BEGIN:DAYLIGHT
TZOFFSETFROM:+0100
TZOFFSETTO:+0200
TZNAME:CEST
DTSTART:20220327T010000
END:DAYLIGHT
BEGIN:STANDARD
TZOFFSETFROM:+0200
TZOFFSETTO:+0100
TZNAME:CET
DTSTART:20221030T010000
END:STANDARD
BEGIN:DAYLIGHT
TZOFFSETFROM:+0100
TZOFFSETTO:+0200
TZNAME:CEST
DTSTART:20230326T010000
END:DAYLIGHT
BEGIN:STANDARD
TZOFFSETFROM:+0200
TZOFFSETTO:+0100
TZNAME:CET
DTSTART:20231029T010000
END:STANDARD
BEGIN:DAYLIGHT
TZOFFSETFROM:+0100
TZOFFSETTO:+0200
TZNAME:CEST
DTSTART:20240331T010000
END:DAYLIGHT
BEGIN:STANDARD
TZOFFSETFROM:+0200
TZOFFSETTO:+0100
TZNAME:CET
DTSTART:20241027T010000
END:STANDARD
BEGIN:DAYLIGHT
TZOFFSETFROM:+0100
TZOFFSETTO:+0200
TZNAME:CEST
DTSTART:20250330T010000
END:DAYLIGHT
BEGIN:STANDARD
TZOFFSETFROM:+0200
TZOFFSETTO:+0100
TZNAME:CET
DTSTART:20251026T010000
END:STANDARD
END:VTIMEZONE
BEGIN:VEVENT
DTSTART;VALUE=DATE:20241208
DTEND;VALUE=DATE:20241209
DTSTAMP:20260421T223740
CREATED:20241108T203954Z
LAST-MODIFIED:20241108T203954Z
UID:10002208-1733616000-1733702399@www.gard30.fr
SUMMARY:Marché de Noël à Lanuéjols
DESCRIPTION:Venez nombreux au marché de Noël\, un événement gourmand et créatif qui se tiendra à la salle des fêtes de Lanuéjols de 10h à 18h. \nEn partenariat avec « l’Amicale des sapeurs pompiers »\, les « Amis de Lanuéjols » vous offrent différentes attractions\, dont un stand dédié aux enfants pour écrire leur lettre au Père Noël. \nVous pourrez également déguster des boissons chaudes et froides typiques de Noël\, ainsi que des pâtisseries. Si vous souhaitez emporter votre repas\, un traiteur proposera de la choucroute et de la tête de veau\, ainsi que des gâteaux et des crêpes. \nNous vous invitons chaleureusement à participer à cet événement festif.
URL:https://www.gard30.fr/agenda/marche-de-noel-a-lanuejols/
LOCATION:Ville de Lanuéjols\, Lanuéjols\, 30750
CATEGORIES:Marchés de Noël
ATTACH;FMTTYPE=image/jpeg:https://www.gard30.fr/wp-content/uploads/2024/11/christmas-decorations-on-trentino-alto-adige-ital-2023-11-27-05-33-23-utc-scaled.jpg
END:VEVENT
BEGIN:VEVENT
DTSTART;VALUE=DATE:20220806
DTEND;VALUE=DATE:20220810
DTSTAMP:20260421T223740
CREATED:20220714T095221Z
LAST-MODIFIED:20220714T095345Z
UID:10000456-1659744000-1660089599@www.gard30.fr
SUMMARY:Fête votive de Lanuéjols 2022
DESCRIPTION:Le programme sera publié sur cette page trés prochainement.
URL:https://www.gard30.fr/agenda/fete-votive-de-lanuejols-2022/
LOCATION:Ville de Lanuéjols\, Lanuéjols\, 30750
CATEGORIES:Fêtes votives
ATTACH;FMTTYPE=image/jpeg:https://www.gard30.fr/wp-content/uploads/2022/06/camargue-1627212_1280.jpg
END:VEVENT
END:VCALENDAR