BEGIN:VCALENDAR
VERSION:2.0
PRODID:-//Gard 30 - ECPv6.15.20//NONSGML v1.0//EN
CALSCALE:GREGORIAN
METHOD:PUBLISH
X-WR-CALNAME:Gard 30
X-ORIGINAL-URL:https://www.gard30.fr
X-WR-CALDESC:Évènements pour Gard 30
REFRESH-INTERVAL;VALUE=DURATION:PT1H
X-Robots-Tag:noindex
X-PUBLISHED-TTL:PT1H
BEGIN:VTIMEZONE
TZID:Europe/Paris
BEGIN:DAYLIGHT
TZOFFSETFROM:+0100
TZOFFSETTO:+0200
TZNAME:CEST
DTSTART:20220327T010000
END:DAYLIGHT
BEGIN:STANDARD
TZOFFSETFROM:+0200
TZOFFSETTO:+0100
TZNAME:CET
DTSTART:20221030T010000
END:STANDARD
BEGIN:DAYLIGHT
TZOFFSETFROM:+0100
TZOFFSETTO:+0200
TZNAME:CEST
DTSTART:20230326T010000
END:DAYLIGHT
BEGIN:STANDARD
TZOFFSETFROM:+0200
TZOFFSETTO:+0100
TZNAME:CET
DTSTART:20231029T010000
END:STANDARD
BEGIN:DAYLIGHT
TZOFFSETFROM:+0100
TZOFFSETTO:+0200
TZNAME:CEST
DTSTART:20240331T010000
END:DAYLIGHT
BEGIN:STANDARD
TZOFFSETFROM:+0200
TZOFFSETTO:+0100
TZNAME:CET
DTSTART:20241027T010000
END:STANDARD
BEGIN:DAYLIGHT
TZOFFSETFROM:+0100
TZOFFSETTO:+0200
TZNAME:CEST
DTSTART:20250330T010000
END:DAYLIGHT
BEGIN:STANDARD
TZOFFSETFROM:+0200
TZOFFSETTO:+0100
TZNAME:CET
DTSTART:20251026T010000
END:STANDARD
END:VTIMEZONE
BEGIN:VEVENT
DTSTART;TZID=Europe/Paris:20241109T163000
DTEND;TZID=Europe/Paris:20241109T193000
DTSTAMP:20260422T113151
CREATED:20241105T185228Z
LAST-MODIFIED:20241107T134501Z
UID:10002086-1731169800-1731180600@www.gard30.fr
SUMMARY:Loto à Saint-Florent-sur-Auzonnet
DESCRIPTION:Samedi 9 novembre \n16h30 : GRAND LOTO\nORGANISÉ PAR L’ASSOCIATION\n“LA MEMOIRE DES MINEURS”\nAU PROFIT DU C.C.AS.\nSALLE JEAN MACE\n30 QUINES A LA LIGNE\n4 CARTONS PLEINS \n\n2 cartons pleins à 80 €\n2 cartons pleins à 100 €\n1 carton surprise valeur 200 €
URL:https://www.gard30.fr/agenda/loto-a-saint-florent-sur-auzonnet-2/
LOCATION:Ville de Saint-Florent-sur-Auzonnet\, Saint-Florent-sur-Auzonnet\, Gard\, 30960\, France
CATEGORIES:Loto
ATTACH;FMTTYPE=image/jpeg:https://www.gard30.fr/wp-content/uploads/2024/11/IMG_7446.jpg
GEO:44.241679;4.111088
END:VEVENT
BEGIN:VEVENT
DTSTART;TZID=Europe/Paris:20230225T163000
DTEND;TZID=Europe/Paris:20230225T193000
DTSTAMP:20260422T113151
CREATED:20230220T082014Z
LAST-MODIFIED:20230531T100644Z
UID:10000812-1677342600-1677353400@www.gard30.fr
SUMMARY:Loto à Saint-Florent-sur-Auzonnet
DESCRIPTION:30 quines\n3 cartons pleins
URL:https://www.gard30.fr/agenda/loto-a-saint-florent-sur-auzonnet/
LOCATION:Ville de Saint-Florent-sur-Auzonnet\, Saint-Florent-sur-Auzonnet\, Gard\, 30960\, France
CATEGORIES:Loto
ATTACH;FMTTYPE=image/jpeg:https://www.gard30.fr/wp-content/uploads/2023/02/IMG-7244.jpg
GEO:44.241679;4.111088
END:VEVENT
END:VCALENDAR