BEGIN:VCALENDAR
VERSION:2.0
PRODID:-//Gard 30 - ECPv6.15.20//NONSGML v1.0//EN
CALSCALE:GREGORIAN
METHOD:PUBLISH
X-ORIGINAL-URL:https://www.gard30.fr
X-WR-CALDESC:Évènements pour Gard 30
REFRESH-INTERVAL;VALUE=DURATION:PT1H
X-Robots-Tag:noindex
X-PUBLISHED-TTL:PT1H
BEGIN:VTIMEZONE
TZID:Europe/Paris
BEGIN:DAYLIGHT
TZOFFSETFROM:+0100
TZOFFSETTO:+0200
TZNAME:CEST
DTSTART:20240331T010000
END:DAYLIGHT
BEGIN:STANDARD
TZOFFSETFROM:+0200
TZOFFSETTO:+0100
TZNAME:CET
DTSTART:20241027T010000
END:STANDARD
BEGIN:DAYLIGHT
TZOFFSETFROM:+0100
TZOFFSETTO:+0200
TZNAME:CEST
DTSTART:20250330T010000
END:DAYLIGHT
BEGIN:STANDARD
TZOFFSETFROM:+0200
TZOFFSETTO:+0100
TZNAME:CET
DTSTART:20251026T010000
END:STANDARD
BEGIN:DAYLIGHT
TZOFFSETFROM:+0100
TZOFFSETTO:+0200
TZNAME:CEST
DTSTART:20260329T010000
END:DAYLIGHT
BEGIN:STANDARD
TZOFFSETFROM:+0200
TZOFFSETTO:+0100
TZNAME:CET
DTSTART:20261025T010000
END:STANDARD
END:VTIMEZONE
BEGIN:VEVENT
DTSTART;VALUE=DATE:20250928
DTEND;VALUE=DATE:20250929
DTSTAMP:20260420T120528
CREATED:20250925T071934Z
LAST-MODIFIED:20250925T071934Z
UID:10004379-1759017600-1759103999@www.gard30.fr
SUMMARY:Fête des vendanges Vauvert 2025
DESCRIPTION:Dimanche 28 septembre\n\n11h – Festival d’abrivado 🐂 – Manades Martini et Saint Louis\, arènes\, jeu de ballon\n12h – Animation musicale 🎵\n16h – Concours de manades 🏆 – Comptant pour le trophée de l’avenir\nConcours de la 24e finale du trophée des vignerons 🍇 – Souvenir de Jean-Jacques Guiraud et 4e souvenir Robert Fabre
URL:https://www.gard30.fr/agenda/fete-des-vendanges-vauvert-2025/
LOCATION:Ville de Vauvert\, Vauvert\, Gard\, 30600\, France
CATEGORIES:Fêtes votives
ATTACH;FMTTYPE=image/jpeg:https://www.gard30.fr/wp-content/uploads/2025/09/IMG_5016-1.jpg
GEO:43.692984;4.278326
END:VEVENT
BEGIN:VEVENT
DTSTART;VALUE=DATE:20250809
DTEND;VALUE=DATE:20250818
DTSTAMP:20260420T120528
CREATED:20250717T061232Z
LAST-MODIFIED:20250717T061232Z
UID:10004041-1754697600-1755475199@www.gard30.fr
SUMMARY:Fête votive Vauvert 2025
DESCRIPTION:🎉 Fête votive de Vauvert\n📍 Du 9 au 17 août 2025 \n\n🔁 Animations quotidiennes (du 10 au 17 août)\n☕ 9h – Déjeuner aux près🐂 11h – Abrivado (départ des près des Demoiselles)🐮 12h – Vachette pour la jeunesse🐃 17h – Course de taureaux🚩 19h – Bandido jusqu’à la maison de retraite🌙 22h – Animation : course de nuit\, spectacle ou toro-piscine🎶 23h – Bal aux arènes\, place Paul Allier🎺 Animation musicale et festive par les peñas🍻 Du 14 au 16 août : Ouverture des bodegas (El Campo\, Los Manzanares\, Handisport\, Samuel Vincent – jeudi) \n\n📅 Samedi 9 août – Ouverture officielle 🎊\n🎺 Aubade de la jeunesse dès 9h avec la Peña Camargua🐂 12h – Abrivado (av. de la Costière – Manade Martini)🏆 17h30 – 41e Trophée Christian Mestre (entrée 10 €)🎷 19h – Bandido + apéro musical (orchestre La Mezcla)🎉 21h15 – Défilé de la jeunesse🔥 21h30 – Toro de fuego + course de nuit (gratuite)💃 23h – Bal (orchestre La Mezcla) \n\n📅 Dimanche 10 août – Journée des filles 👧\n🎉 Animations traditionnelles toute la journée🎶 12h30 – Apéro musical avec Enzo Puech🏆 17h30 – 24e Trophée des vignerons – Trophée de l’Avenir (10 €)🎷 19h – Bandido + apéro musical (orchestre Pyramide)🐮 22h – Toro piscine (gratuite – Manade Franquevaux)💃 23h – Bal (Pyramide) \n\n📅 Lundi 11 août – Journée Camargua Forza 🤠\n🎶 12h30 – Apéro musical avec Florent Manzanera🏁 17h30 – Course de ligue (gratuite)🎷 19h – Bandido + apéro musical (La Remember)🎆 22h – Festival nocturne (Manades St-Louis & Martini)💃 23h – Bal (La Remember) \n\n📅 Mardi 12 août – Journée des générations 👵👴\n🍽️ 9h – Déjeuner offert (sur inscription)🎶 12h30 – Apéro musical avec Totoff🍷 Journée des Maîtres Vignerons🏆 17h30 – Course de vaches cocardières (gratuite)🎷 19h – Bandido + apéro (Gaby & Bastien Peyre)🎤 19h – Mardis de Vauvert : Alain Rubio & Régine Pascal🏁 22h – Inter villages avec Vestric (gratuite)💃 23h – Bal avec Bastien Peyre \n\n📅 Mercredi 13 août – Journée des enfants 🎈\n🚂 Petit train + déjeuner (réservation nécessaire)🎉 12h30 – Apéro mousse avec Jérémie Challier🏆 17h30 – Finale Trophée des Prémices (gratuite)🎷 19h30 – Groupe Fasci (place des Halles)🎶 19h30 – Apéro musical avec Cocktail de Nuit🐮 22h – Toro piscine (gratuite – Manade Aubanel)💃 23h – Bal avec Cocktail de Nuit \n\n📅 Jeudi 14 août – Journée des tauromachies 🐃\n🎶 12h30 – Apéro musical avec Enzo Puech🎓 17h30 – Capéa pédagogique (taureaux + raseteurs débutants)🏆 Remise des prix à la bodega El Campo🍻 Ouverture des bodegas🎭 22h – Soirée des clubs taurins (entrée 4 €\, gratuit -10 ans)💃 23h – Bal avec La Jungle \n\n📅 Vendredi 15 août – Fête de l’Assomption 🙏\n🎶 12h – Apéro musical avec la Peña Camargua🏆 17h30 – 5e journée du Trophée des vignerons (10 €)🎷 19h – Bandido + apéro musical (orchestre Sortie de Secours)🌙 22h – Course de nuit (gratuite – Manade Agnel)💃 23h – Bal (Sortie de Secours) \n\n📅 Samedi 16 août – Journée à l’ancienne 👘\n🎭 9h – Déjeuner offert aux personnes costumées (Peña Camargua)🎁 Concours du plus beau costume (remise des prix en piste)🎶 12h30 – Apéro musical avec la Peña Camargua🏆 17h30 – 6e journée du Trophée des vignerons (gratuit)🎷 19h – Bandido + apéro musical (Gitano of Camargue)🌙 22h – Course de nuit (gratuite – Manade Cayzac)💃 23h – Bal : Enzo Puech + Yann Muller \n\n📅 Dimanche 17 août – Clôture 🎇\n🎶 12h30 – Apéro musical avec la Peña La Provençale🏆 17h30 – Finale Trophée Camargue Médical (entrée 13 € / numérotée 17 €)🎉 19h30 – Lâcher de 20 taureaux + apéro avec Florent Manzanera🌙 22h – Course de nuit + animations équestres et spectacle de feux (gratuite) \n\n🎳 Concours de boules – EBJC (8 au 16 août)\n📍 Au boulodrome – Inscriptions sur place \n\n\n🥇 Doublettes\, triplettes\, jubilés\, concours Intermarché \n\n\n💰 Dotations : jusqu’à 1700 € + mises \n\n\n📞 Infos : voir détails dans le programme papier
URL:https://www.gard30.fr/agenda/fete-votive-vauvert-2025/
LOCATION:Ville de Vauvert\, Vauvert\, Gard\, 30600\, France
CATEGORIES:Fêtes votives
ATTACH;FMTTYPE=image/jpeg:https://www.gard30.fr/wp-content/uploads/2025/07/affi-a2-fete-vauvert-2025-web-1320x1885-1.jpg
GEO:43.692984;4.278326
END:VEVENT
BEGIN:VEVENT
DTSTART;TZID=Europe/Paris:20250531T100000
DTEND;TZID=Europe/Paris:20250531T230000
DTSTAMP:20260420T120528
CREATED:20250424T143108Z
LAST-MODIFIED:20250424T143108Z
UID:10003597-1748685600-1748732400@www.gard30.fr
SUMMARY:Journée taurine à Vauvert
DESCRIPTION:Samedi 31 mai 2025 \n\n10H DÉJEUNER AUX PRÈS\nAux prés des Demoiselles\nOffert par l’association Camargua Forza\n11H DÉPART DE L’ABRIVADE\nManade Aubanel\n12H APÉRITIF\nBuvette des Arènes\n16H COURSE\nEcole taurine\n19H BANDIDE\nManade Aubanel\nDans le centre du village\n21H SOIRÉE\nBar de l’embuscade
URL:https://www.gard30.fr/agenda/journee-taurine-a-vauvert/
LOCATION:Ville de Vauvert\, Vauvert\, Gard\, 30600\, France
CATEGORIES:Fêtes votives
ATTACH;FMTTYPE=image/jpeg:https://www.gard30.fr/wp-content/uploads/2025/04/F2058BCB-76C0-41C3-A8F0-3859F5D14464_1_105_c.jpeg
ORGANIZER;CN="Camargua Forza - Vauvert":MAILTO:camargua-forza@hotmail.fr
GEO:43.692984;4.278326
END:VEVENT
BEGIN:VEVENT
DTSTART;TZID=Europe/Paris:20250406T080000
DTEND;TZID=Europe/Paris:20250406T130000
DTSTAMP:20260420T120528
CREATED:20250311T110635Z
LAST-MODIFIED:20250311T110635Z
UID:10003321-1743926400-1743944400@www.gard30.fr
SUMMARY:Vide grenier à Vauvert
DESCRIPTION:Vide grenier à Vauvert le 06 avril de 8h à 13h \nPrésence du “Père Casse-Croute” \n\nEmplacement gratuit\nNombre de places limitées\nStand de 3m\nRéservation obligatoire\n\n06 16 27 55 70\ncomitenouveauxquartiers30600@gmail.com
URL:https://www.gard30.fr/agenda/vide-grenier-a-vauvert/
LOCATION:Ville de Vauvert\, Vauvert\, Gard\, 30600\, France
CATEGORIES:Vide-greniers
ATTACH;FMTTYPE=image/jpeg:https://www.gard30.fr/wp-content/uploads/2025/03/3573BAA6-E405-4EC3-B9AB-7B130DC80056_1_105_c.jpeg
GEO:43.692984;4.278326
END:VEVENT
END:VCALENDAR