BEGIN:VCALENDAR
VERSION:2.0
PRODID:-//Gard 30 - ECPv6.15.20//NONSGML v1.0//EN
CALSCALE:GREGORIAN
METHOD:PUBLISH
X-ORIGINAL-URL:https://www.gard30.fr
X-WR-CALDESC:Évènements pour Gard 30
REFRESH-INTERVAL;VALUE=DURATION:PT1H
X-Robots-Tag:noindex
X-PUBLISHED-TTL:PT1H
BEGIN:VTIMEZONE
TZID:Europe/Paris
BEGIN:DAYLIGHT
TZOFFSETFROM:+0100
TZOFFSETTO:+0200
TZNAME:CEST
DTSTART:20240331T010000
END:DAYLIGHT
BEGIN:STANDARD
TZOFFSETFROM:+0200
TZOFFSETTO:+0100
TZNAME:CET
DTSTART:20241027T010000
END:STANDARD
BEGIN:DAYLIGHT
TZOFFSETFROM:+0100
TZOFFSETTO:+0200
TZNAME:CEST
DTSTART:20250330T010000
END:DAYLIGHT
BEGIN:STANDARD
TZOFFSETFROM:+0200
TZOFFSETTO:+0100
TZNAME:CET
DTSTART:20251026T010000
END:STANDARD
BEGIN:DAYLIGHT
TZOFFSETFROM:+0100
TZOFFSETTO:+0200
TZNAME:CEST
DTSTART:20260329T010000
END:DAYLIGHT
BEGIN:STANDARD
TZOFFSETFROM:+0200
TZOFFSETTO:+0100
TZNAME:CET
DTSTART:20261025T010000
END:STANDARD
END:VTIMEZONE
BEGIN:VEVENT
DTSTART;TZID=Europe/Paris:20250323T140000
DTEND;TZID=Europe/Paris:20250323T170000
DTSTAMP:20260422T211304
CREATED:20250224T090543Z
LAST-MODIFIED:20250224T090544Z
UID:10003167-1742738400-1742749200@www.gard30.fr
SUMMARY:Méga Loto à Alès
DESCRIPTION:Mega Loto à Alès le dimanche 23 mars à 14h \nOuverture des portes à 11h30 \n\n10€ les 3 cartons\n6€ carton spécial voiture\nDe nombreux lots dont une voiture d’une valeur de 21 150€\nSnacking sur place\nPlace limitées\n\nRéservez vos cartons et votre formule snacking sur : \nloto-pompiers-ales.fr
URL:https://www.gard30.fr/agenda/mega-loto-a-ales/
LOCATION:Parc des expositions Alès Cévennes à Méjannes-lès-Alès\, Route d'Uzès\, Méjannes-lès-Alès\, Gard\, 30340\, France
CATEGORIES:Loto
ATTACH;FMTTYPE=image/jpeg:https://www.gard30.fr/wp-content/uploads/2025/02/2C6492F2-60C3-4C6A-B99C-54685FDE32B2.jpeg
GEO:44.0973927;4.1476123
X-APPLE-STRUCTURED-LOCATION;VALUE=URI;X-ADDRESS=Parc des expositions Alès Cévennes à Méjannes-lès-Alès Route d'Uzès Méjannes-lès-Alès Gard 30340 France;X-APPLE-RADIUS=500;X-TITLE=Route d'Uzès:geo:4.1476123,44.0973927
END:VEVENT
END:VCALENDAR