BEGIN:VCALENDAR
VERSION:2.0
PRODID:-//Gard 30 - ECPv6.15.20//NONSGML v1.0//EN
CALSCALE:GREGORIAN
METHOD:PUBLISH
X-ORIGINAL-URL:https://www.gard30.fr
X-WR-CALDESC:Évènements pour Gard 30
REFRESH-INTERVAL;VALUE=DURATION:PT1H
X-Robots-Tag:noindex
X-PUBLISHED-TTL:PT1H
BEGIN:VTIMEZONE
TZID:Europe/Paris
BEGIN:DAYLIGHT
TZOFFSETFROM:+0100
TZOFFSETTO:+0200
TZNAME:CEST
DTSTART:20240331T010000
END:DAYLIGHT
BEGIN:STANDARD
TZOFFSETFROM:+0200
TZOFFSETTO:+0100
TZNAME:CET
DTSTART:20241027T010000
END:STANDARD
BEGIN:DAYLIGHT
TZOFFSETFROM:+0100
TZOFFSETTO:+0200
TZNAME:CEST
DTSTART:20250330T010000
END:DAYLIGHT
BEGIN:STANDARD
TZOFFSETFROM:+0200
TZOFFSETTO:+0100
TZNAME:CET
DTSTART:20251026T010000
END:STANDARD
BEGIN:DAYLIGHT
TZOFFSETFROM:+0100
TZOFFSETTO:+0200
TZNAME:CEST
DTSTART:20260329T010000
END:DAYLIGHT
BEGIN:STANDARD
TZOFFSETFROM:+0200
TZOFFSETTO:+0100
TZNAME:CET
DTSTART:20261025T010000
END:STANDARD
END:VTIMEZONE
BEGIN:VEVENT
DTSTART;TZID=Europe/Paris:20250202T143000
DTEND;TZID=Europe/Paris:20250202T173000
DTSTAMP:20260423T124651
CREATED:20250118T143653Z
LAST-MODIFIED:20250118T143653Z
UID:10002879-1738506600-1738517400@www.gard30.fr
SUMMARY:Loto aux Angles
DESCRIPTION:OUVERTURE DES PORTES À 13H30 \n4000€ DE LOTS BONS D’ACHAT\, JAMBONS\, PANIERS GARNIS ÉLECTROMÉNAGER \n1 CARTON 5€ 3 CARTONS 10€ 7 CARTONS 20€
URL:https://www.gard30.fr/agenda/loto-les-angles/
LOCATION:Le forum – les Angles\, Boulevard des Carrières 10\, Les Angles\, Gard\, 30133\, France
CATEGORIES:Loto
ATTACH;FMTTYPE=image/jpeg:https://www.gard30.fr/wp-content/uploads/2025/01/Affiche-Loto-A4-BD-2025.jpg
GEO:43.959947;4.767663
X-APPLE-STRUCTURED-LOCATION;VALUE=URI;X-ADDRESS=Le forum – les Angles Boulevard des Carrières 10 Les Angles Gard 30133 France;X-APPLE-RADIUS=500;X-TITLE=Boulevard des Carrières 10:geo:4.767663,43.959947
END:VEVENT
END:VCALENDAR