BEGIN:VCALENDAR
VERSION:2.0
PRODID:-//Gard 30 - ECPv6.15.20//NONSGML v1.0//EN
CALSCALE:GREGORIAN
METHOD:PUBLISH
X-WR-CALNAME:Gard 30
X-ORIGINAL-URL:https://www.gard30.fr
X-WR-CALDESC:Évènements pour Gard 30
REFRESH-INTERVAL;VALUE=DURATION:PT1H
X-Robots-Tag:noindex
X-PUBLISHED-TTL:PT1H
BEGIN:VTIMEZONE
TZID:Europe/Paris
BEGIN:DAYLIGHT
TZOFFSETFROM:+0100
TZOFFSETTO:+0200
TZNAME:CEST
DTSTART:20240331T010000
END:DAYLIGHT
BEGIN:STANDARD
TZOFFSETFROM:+0200
TZOFFSETTO:+0100
TZNAME:CET
DTSTART:20241027T010000
END:STANDARD
BEGIN:DAYLIGHT
TZOFFSETFROM:+0100
TZOFFSETTO:+0200
TZNAME:CEST
DTSTART:20250330T010000
END:DAYLIGHT
BEGIN:STANDARD
TZOFFSETFROM:+0200
TZOFFSETTO:+0100
TZNAME:CET
DTSTART:20251026T010000
END:STANDARD
BEGIN:DAYLIGHT
TZOFFSETFROM:+0100
TZOFFSETTO:+0200
TZNAME:CEST
DTSTART:20260329T010000
END:DAYLIGHT
BEGIN:STANDARD
TZOFFSETFROM:+0200
TZOFFSETTO:+0100
TZNAME:CET
DTSTART:20261025T010000
END:STANDARD
END:VTIMEZONE
BEGIN:VEVENT
DTSTART;TZID=Europe/Paris:20250223T160000
DTEND;TZID=Europe/Paris:20250223T190000
DTSTAMP:20260425T190812
CREATED:20241025T082741Z
LAST-MODIFIED:20250222T204514Z
UID:10002054-1740326400-1740337200@www.gard30.fr
SUMMARY:Loto à Quissac
DESCRIPTION:1 Voyage à Santa Susanna pour 2 Personnes \n4 Jrs Pension Complète hôtel 4*** avec boissons et excursions Valeur 578€ \n3 Bons d’achat de 60 Euros \n1 Blender Moulinex \n1 Télévision J.V.C. Led 80 cm Valeur 200 € \n5 Poteries d’Anduze garnies de Produits alimentaires \n1 Carte cadeau de 60 € chez DARTY ou F.N.A.C I Caméra de surveillance Intérieur Ranger Dual blanc \n1 Une Journée Cochon grillé en Ardèche pour 2 personnes avec excursions Valeur 166 € \n1 Grille viande et panini « Initio» Téfal \n1 Bon cadeau de 60 € à la boucherie Yvanez de Quissac \n1 Collier cravate en argent Valeur 139 € \n3 Jambons + Vin – 1 Consolante \nEnveloppes Surprises \n(25 Petits lots – 25 jeux à gratter) \nDans toutes les enveloppes en + I carton et 1 billet de loterie \n2 € Le Carton – 10 € les 7 Cartons – 20 € les 15 Cartons Salle Chauffée – Buvette – Loterie – Pâtisserie – Crêpes – Parking
URL:https://www.gard30.fr/agenda/loto-a-quissac-21/
LOCATION:Foyer Municipal Désiré Rousset Quissac\, Avenue du Onze Novembre\, Quissac\, Gard\, 30260\, France
CATEGORIES:Loto
ATTACH;FMTTYPE=image/jpeg:https://www.gard30.fr/wp-content/uploads/2024/10/B8C3EA90-2C1A-4263-BFAC-FC15B7C4F822_1_105_c.jpeg
ORGANIZER;CN="Amicale quissacoise de loisirs et voyages - Quissac":MAILTO:deniscavagna2@orange.fr
GEO:43.9101808;4.0013105
X-APPLE-STRUCTURED-LOCATION;VALUE=URI;X-ADDRESS=Foyer Municipal Désiré Rousset Quissac Avenue du Onze Novembre Quissac Gard 30260 France;X-APPLE-RADIUS=500;X-TITLE=Avenue du Onze Novembre:geo:4.0013105,43.9101808
END:VEVENT
END:VCALENDAR