BEGIN:VCALENDAR
VERSION:2.0
PRODID:-//Gard 30 - ECPv6.15.20//NONSGML v1.0//EN
CALSCALE:GREGORIAN
METHOD:PUBLISH
X-ORIGINAL-URL:https://www.gard30.fr
X-WR-CALDESC:Évènements pour Gard 30
REFRESH-INTERVAL;VALUE=DURATION:PT1H
X-Robots-Tag:noindex
X-PUBLISHED-TTL:PT1H
BEGIN:VTIMEZONE
TZID:Europe/Paris
BEGIN:DAYLIGHT
TZOFFSETFROM:+0100
TZOFFSETTO:+0200
TZNAME:CEST
DTSTART:20240331T010000
END:DAYLIGHT
BEGIN:STANDARD
TZOFFSETFROM:+0200
TZOFFSETTO:+0100
TZNAME:CET
DTSTART:20241027T010000
END:STANDARD
BEGIN:DAYLIGHT
TZOFFSETFROM:+0100
TZOFFSETTO:+0200
TZNAME:CEST
DTSTART:20250330T010000
END:DAYLIGHT
BEGIN:STANDARD
TZOFFSETFROM:+0200
TZOFFSETTO:+0100
TZNAME:CET
DTSTART:20251026T010000
END:STANDARD
BEGIN:DAYLIGHT
TZOFFSETFROM:+0100
TZOFFSETTO:+0200
TZNAME:CEST
DTSTART:20260329T010000
END:DAYLIGHT
BEGIN:STANDARD
TZOFFSETFROM:+0200
TZOFFSETTO:+0100
TZNAME:CET
DTSTART:20261025T010000
END:STANDARD
END:VTIMEZONE
BEGIN:VEVENT
DTSTART;TZID=Europe/Paris:20250201T150000
DTEND;TZID=Europe/Paris:20250201T180000
DTSTAMP:20260422T030445
CREATED:20250115T102119Z
LAST-MODIFIED:20250115T102119Z
UID:10002870-1738422000-1738432800@www.gard30.fr
SUMMARY:Loto à Saint Maurice de Cazevielle
DESCRIPTION:Samedi 1 février 2025 \n15H : Loto\nSalle des Fêtes\n2€ LE CARTON\n10€ LES 6 CARTONS\n20€ LES 13 CARTONS
URL:https://www.gard30.fr/agenda/loto-a-saint-maurice-de-cazevielle/
LOCATION:Salle des fêtes de Saint-Maurice-de-Cazevieille\, 64 Route Montée de Pissevin\, Saint-Maurice-de-Cazevieille\, Gard\, 30360\, France
CATEGORIES:Loto
ATTACH;FMTTYPE=image/jpeg:https://www.gard30.fr/wp-content/uploads/2025/01/D34865BB-0C60-4B80-A21A-99496822DE92_1_105_c.jpeg
ORGANIZER;CN="APE les 3 villages - Saint Maurice de Cazevieille%2C Saint Dezery et Castelnau Valence":MAILTO:lestroisvillagesape@gmail.com
GEO:44.0318031;4.2339769
X-APPLE-STRUCTURED-LOCATION;VALUE=URI;X-ADDRESS=Salle des fêtes de Saint-Maurice-de-Cazevieille 64 Route Montée de Pissevin Saint-Maurice-de-Cazevieille Gard 30360 France;X-APPLE-RADIUS=500;X-TITLE=64 Route Montée de Pissevin:geo:4.2339769,44.0318031
END:VEVENT
END:VCALENDAR