BEGIN:VCALENDAR
VERSION:2.0
PRODID:-//Gard 30 - ECPv6.15.20//NONSGML v1.0//EN
CALSCALE:GREGORIAN
METHOD:PUBLISH
X-ORIGINAL-URL:https://www.gard30.fr
X-WR-CALDESC:Évènements pour Gard 30
REFRESH-INTERVAL;VALUE=DURATION:PT1H
X-Robots-Tag:noindex
X-PUBLISHED-TTL:PT1H
BEGIN:VTIMEZONE
TZID:Europe/Paris
BEGIN:DAYLIGHT
TZOFFSETFROM:+0100
TZOFFSETTO:+0200
TZNAME:CEST
DTSTART:20240331T010000
END:DAYLIGHT
BEGIN:STANDARD
TZOFFSETFROM:+0200
TZOFFSETTO:+0100
TZNAME:CET
DTSTART:20241027T010000
END:STANDARD
BEGIN:DAYLIGHT
TZOFFSETFROM:+0100
TZOFFSETTO:+0200
TZNAME:CEST
DTSTART:20250330T010000
END:DAYLIGHT
BEGIN:STANDARD
TZOFFSETFROM:+0200
TZOFFSETTO:+0100
TZNAME:CET
DTSTART:20251026T010000
END:STANDARD
BEGIN:DAYLIGHT
TZOFFSETFROM:+0100
TZOFFSETTO:+0200
TZNAME:CEST
DTSTART:20260329T010000
END:DAYLIGHT
BEGIN:STANDARD
TZOFFSETFROM:+0200
TZOFFSETTO:+0100
TZNAME:CET
DTSTART:20261025T010000
END:STANDARD
END:VTIMEZONE
BEGIN:VEVENT
DTSTART;TZID=Europe/Paris:20250315T070000
DTEND;TZID=Europe/Paris:20250315T140000
DTSTAMP:20260424T214257
CREATED:20250310T095311Z
LAST-MODIFIED:20250310T095311Z
UID:10003264-1742022000-1742047200@www.gard30.fr
SUMMARY:Vide grenier à Saint-Gilles
DESCRIPTION:Vide grenier à Saint-Gilles le samedi 15 mars de 7h à 14h \n\nBuvette et snack\n\nRenseignement et inscription au 07 88 89 30 90 (appel 9h-19h ou par sms\, merci de préciser nom/prénom/code postale/plaque d’immatriculation)
URL:https://www.gard30.fr/agenda/vide-grenier-a-saint-gilles/
LOCATION:Arènes de Saint-Gilles\, Avenue Emile Cazelles\, Saint-Gilles\, Gard\, 30800\, France
CATEGORIES:Vide-greniers
ATTACH;FMTTYPE=image/jpeg:https://www.gard30.fr/wp-content/uploads/2025/03/8CD8E537-FA75-4128-89F2-017DB724E6BA.jpeg
ORGANIZER;CN="APE Les Calades - Saint-Gilles":MAILTO:apecalades@gmail.com
GEO:43.6766373;4.4355282
X-APPLE-STRUCTURED-LOCATION;VALUE=URI;X-ADDRESS=Arènes de Saint-Gilles Avenue Emile Cazelles Saint-Gilles Gard 30800 France;X-APPLE-RADIUS=500;X-TITLE=Avenue Emile Cazelles:geo:4.4355282,43.6766373
END:VEVENT
END:VCALENDAR