BEGIN:VCALENDAR
VERSION:2.0
PRODID:-//Gard 30 - ECPv6.15.20//NONSGML v1.0//EN
CALSCALE:GREGORIAN
METHOD:PUBLISH
X-WR-CALNAME:Gard 30
X-ORIGINAL-URL:https://www.gard30.fr
X-WR-CALDESC:Évènements pour Gard 30
REFRESH-INTERVAL;VALUE=DURATION:PT1H
X-Robots-Tag:noindex
X-PUBLISHED-TTL:PT1H
BEGIN:VTIMEZONE
TZID:Europe/Paris
BEGIN:DAYLIGHT
TZOFFSETFROM:+0100
TZOFFSETTO:+0200
TZNAME:CEST
DTSTART:20230326T010000
END:DAYLIGHT
BEGIN:STANDARD
TZOFFSETFROM:+0200
TZOFFSETTO:+0100
TZNAME:CET
DTSTART:20231029T010000
END:STANDARD
BEGIN:DAYLIGHT
TZOFFSETFROM:+0100
TZOFFSETTO:+0200
TZNAME:CEST
DTSTART:20240331T010000
END:DAYLIGHT
BEGIN:STANDARD
TZOFFSETFROM:+0200
TZOFFSETTO:+0100
TZNAME:CET
DTSTART:20241027T010000
END:STANDARD
BEGIN:DAYLIGHT
TZOFFSETFROM:+0100
TZOFFSETTO:+0200
TZNAME:CEST
DTSTART:20250330T010000
END:DAYLIGHT
BEGIN:STANDARD
TZOFFSETFROM:+0200
TZOFFSETTO:+0100
TZNAME:CET
DTSTART:20251026T010000
END:STANDARD
END:VTIMEZONE
BEGIN:VEVENT
DTSTART;TZID=Europe/Paris:20241201T140000
DTEND;TZID=Europe/Paris:20241201T170000
DTSTAMP:20260424T071804
CREATED:20241123T125414Z
LAST-MODIFIED:20241126T102321Z
UID:10002405-1733061600-1733072400@www.gard30.fr
SUMMARY:Loto à Bagnols sur Cèze
DESCRIPTION:Loto à Bagnols sur Cèze le dimanche 1er décembre à 14h \n\n2€ le carton\n10€ les 6 cartons\nbuvette sur place\nNombreux lots : paniers garnis\, parc Spirou\, ps5\, bon d’achats\, et bien d’autres lots à gagner
URL:https://www.gard30.fr/agenda/loto-a-bagnols-sur-ceze-7/
LOCATION:Salle multiculturelle – Bagnols-sur-Cèze\, Rue Racine\, Bagnols-sur-Cèze\, Gard\, 30200\, France
CATEGORIES:Loto
ATTACH;FMTTYPE=image/jpeg:https://www.gard30.fr/wp-content/uploads/2024/11/0E022E7E-9C34-4B49-81AC-19F9953C6290_1_105_c.jpeg
ORGANIZER;CN="APE Les p'tits Jaures - Bagnols sur C%C3%A8ze":MAILTO:apeljjaures@laposte.net
GEO:44.1594091;4.6206935
X-APPLE-STRUCTURED-LOCATION;VALUE=URI;X-ADDRESS=Salle multiculturelle – Bagnols-sur-Cèze Rue Racine Bagnols-sur-Cèze Gard 30200 France;X-APPLE-RADIUS=500;X-TITLE=Rue Racine:geo:4.6206935,44.1594091
END:VEVENT
END:VCALENDAR