BEGIN:VCALENDAR
VERSION:2.0
PRODID:-//Gard 30 - ECPv6.15.20//NONSGML v1.0//EN
CALSCALE:GREGORIAN
METHOD:PUBLISH
X-ORIGINAL-URL:https://www.gard30.fr
X-WR-CALDESC:Évènements pour Gard 30
REFRESH-INTERVAL;VALUE=DURATION:PT1H
X-Robots-Tag:noindex
X-PUBLISHED-TTL:PT1H
BEGIN:VTIMEZONE
TZID:Europe/Paris
BEGIN:DAYLIGHT
TZOFFSETFROM:+0100
TZOFFSETTO:+0200
TZNAME:CEST
DTSTART:20210328T010000
END:DAYLIGHT
BEGIN:STANDARD
TZOFFSETFROM:+0200
TZOFFSETTO:+0100
TZNAME:CET
DTSTART:20211031T010000
END:STANDARD
BEGIN:DAYLIGHT
TZOFFSETFROM:+0100
TZOFFSETTO:+0200
TZNAME:CEST
DTSTART:20220327T010000
END:DAYLIGHT
BEGIN:STANDARD
TZOFFSETFROM:+0200
TZOFFSETTO:+0100
TZNAME:CET
DTSTART:20221030T010000
END:STANDARD
BEGIN:DAYLIGHT
TZOFFSETFROM:+0100
TZOFFSETTO:+0200
TZNAME:CEST
DTSTART:20230326T010000
END:DAYLIGHT
BEGIN:STANDARD
TZOFFSETFROM:+0200
TZOFFSETTO:+0100
TZNAME:CET
DTSTART:20231029T010000
END:STANDARD
END:VTIMEZONE
BEGIN:VEVENT
DTSTART;TZID=Europe/Paris:20220824T210000
DTEND;TZID=Europe/Paris:20220824T233000
DTSTAMP:20260423T111414
CREATED:20220712T212042Z
LAST-MODIFIED:20220712T212042Z
UID:10000395-1661374800-1661383800@www.gard30.fr
SUMMARY:Toro piscine au Grau du Roi
DESCRIPTION:Toro piscine DJ show spécial Vinci
URL:https://www.gard30.fr/agenda/toro-piscine-au-grau-du-roi-18/
LOCATION:Arènes du Grau du Roi\, Route d'Aigues Mortes\, Le Grau-du-Roi\, Gard\, 30240\, France
CATEGORIES:Toro Piscine et Toro Mousse
ATTACH;FMTTYPE=image/png:https://www.gard30.fr/wp-content/uploads/2022/07/2022-07-12-23_12_06-BAT-AFF-42X594-TP-GRAU-DU-ROI.webp-488×670.png
GEO:43.5385007;4.1422747
X-APPLE-STRUCTURED-LOCATION;VALUE=URI;X-ADDRESS=Arènes du Grau du Roi Route d'Aigues Mortes Le Grau-du-Roi Gard 30240 France;X-APPLE-RADIUS=500;X-TITLE=Route d'Aigues Mortes:geo:4.1422747,43.5385007
END:VEVENT
BEGIN:VEVENT
DTSTART;TZID=Europe/Paris:20220822T210000
DTEND;TZID=Europe/Paris:20220822T233000
DTSTAMP:20260423T111414
CREATED:20220712T212005Z
LAST-MODIFIED:20220712T212005Z
UID:10000394-1661202000-1661211000@www.gard30.fr
SUMMARY:Toro piscine au Grau du Roi
DESCRIPTION:
URL:https://www.gard30.fr/agenda/toro-piscine-au-grau-du-roi-17/
LOCATION:Arènes du Grau du Roi\, Route d'Aigues Mortes\, Le Grau-du-Roi\, Gard\, 30240\, France
CATEGORIES:Toro Piscine et Toro Mousse
ATTACH;FMTTYPE=image/png:https://www.gard30.fr/wp-content/uploads/2022/07/2022-07-12-23_12_06-BAT-AFF-42X594-TP-GRAU-DU-ROI.webp-488×670.png
GEO:43.5385007;4.1422747
X-APPLE-STRUCTURED-LOCATION;VALUE=URI;X-ADDRESS=Arènes du Grau du Roi Route d'Aigues Mortes Le Grau-du-Roi Gard 30240 France;X-APPLE-RADIUS=500;X-TITLE=Route d'Aigues Mortes:geo:4.1422747,43.5385007
END:VEVENT
BEGIN:VEVENT
DTSTART;TZID=Europe/Paris:20220819T210000
DTEND;TZID=Europe/Paris:20220819T233000
DTSTAMP:20260423T111414
CREATED:20220712T211952Z
LAST-MODIFIED:20220712T211952Z
UID:10000393-1660942800-1660951800@www.gard30.fr
SUMMARY:Toro piscine au Grau du Roi
DESCRIPTION:
URL:https://www.gard30.fr/agenda/toro-piscine-au-grau-du-roi-16/
LOCATION:Arènes du Grau du Roi\, Route d'Aigues Mortes\, Le Grau-du-Roi\, Gard\, 30240\, France
CATEGORIES:Toro Piscine et Toro Mousse
ATTACH;FMTTYPE=image/png:https://www.gard30.fr/wp-content/uploads/2022/07/2022-07-12-23_12_06-BAT-AFF-42X594-TP-GRAU-DU-ROI.webp-488×670.png
GEO:43.5385007;4.1422747
X-APPLE-STRUCTURED-LOCATION;VALUE=URI;X-ADDRESS=Arènes du Grau du Roi Route d'Aigues Mortes Le Grau-du-Roi Gard 30240 France;X-APPLE-RADIUS=500;X-TITLE=Route d'Aigues Mortes:geo:4.1422747,43.5385007
END:VEVENT
BEGIN:VEVENT
DTSTART;TZID=Europe/Paris:20220817T210000
DTEND;TZID=Europe/Paris:20220817T233000
DTSTAMP:20260423T111414
CREATED:20220712T211936Z
LAST-MODIFIED:20220712T211936Z
UID:10000392-1660770000-1660779000@www.gard30.fr
SUMMARY:Toro piscine au Grau du Roi
DESCRIPTION:Toro piscine en or
URL:https://www.gard30.fr/agenda/toro-piscine-au-grau-du-roi-15/
LOCATION:Arènes du Grau du Roi\, Route d'Aigues Mortes\, Le Grau-du-Roi\, Gard\, 30240\, France
CATEGORIES:Toro Piscine et Toro Mousse
ATTACH;FMTTYPE=image/png:https://www.gard30.fr/wp-content/uploads/2022/07/2022-07-12-23_12_06-BAT-AFF-42X594-TP-GRAU-DU-ROI.webp-488×670.png
GEO:43.5385007;4.1422747
X-APPLE-STRUCTURED-LOCATION;VALUE=URI;X-ADDRESS=Arènes du Grau du Roi Route d'Aigues Mortes Le Grau-du-Roi Gard 30240 France;X-APPLE-RADIUS=500;X-TITLE=Route d'Aigues Mortes:geo:4.1422747,43.5385007
END:VEVENT
BEGIN:VEVENT
DTSTART;TZID=Europe/Paris:20220814T210000
DTEND;TZID=Europe/Paris:20220814T233000
DTSTAMP:20260423T111414
CREATED:20220712T211831Z
LAST-MODIFIED:20220712T211924Z
UID:10000391-1660510800-1660519800@www.gard30.fr
SUMMARY:Toro piscine au Grau du Roi
DESCRIPTION:Soirée spéciale
URL:https://www.gard30.fr/agenda/toro-piscine-au-grau-du-roi-14/
LOCATION:Arènes du Grau du Roi\, Route d'Aigues Mortes\, Le Grau-du-Roi\, Gard\, 30240\, France
CATEGORIES:Toro Piscine et Toro Mousse
ATTACH;FMTTYPE=image/png:https://www.gard30.fr/wp-content/uploads/2022/07/2022-07-12-23_12_06-BAT-AFF-42X594-TP-GRAU-DU-ROI.webp-488×670.png
GEO:43.5385007;4.1422747
X-APPLE-STRUCTURED-LOCATION;VALUE=URI;X-ADDRESS=Arènes du Grau du Roi Route d'Aigues Mortes Le Grau-du-Roi Gard 30240 France;X-APPLE-RADIUS=500;X-TITLE=Route d'Aigues Mortes:geo:4.1422747,43.5385007
END:VEVENT
BEGIN:VEVENT
DTSTART;TZID=Europe/Paris:20220812T210000
DTEND;TZID=Europe/Paris:20220812T233000
DTSTAMP:20260423T111414
CREATED:20220712T211819Z
LAST-MODIFIED:20220712T211819Z
UID:10000390-1660338000-1660347000@www.gard30.fr
SUMMARY:Toro piscine au Grau du Roi
DESCRIPTION:
URL:https://www.gard30.fr/agenda/toro-piscine-au-grau-du-roi-13/
LOCATION:Arènes du Grau du Roi\, Route d'Aigues Mortes\, Le Grau-du-Roi\, Gard\, 30240\, France
CATEGORIES:Toro Piscine et Toro Mousse
ATTACH;FMTTYPE=image/png:https://www.gard30.fr/wp-content/uploads/2022/07/2022-07-12-23_12_06-BAT-AFF-42X594-TP-GRAU-DU-ROI.webp-488×670.png
GEO:43.5385007;4.1422747
X-APPLE-STRUCTURED-LOCATION;VALUE=URI;X-ADDRESS=Arènes du Grau du Roi Route d'Aigues Mortes Le Grau-du-Roi Gard 30240 France;X-APPLE-RADIUS=500;X-TITLE=Route d'Aigues Mortes:geo:4.1422747,43.5385007
END:VEVENT
BEGIN:VEVENT
DTSTART;TZID=Europe/Paris:20220810T210000
DTEND;TZID=Europe/Paris:20220810T233000
DTSTAMP:20260423T111414
CREATED:20220712T211812Z
LAST-MODIFIED:20220712T211812Z
UID:10000389-1660165200-1660174200@www.gard30.fr
SUMMARY:Toro piscine au Grau du Roi
DESCRIPTION:Toro piscine DJ SHOW
URL:https://www.gard30.fr/agenda/toro-piscine-au-grau-du-roi-12/
LOCATION:Arènes du Grau du Roi\, Route d'Aigues Mortes\, Le Grau-du-Roi\, Gard\, 30240\, France
CATEGORIES:Toro Piscine et Toro Mousse
ATTACH;FMTTYPE=image/png:https://www.gard30.fr/wp-content/uploads/2022/07/2022-07-12-23_12_06-BAT-AFF-42X594-TP-GRAU-DU-ROI.webp-488×670.png
GEO:43.5385007;4.1422747
X-APPLE-STRUCTURED-LOCATION;VALUE=URI;X-ADDRESS=Arènes du Grau du Roi Route d'Aigues Mortes Le Grau-du-Roi Gard 30240 France;X-APPLE-RADIUS=500;X-TITLE=Route d'Aigues Mortes:geo:4.1422747,43.5385007
END:VEVENT
BEGIN:VEVENT
DTSTART;TZID=Europe/Paris:20220808T210000
DTEND;TZID=Europe/Paris:20220808T233000
DTSTAMP:20260423T111414
CREATED:20220712T211807Z
LAST-MODIFIED:20220712T211807Z
UID:10000388-1659992400-1660001400@www.gard30.fr
SUMMARY:Toro piscine au Grau du Roi
DESCRIPTION:
URL:https://www.gard30.fr/agenda/toro-piscine-au-grau-du-roi-11/
LOCATION:Arènes du Grau du Roi\, Route d'Aigues Mortes\, Le Grau-du-Roi\, Gard\, 30240\, France
CATEGORIES:Toro Piscine et Toro Mousse
ATTACH;FMTTYPE=image/png:https://www.gard30.fr/wp-content/uploads/2022/07/2022-07-12-23_12_06-BAT-AFF-42X594-TP-GRAU-DU-ROI.webp-488×670.png
GEO:43.5385007;4.1422747
X-APPLE-STRUCTURED-LOCATION;VALUE=URI;X-ADDRESS=Arènes du Grau du Roi Route d'Aigues Mortes Le Grau-du-Roi Gard 30240 France;X-APPLE-RADIUS=500;X-TITLE=Route d'Aigues Mortes:geo:4.1422747,43.5385007
END:VEVENT
BEGIN:VEVENT
DTSTART;TZID=Europe/Paris:20220805T210000
DTEND;TZID=Europe/Paris:20220805T233000
DTSTAMP:20260423T111414
CREATED:20220712T211746Z
LAST-MODIFIED:20220712T211746Z
UID:10000387-1659733200-1659742200@www.gard30.fr
SUMMARY:Toro piscine au Grau du Roi
DESCRIPTION:
URL:https://www.gard30.fr/agenda/toro-piscine-au-grau-du-roi-10/
LOCATION:Arènes du Grau du Roi\, Route d'Aigues Mortes\, Le Grau-du-Roi\, Gard\, 30240\, France
CATEGORIES:Toro Piscine et Toro Mousse
ATTACH;FMTTYPE=image/png:https://www.gard30.fr/wp-content/uploads/2022/07/2022-07-12-23_12_06-BAT-AFF-42X594-TP-GRAU-DU-ROI.webp-488×670.png
GEO:43.5385007;4.1422747
X-APPLE-STRUCTURED-LOCATION;VALUE=URI;X-ADDRESS=Arènes du Grau du Roi Route d'Aigues Mortes Le Grau-du-Roi Gard 30240 France;X-APPLE-RADIUS=500;X-TITLE=Route d'Aigues Mortes:geo:4.1422747,43.5385007
END:VEVENT
BEGIN:VEVENT
DTSTART;TZID=Europe/Paris:20220803T210000
DTEND;TZID=Europe/Paris:20220803T233000
DTSTAMP:20260423T111414
CREATED:20220712T211738Z
LAST-MODIFIED:20220712T211738Z
UID:10000386-1659560400-1659569400@www.gard30.fr
SUMMARY:Toro piscine au Grau du Roi
DESCRIPTION:Toro piscine en Or
URL:https://www.gard30.fr/agenda/toro-piscine-au-grau-du-roi-9/
LOCATION:Arènes du Grau du Roi\, Route d'Aigues Mortes\, Le Grau-du-Roi\, Gard\, 30240\, France
CATEGORIES:Toro Piscine et Toro Mousse
ATTACH;FMTTYPE=image/png:https://www.gard30.fr/wp-content/uploads/2022/07/2022-07-12-23_12_06-BAT-AFF-42X594-TP-GRAU-DU-ROI.webp-488×670.png
GEO:43.5385007;4.1422747
X-APPLE-STRUCTURED-LOCATION;VALUE=URI;X-ADDRESS=Arènes du Grau du Roi Route d'Aigues Mortes Le Grau-du-Roi Gard 30240 France;X-APPLE-RADIUS=500;X-TITLE=Route d'Aigues Mortes:geo:4.1422747,43.5385007
END:VEVENT
BEGIN:VEVENT
DTSTART;TZID=Europe/Paris:20220801T210000
DTEND;TZID=Europe/Paris:20220801T233000
DTSTAMP:20260423T111414
CREATED:20220712T211729Z
LAST-MODIFIED:20220712T211729Z
UID:10000385-1659387600-1659396600@www.gard30.fr
SUMMARY:Toro piscine au Grau du Roi
DESCRIPTION:
URL:https://www.gard30.fr/agenda/toro-piscine-au-grau-du-roi-8/
LOCATION:Arènes du Grau du Roi\, Route d'Aigues Mortes\, Le Grau-du-Roi\, Gard\, 30240\, France
CATEGORIES:Toro Piscine et Toro Mousse
ATTACH;FMTTYPE=image/png:https://www.gard30.fr/wp-content/uploads/2022/07/2022-07-12-23_12_06-BAT-AFF-42X594-TP-GRAU-DU-ROI.webp-488×670.png
GEO:43.5385007;4.1422747
X-APPLE-STRUCTURED-LOCATION;VALUE=URI;X-ADDRESS=Arènes du Grau du Roi Route d'Aigues Mortes Le Grau-du-Roi Gard 30240 France;X-APPLE-RADIUS=500;X-TITLE=Route d'Aigues Mortes:geo:4.1422747,43.5385007
END:VEVENT
BEGIN:VEVENT
DTSTART;TZID=Europe/Paris:20220729T210000
DTEND;TZID=Europe/Paris:20220729T233000
DTSTAMP:20260423T111414
CREATED:20220712T211711Z
LAST-MODIFIED:20220712T211711Z
UID:10000384-1659128400-1659137400@www.gard30.fr
SUMMARY:Toro piscine au Grau du Roi
DESCRIPTION:
URL:https://www.gard30.fr/agenda/toro-piscine-au-grau-du-roi-7/
LOCATION:Arènes du Grau du Roi\, Route d'Aigues Mortes\, Le Grau-du-Roi\, Gard\, 30240\, France
CATEGORIES:Toro Piscine et Toro Mousse
ATTACH;FMTTYPE=image/png:https://www.gard30.fr/wp-content/uploads/2022/07/2022-07-12-23_12_06-BAT-AFF-42X594-TP-GRAU-DU-ROI.webp-488×670.png
GEO:43.5385007;4.1422747
X-APPLE-STRUCTURED-LOCATION;VALUE=URI;X-ADDRESS=Arènes du Grau du Roi Route d'Aigues Mortes Le Grau-du-Roi Gard 30240 France;X-APPLE-RADIUS=500;X-TITLE=Route d'Aigues Mortes:geo:4.1422747,43.5385007
END:VEVENT
BEGIN:VEVENT
DTSTART;TZID=Europe/Paris:20220727T210000
DTEND;TZID=Europe/Paris:20220727T233000
DTSTAMP:20260423T111414
CREATED:20220712T211653Z
LAST-MODIFIED:20220712T211653Z
UID:10000383-1658955600-1658964600@www.gard30.fr
SUMMARY:Toro piscine au Grau du Roi
DESCRIPTION:Toro piscine DJ SHOW
URL:https://www.gard30.fr/agenda/toro-piscine-au-grau-du-roi-6/
LOCATION:Arènes du Grau du Roi\, Route d'Aigues Mortes\, Le Grau-du-Roi\, Gard\, 30240\, France
CATEGORIES:Toro Piscine et Toro Mousse
ATTACH;FMTTYPE=image/png:https://www.gard30.fr/wp-content/uploads/2022/07/2022-07-12-23_12_06-BAT-AFF-42X594-TP-GRAU-DU-ROI.webp-488×670.png
GEO:43.5385007;4.1422747
X-APPLE-STRUCTURED-LOCATION;VALUE=URI;X-ADDRESS=Arènes du Grau du Roi Route d'Aigues Mortes Le Grau-du-Roi Gard 30240 France;X-APPLE-RADIUS=500;X-TITLE=Route d'Aigues Mortes:geo:4.1422747,43.5385007
END:VEVENT
BEGIN:VEVENT
DTSTART;TZID=Europe/Paris:20220725T210000
DTEND;TZID=Europe/Paris:20220725T233000
DTSTAMP:20260423T111414
CREATED:20220712T211646Z
LAST-MODIFIED:20220712T211646Z
UID:10000382-1658782800-1658791800@www.gard30.fr
SUMMARY:Toro piscine au Grau du Roi
DESCRIPTION:
URL:https://www.gard30.fr/agenda/toro-piscine-au-grau-du-roi-5/
LOCATION:Arènes du Grau du Roi\, Route d'Aigues Mortes\, Le Grau-du-Roi\, Gard\, 30240\, France
CATEGORIES:Toro Piscine et Toro Mousse
ATTACH;FMTTYPE=image/png:https://www.gard30.fr/wp-content/uploads/2022/07/2022-07-12-23_12_06-BAT-AFF-42X594-TP-GRAU-DU-ROI.webp-488×670.png
GEO:43.5385007;4.1422747
X-APPLE-STRUCTURED-LOCATION;VALUE=URI;X-ADDRESS=Arènes du Grau du Roi Route d'Aigues Mortes Le Grau-du-Roi Gard 30240 France;X-APPLE-RADIUS=500;X-TITLE=Route d'Aigues Mortes:geo:4.1422747,43.5385007
END:VEVENT
BEGIN:VEVENT
DTSTART;TZID=Europe/Paris:20220722T210000
DTEND;TZID=Europe/Paris:20220722T233000
DTSTAMP:20260423T111414
CREATED:20220712T211635Z
LAST-MODIFIED:20220712T211635Z
UID:10000381-1658523600-1658532600@www.gard30.fr
SUMMARY:Toro piscine au Grau du Roi
DESCRIPTION:
URL:https://www.gard30.fr/agenda/toro-piscine-au-grau-du-roi-4/
LOCATION:Arènes du Grau du Roi\, Route d'Aigues Mortes\, Le Grau-du-Roi\, Gard\, 30240\, France
CATEGORIES:Toro Piscine et Toro Mousse
ATTACH;FMTTYPE=image/png:https://www.gard30.fr/wp-content/uploads/2022/07/2022-07-12-23_12_06-BAT-AFF-42X594-TP-GRAU-DU-ROI.webp-488×670.png
GEO:43.5385007;4.1422747
X-APPLE-STRUCTURED-LOCATION;VALUE=URI;X-ADDRESS=Arènes du Grau du Roi Route d'Aigues Mortes Le Grau-du-Roi Gard 30240 France;X-APPLE-RADIUS=500;X-TITLE=Route d'Aigues Mortes:geo:4.1422747,43.5385007
END:VEVENT
BEGIN:VEVENT
DTSTART;TZID=Europe/Paris:20220718T210000
DTEND;TZID=Europe/Paris:20220718T233000
DTSTAMP:20260423T111414
CREATED:20220712T211604Z
LAST-MODIFIED:20220712T211604Z
UID:10000380-1658178000-1658187000@www.gard30.fr
SUMMARY:Toro piscine au Grau du Roi
DESCRIPTION:
URL:https://www.gard30.fr/agenda/toro-piscine-au-grau-du-roi-3/
LOCATION:Arènes du Grau du Roi\, Route d'Aigues Mortes\, Le Grau-du-Roi\, Gard\, 30240\, France
CATEGORIES:Toro Piscine et Toro Mousse
ATTACH;FMTTYPE=image/png:https://www.gard30.fr/wp-content/uploads/2022/07/2022-07-12-23_12_06-BAT-AFF-42X594-TP-GRAU-DU-ROI.webp-488×670.png
GEO:43.5385007;4.1422747
X-APPLE-STRUCTURED-LOCATION;VALUE=URI;X-ADDRESS=Arènes du Grau du Roi Route d'Aigues Mortes Le Grau-du-Roi Gard 30240 France;X-APPLE-RADIUS=500;X-TITLE=Route d'Aigues Mortes:geo:4.1422747,43.5385007
END:VEVENT
BEGIN:VEVENT
DTSTART;TZID=Europe/Paris:20220715T210000
DTEND;TZID=Europe/Paris:20220715T233000
DTSTAMP:20260423T111414
CREATED:20220712T211547Z
LAST-MODIFIED:20220712T211547Z
UID:10000379-1657918800-1657927800@www.gard30.fr
SUMMARY:Toro piscine au Grau du Roi
DESCRIPTION:
URL:https://www.gard30.fr/agenda/toro-piscine-au-grau-du-roi-2/
LOCATION:Arènes du Grau du Roi\, Route d'Aigues Mortes\, Le Grau-du-Roi\, Gard\, 30240\, France
CATEGORIES:Toro Piscine et Toro Mousse
ATTACH;FMTTYPE=image/png:https://www.gard30.fr/wp-content/uploads/2022/07/2022-07-12-23_12_06-BAT-AFF-42X594-TP-GRAU-DU-ROI.webp-488×670.png
GEO:43.5385007;4.1422747
X-APPLE-STRUCTURED-LOCATION;VALUE=URI;X-ADDRESS=Arènes du Grau du Roi Route d'Aigues Mortes Le Grau-du-Roi Gard 30240 France;X-APPLE-RADIUS=500;X-TITLE=Route d'Aigues Mortes:geo:4.1422747,43.5385007
END:VEVENT
BEGIN:VEVENT
DTSTART;TZID=Europe/Paris:20220713T210000
DTEND;TZID=Europe/Paris:20220713T233000
DTSTAMP:20260423T111414
CREATED:20220712T211404Z
LAST-MODIFIED:20220712T211404Z
UID:10000378-1657746000-1657755000@www.gard30.fr
SUMMARY:Toro piscine au Grau du Roi
DESCRIPTION:Toro piscine DJ SHOW
URL:https://www.gard30.fr/agenda/toro-piscine-au-grau-du-roi/
LOCATION:Arènes du Grau du Roi\, Route d'Aigues Mortes\, Le Grau-du-Roi\, Gard\, 30240\, France
CATEGORIES:Toro Piscine et Toro Mousse
ATTACH;FMTTYPE=image/png:https://www.gard30.fr/wp-content/uploads/2022/07/2022-07-12-23_12_06-BAT-AFF-42X594-TP-GRAU-DU-ROI.webp-488×670.png
GEO:43.5385007;4.1422747
X-APPLE-STRUCTURED-LOCATION;VALUE=URI;X-ADDRESS=Arènes du Grau du Roi Route d'Aigues Mortes Le Grau-du-Roi Gard 30240 France;X-APPLE-RADIUS=500;X-TITLE=Route d'Aigues Mortes:geo:4.1422747,43.5385007
END:VEVENT
END:VCALENDAR