BEGIN:VCALENDAR
VERSION:2.0
PRODID:-//Gard 30 - ECPv6.15.20//NONSGML v1.0//EN
CALSCALE:GREGORIAN
METHOD:PUBLISH
X-WR-CALNAME:Gard 30
X-ORIGINAL-URL:https://www.gard30.fr
X-WR-CALDESC:Évènements pour Gard 30
REFRESH-INTERVAL;VALUE=DURATION:PT1H
X-Robots-Tag:noindex
X-PUBLISHED-TTL:PT1H
BEGIN:VTIMEZONE
TZID:Europe/Paris
BEGIN:DAYLIGHT
TZOFFSETFROM:+0100
TZOFFSETTO:+0200
TZNAME:CEST
DTSTART:20230326T010000
END:DAYLIGHT
BEGIN:STANDARD
TZOFFSETFROM:+0200
TZOFFSETTO:+0100
TZNAME:CET
DTSTART:20231029T010000
END:STANDARD
BEGIN:DAYLIGHT
TZOFFSETFROM:+0100
TZOFFSETTO:+0200
TZNAME:CEST
DTSTART:20240331T010000
END:DAYLIGHT
BEGIN:STANDARD
TZOFFSETFROM:+0200
TZOFFSETTO:+0100
TZNAME:CET
DTSTART:20241027T010000
END:STANDARD
BEGIN:DAYLIGHT
TZOFFSETFROM:+0100
TZOFFSETTO:+0200
TZNAME:CEST
DTSTART:20250330T010000
END:DAYLIGHT
BEGIN:STANDARD
TZOFFSETFROM:+0200
TZOFFSETTO:+0100
TZNAME:CET
DTSTART:20251026T010000
END:STANDARD
END:VTIMEZONE
BEGIN:VEVENT
DTSTART;TZID=Europe/Paris:20241221T180000
DTEND;TZID=Europe/Paris:20241221T210000
DTSTAMP:20260423T120143
CREATED:20241111T215354Z
LAST-MODIFIED:20241218T104902Z
UID:10002299-1734804000-1734814800@www.gard30.fr
SUMMARY:Loto à Manduel
DESCRIPTION:Loto à Manduel \n\n6€ les 3 cartons\n10€ les 6 cartons\n\nOrganisé par ACPM
URL:https://www.gard30.fr/agenda/loto-a-manduel-20/
LOCATION:Salle Bernard Gimenez à Manduel\, Avenue Pierre Mendès France 8\, Manduel\, Gard\, 30129\, France
CATEGORIES:Loto
ATTACH;FMTTYPE=image/jpeg:https://www.gard30.fr/wp-content/uploads/2024/11/465712655_579428978074579_4018864921612301046_n-1.jpg
ORGANIZER;CN="Association  Connaissance du Patrimoine de Manduel ACPM":MAILTO:patrimoine.manduel@free.fr
GEO:43.8207382;4.4760171
X-APPLE-STRUCTURED-LOCATION;VALUE=URI;X-ADDRESS=Salle Bernard Gimenez à Manduel Avenue Pierre Mendès France 8 Manduel Gard 30129 France;X-APPLE-RADIUS=500;X-TITLE=Avenue Pierre Mendès France 8:geo:4.4760171,43.8207382
END:VEVENT
END:VCALENDAR