BEGIN:VCALENDAR
VERSION:2.0
PRODID:-//Gard 30 - ECPv6.15.20//NONSGML v1.0//EN
CALSCALE:GREGORIAN
METHOD:PUBLISH
X-ORIGINAL-URL:https://www.gard30.fr
X-WR-CALDESC:Évènements pour Gard 30
REFRESH-INTERVAL;VALUE=DURATION:PT1H
X-Robots-Tag:noindex
X-PUBLISHED-TTL:PT1H
BEGIN:VTIMEZONE
TZID:Europe/Paris
BEGIN:DAYLIGHT
TZOFFSETFROM:+0100
TZOFFSETTO:+0200
TZNAME:CEST
DTSTART:20240331T010000
END:DAYLIGHT
BEGIN:STANDARD
TZOFFSETFROM:+0200
TZOFFSETTO:+0100
TZNAME:CET
DTSTART:20241027T010000
END:STANDARD
BEGIN:DAYLIGHT
TZOFFSETFROM:+0100
TZOFFSETTO:+0200
TZNAME:CEST
DTSTART:20250330T010000
END:DAYLIGHT
BEGIN:STANDARD
TZOFFSETFROM:+0200
TZOFFSETTO:+0100
TZNAME:CET
DTSTART:20251026T010000
END:STANDARD
BEGIN:DAYLIGHT
TZOFFSETFROM:+0100
TZOFFSETTO:+0200
TZNAME:CEST
DTSTART:20260329T010000
END:DAYLIGHT
BEGIN:STANDARD
TZOFFSETFROM:+0200
TZOFFSETTO:+0100
TZNAME:CET
DTSTART:20261025T010000
END:STANDARD
END:VTIMEZONE
BEGIN:VEVENT
DTSTART;VALUE=DATE:20250214
DTEND;VALUE=DATE:20250217
DTSTAMP:20260425T174842
CREATED:20250202T220718Z
LAST-MODIFIED:20250215T094702Z
UID:10003015-1739491200-1739750399@www.gard30.fr
SUMMARY:Camagri 2025 – Rencontres du cheval Camargue
DESCRIPTION:Le Salon du Cheval Camargue Camagri 2025 est un événement annuel immanquable pour les passionnés de chevaux\, surtout ceux qui s’intéressent à la culture et aux traditions de la Camargue. Chaque année\, il a lieu au Mas de la Cure\, situé au cœur de la Camargue\, dans le remarquable Parc naturel régional. C’est un endroit réputé pour ses paysages sauvages\, ses chevaux et ses taureaux. Ne manquez pas le Salon du Cheval Camargue Camagri 2025 ! \nDans les grandes lignes\, cette édition Camagri 2025 promet : \n\nPrésentation de chevaux disponibles à la vente\nPrésentation d’élevage\nConcours de tri\, de maniabilité\, de parcours de pays\nTest de Loisir\nPrésence d’Artisans\nPlus de 200 chevaux\nOrganisation d’un Concours de Saut d’Obstacles (CAMAJUMP).\n\n[winamaz multiple=”2330065876\,2080274724\,2330002033″ rating=”on” amazon_button_text=”Voir sur Amazon” link=”on” prime=”on” features_length=”50″] \nVendredi 14 février 2025 : \n\n9 h à 12 h et 13 h 30 à 17 h : Reprise de Travail (Combiné 3 Tests) : Carrière Sud pour les catégories Amateurs\, Carrière Nord pour les Catégories Clubs\nà partir de 9 h : Qualification Loisir\n10 h 30 : Pointage (Mas du Ménage)\n14 h 30 : Concours de Tri de Bétail : Trophée “Crin Blanc” 1ère Manche (1ère partie)\n15 h : Présentation chevaux à la vente (Carrière Sud)\n\nSamedi 15 février 2025 : \n\nPrésentation de chevaux d’élevage\nPrésentation de chevaux disponibles à la vente\nAnimations\n9 h à 12 h et 13 h 30 à 17 h :\n\nManiabilité à Points (Combiné 3 Tests) : Carrière en herbe\nManiabilité Chronométrée (Combiné 3 Tests) : Carrière Nord\nParcours de Pays (Combiné 2 Tests)\n\n\n\n\n\n10 h 30 : Concours de Ferrade (au Mas du Ménage)\,\n11 h 30 : Abrivado en pays (au Mas du Ménage)\, suivie de la remise des Prix du Concours de Ferrade\n12 h : Inauguration\n15 h : Concours de Tri de Bétail : Trophée “Crin Blanc” 1ère Manche (2ème partie)\n\nMessage de l’organisateur sur Facebook le 12/02 à 07h43 concernant la journée de samedi : Du fait des conditions du terrain nous sommes dans l’obligation d’annuler le concours de ferrade et labrivado du samedi 15 février. En remplacement\, la deuxième partie de la première manche du concours de tri « Trophée Crin Blanc » sera partagée en 2 et 7 cavaliers se présenteront à 10 h 30 dans le clos de tri \n\nDimanche 16 février 2025 : \n\nPrésentation de chevaux d’élevage\nPrésentation de chevaux disponibles à la vente\nAnimations\n9 h à 12 h et 13 h 30 à 17 h :\n\nManiabilité Chronométrée (Combiné 2 Tests) : Carrière Nord\nManiabilité à Points (Epreuve individuelle) : Carrière en Herbe\nParcours de Pays (Epreuve Individuelle)\n\n\n10 h : Concours de Tri de Bétail : Trophée “Crin Blanc” Finale (1ère manche)\n12 h à 15 h : Concours de Saut d’Obstacles CAMAJUMP (Carrière Sud)\n15 h : Démonstration d’Attelage (Carrière Sud)\n14 h 30 : Concours de Tri de Bétail : Trophée “Crin Blanc” Finale (2ème manche)\n17 h 30 : Remise des Prix des Concours\,\n\n[winamaz multiple=”B0BNF6N7PC\,B07BZWZGND\,B0CJC938LJ” rating=”on” amazon_button_text=”Voir sur Amazon” link=”on” prime=”on” features_length=”50″] \nL’édition précédente de Camagri était un grand succès ! Avec 8000 visiteurs\, 400 chevaux\, 102 éleveurs et 50 exposants proposant une variété de services allant des selliers aux fabricants de vans\, des artistes aux fabricants d’aliments pour chevaux\, et des photographes aux sculpteurs\, il y en avait pour tous les passionnés de chevaux. Ne manquez pas l’édition de Camagri 2025 ! \nCôté pratique\, pour Camagri 2025\, l’entrée est à 4 € par personne (Gratuit jusqu’à 12 ans). Le parking est gratuit et accessible à tous véhicules. \n \nComment venir à Camagri 2025 ?\nPour vous rendre à Camagri 2025\, il faut entrer sur le chemin en face le Domaine du Château d’Avignon : Mas de la Cure – Maison du Cheval Camargue – Route Départementale 570 – 13460 LES SAINTES MARIES DE LA MER. Un grand parking vous y attendra. \nLe salon Camagri\, qui existe depuis plusieurs décennies\, s’est établi comme un événement incontournable pour les passionnés du cheval Camargue et de l’équitation. Cet événement\, qui met en valeur la culture camarguaise\, est également un lieu de rencontre pour les acteurs de l’élevage et de l’équitation. \n[winamaz multiple=”B006TR7D08\,B08JWZP6GZ\,B0CZKY6FLG” rating=”on” amazon_button_text=”Voir sur Amazon” link=”on” prime=”on” features_length=”50″] \nSitué près des vastes plaines de Camargue\, réputées pour leurs célèbres chevaux camarguais\, le Mas de la Cure est un lieu chargé d’histoire. Les chevaux camarguais\, reconnus pour leur robustesse et leur adaptation aux conditions difficiles de la région\, sont largement représentés lors de ce salon. \nTout au long du salon Camagri 2025\, de belles présentations de chevaux camarguais sont programmées. Ces majestueux équidés\, célèbres pour leur agilité et leur polyvalence\, prennent part à des spectacles où les cavaliers dévoilent des savoir-faire traditionnels en matière de travail avec les animaux ou d’équitation de loisir. Soyez prêts à être émerveillés par ces prestations équestres uniques ! \nUnion des Jeunes de Provence et du Languedoc\nProfitez de votre venue à Camagri 2025 pour rendre visite à l’association UJPL Union des Jeunes de la Provence et du Languedoc. Le mas du ménage propose une formule repas rapide à midi avec buvette\, huîtres\, et une plancha italienne préparée par le chef Fabio. Le samedi soir\, ne manquez pas la soirée tapas et gipsy. \nCe sera aussi l’occasion peut-être de prendre votre carte de membre dans cette belle association de l’UJPL. Promouvoir\, enseigner et perpétuer la tradition tauromachique et méridionale : tel est l’objectif de l’association des Jeunes de Provence et du Languedoc. Fondée en 2015\, l’UJPL s’est engagée à préserver les traditions taurines. Actuellement\, elle s’est étendue pour inclure diverses traditions culturelles et modes de vie typiques du Sud de la France\, telles que les traditions camarguaises\, provençales\, la chasse\, la pêche et la ruralité.
URL:https://www.gard30.fr/agenda/programme-camagri-2025/
LOCATION:Domaine du mas de la Cure – Les Saintes-Maries-de-la-Mer\, Maison du Cheval Camargue\, D570\, Saintes-Maries-de-la-Mer\, Bouches-du-Rhône\, 13460\, France
CATEGORIES:Fêtes votives
ATTACH;FMTTYPE=image/jpeg:https://www.gard30.fr/wp-content/uploads/2025/02/B1DB1958-7AF8-4FCD-9604-9A8A1B8B2822_1_105_c.jpeg
GEO:43.553045453484;4.4170052675429
X-APPLE-STRUCTURED-LOCATION;VALUE=URI;X-ADDRESS=Domaine du mas de la Cure – Les Saintes-Maries-de-la-Mer Maison du Cheval Camargue D570 Saintes-Maries-de-la-Mer Bouches-du-Rhône 13460 France;X-APPLE-RADIUS=500;X-TITLE=Maison du Cheval Camargue\, D570:geo:4.4170052675429,43.553045453484
END:VEVENT
END:VCALENDAR