BEGIN:VCALENDAR
VERSION:2.0
PRODID:-//Gard 30 - ECPv6.15.20//NONSGML v1.0//EN
CALSCALE:GREGORIAN
METHOD:PUBLISH
X-ORIGINAL-URL:https://www.gard30.fr
X-WR-CALDESC:Évènements pour Gard 30
REFRESH-INTERVAL;VALUE=DURATION:PT1H
X-Robots-Tag:noindex
X-PUBLISHED-TTL:PT1H
BEGIN:VTIMEZONE
TZID:Europe/Paris
BEGIN:DAYLIGHT
TZOFFSETFROM:+0100
TZOFFSETTO:+0200
TZNAME:CEST
DTSTART:20240331T010000
END:DAYLIGHT
BEGIN:STANDARD
TZOFFSETFROM:+0200
TZOFFSETTO:+0100
TZNAME:CET
DTSTART:20241027T010000
END:STANDARD
BEGIN:DAYLIGHT
TZOFFSETFROM:+0100
TZOFFSETTO:+0200
TZNAME:CEST
DTSTART:20250330T010000
END:DAYLIGHT
BEGIN:STANDARD
TZOFFSETFROM:+0200
TZOFFSETTO:+0100
TZNAME:CET
DTSTART:20251026T010000
END:STANDARD
BEGIN:DAYLIGHT
TZOFFSETFROM:+0100
TZOFFSETTO:+0200
TZNAME:CEST
DTSTART:20260329T010000
END:DAYLIGHT
BEGIN:STANDARD
TZOFFSETFROM:+0200
TZOFFSETTO:+0100
TZNAME:CET
DTSTART:20261025T010000
END:STANDARD
END:VTIMEZONE
BEGIN:VEVENT
DTSTART;TZID=Europe/Paris:20250601T180000
DTEND;TZID=Europe/Paris:20250601T210000
DTSTAMP:20260420T145106
CREATED:20250507T142851Z
LAST-MODIFIED:20250507T142851Z
UID:10003646-1748800800-1748811600@www.gard30.fr
SUMMARY:Loto à Aigues-Vives
DESCRIPTION:Loto à Aigues-Vives le 1er juin à 18h \n\nBuvette sur place\n+ de 900€ de lots\n\nBlinder\, friteuse\, coffret de vin\, jambon\, cabats\, repas pour 2\, plancha\n\n\n1€ le carton\n10€ les 12 cartons\n2€ le ticket de Tombola
URL:https://www.gard30.fr/agenda/loto-a-aigues-vives-5/
LOCATION:Salle Marius école à Aigues-Vives\, Rue de la Gare 435\, Aigues-Vives\, Gard\, 30670\, France
CATEGORIES:Loto
ATTACH;FMTTYPE=image/jpeg:https://www.gard30.fr/wp-content/uploads/2025/05/IMG_1835.jpg
GEO:43.7342702;4.1828823
X-APPLE-STRUCTURED-LOCATION;VALUE=URI;X-ADDRESS=Salle Marius école à Aigues-Vives Rue de la Gare 435 Aigues-Vives Gard 30670 France;X-APPLE-RADIUS=500;X-TITLE=Rue de la Gare 435:geo:4.1828823,43.7342702
END:VEVENT
END:VCALENDAR