BEGIN:VCALENDAR
VERSION:2.0
PRODID:-//Gard 30 - ECPv6.15.20//NONSGML v1.0//EN
CALSCALE:GREGORIAN
METHOD:PUBLISH
X-WR-CALNAME:Gard 30
X-ORIGINAL-URL:https://www.gard30.fr
X-WR-CALDESC:Évènements pour Gard 30
REFRESH-INTERVAL;VALUE=DURATION:PT1H
X-Robots-Tag:noindex
X-PUBLISHED-TTL:PT1H
BEGIN:VTIMEZONE
TZID:Europe/Paris
BEGIN:DAYLIGHT
TZOFFSETFROM:+0100
TZOFFSETTO:+0200
TZNAME:CEST
DTSTART:20230326T010000
END:DAYLIGHT
BEGIN:STANDARD
TZOFFSETFROM:+0200
TZOFFSETTO:+0100
TZNAME:CET
DTSTART:20231029T010000
END:STANDARD
BEGIN:DAYLIGHT
TZOFFSETFROM:+0100
TZOFFSETTO:+0200
TZNAME:CEST
DTSTART:20240331T010000
END:DAYLIGHT
BEGIN:STANDARD
TZOFFSETFROM:+0200
TZOFFSETTO:+0100
TZNAME:CET
DTSTART:20241027T010000
END:STANDARD
BEGIN:DAYLIGHT
TZOFFSETFROM:+0100
TZOFFSETTO:+0200
TZNAME:CEST
DTSTART:20250330T010000
END:DAYLIGHT
BEGIN:STANDARD
TZOFFSETFROM:+0200
TZOFFSETTO:+0100
TZNAME:CET
DTSTART:20251026T010000
END:STANDARD
END:VTIMEZONE
BEGIN:VEVENT
DTSTART;VALUE=DATE:20241018
DTEND;VALUE=DATE:20241020
DTSTAMP:20260424T115337
CREATED:20241016T065924Z
LAST-MODIFIED:20241016T065924Z
UID:10001997-1729209600-1729382399@www.gard30.fr
SUMMARY:Week-end taurin à Marsillargues
DESCRIPTION:Profitez du Week-end taurin à Marsillargues\, dans le Hérault\, pour vous divertir et assister à une série de spectacles  captivants. Cette fête votive vous offre un programme varié qui saura vous enthousiasmer. Pour consulter le programme complet de cette célébration\, veuillez vous rendre sur la page dédiée. L’origine de Marsillargues remonte probablement à un ancien village de pêcheurs\, constitué autrefois de modestes cabanes situées à proximité du Vidourle. C’est en découvrant cette anecdote que l’on réalise l’histoire et le charme authentique de ce village. Ne manquez pas cette occasion de vivre des moments inoubliables lors du Week-end taurin à Marsillargues. \nVendredi 18 octobre \n\nà 15H GOURSE DE TAUREAU NEUF\nMANADES LAURENT ET BLATIÈRE\nTout publie / Tarifs : 9€ / réduit 5€ / carte jeune FFCO 2€\nà 18H ABRIVADO / BANDIDO PARCOURS OUVERT / MANADE AUBANEL\n\nSamedi 19 octobre \n\nà 10H PRE-SELEGTION\nMANADES CYR ET LA CLAPIÈRE\nEntrée libre / Tout public\nà 12H DÉJEUNER\nSALLE JEAN MOULIN\nTarif : 22€ (inscription : 04 11 28 13 75 où communication@marsillargues.fr)\nà 15n FINALE LIGUES 0CCITANIE FFCC\nTout publie / Tarifs : 7€ / gratuit pour les moins de 12 ans\nà 16H ABRIVADO / BANDIDO PARCOURS OUVERT / MANADES VELLAS ET AUBANEL\n\nVous pouvez consulter le programme de la fête votive de 2023 et celui de la fête de 2024.
URL:https://www.gard30.fr/agenda/week-end-taurin-a-marsillargues/
LOCATION:Ville de Marsillargues\, Place de L Hôtel de ville\, Marsillargues\, Hérault\, 34590\, France
CATEGORIES:Fêtes votives
ATTACH;FMTTYPE=image/jpeg:https://www.gard30.fr/wp-content/uploads/2024/10/C2D54FC2-A625-49AD-996B-62552679588C_1_105_c.jpeg
GEO:43.6654578;4.1790356
X-APPLE-STRUCTURED-LOCATION;VALUE=URI;X-ADDRESS=Ville de Marsillargues Place de L Hôtel de ville Marsillargues Hérault 34590 France;X-APPLE-RADIUS=500;X-TITLE=Place de L Hôtel de ville:geo:4.1790356,43.6654578
END:VEVENT
END:VCALENDAR