BEGIN:VCALENDAR
VERSION:2.0
PRODID:-//Gard 30 - ECPv6.15.20//NONSGML v1.0//EN
CALSCALE:GREGORIAN
METHOD:PUBLISH
X-ORIGINAL-URL:https://www.gard30.fr
X-WR-CALDESC:Évènements pour Gard 30
REFRESH-INTERVAL;VALUE=DURATION:PT1H
X-Robots-Tag:noindex
X-PUBLISHED-TTL:PT1H
BEGIN:VTIMEZONE
TZID:Europe/Paris
BEGIN:DAYLIGHT
TZOFFSETFROM:+0100
TZOFFSETTO:+0200
TZNAME:CEST
DTSTART:20230326T010000
END:DAYLIGHT
BEGIN:STANDARD
TZOFFSETFROM:+0200
TZOFFSETTO:+0100
TZNAME:CET
DTSTART:20231029T010000
END:STANDARD
BEGIN:DAYLIGHT
TZOFFSETFROM:+0100
TZOFFSETTO:+0200
TZNAME:CEST
DTSTART:20240331T010000
END:DAYLIGHT
BEGIN:STANDARD
TZOFFSETFROM:+0200
TZOFFSETTO:+0100
TZNAME:CET
DTSTART:20241027T010000
END:STANDARD
BEGIN:DAYLIGHT
TZOFFSETFROM:+0100
TZOFFSETTO:+0200
TZNAME:CEST
DTSTART:20250330T010000
END:DAYLIGHT
BEGIN:STANDARD
TZOFFSETFROM:+0200
TZOFFSETTO:+0100
TZNAME:CET
DTSTART:20251026T010000
END:STANDARD
BEGIN:DAYLIGHT
TZOFFSETFROM:+0100
TZOFFSETTO:+0200
TZNAME:CEST
DTSTART:20260329T010000
END:DAYLIGHT
BEGIN:STANDARD
TZOFFSETFROM:+0200
TZOFFSETTO:+0100
TZNAME:CET
DTSTART:20261025T010000
END:STANDARD
BEGIN:DAYLIGHT
TZOFFSETFROM:+0100
TZOFFSETTO:+0200
TZNAME:CEST
DTSTART:20270328T010000
END:DAYLIGHT
BEGIN:STANDARD
TZOFFSETFROM:+0200
TZOFFSETTO:+0100
TZNAME:CET
DTSTART:20271031T010000
END:STANDARD
END:VTIMEZONE
BEGIN:VEVENT
DTSTART;TZID=Europe/Paris:20260117T173000
DTEND;TZID=Europe/Paris:20260117T203000
DTSTAMP:20260421T170525
CREATED:20251113T181419Z
LAST-MODIFIED:20260116T161312Z
UID:10004680-1768671000-1768681800@www.gard30.fr
SUMMARY:Loto à Vauvert
DESCRIPTION:Samedi 17 Janvier 2026\n\n17h30 : Début de la soirée loto 🎉\nNombreux lots à gagner 🎁\nRestauration disponible 🍽️\nBuvette ouverte 🍹\nTombola pour plus de chances de gagner 🎟️\n10 quines d’une valeur de 60€ chacune 💶\n2 cartons pleins d’une valeur de 350€ et 200€ 💰\n1 carton plein avec une TV 📺
URL:https://www.gard30.fr/agenda/loto-a-vauvert-79/
LOCATION:Salle Georges Bizet – Vauvert\, Rue Louise Désir\, Vauvert\, Gard\, 30600\, France
CATEGORIES:Loto
ATTACH;FMTTYPE=image/jpeg:https://www.gard30.fr/wp-content/uploads/2026/01/615176335_909611784754494_5663400862094233680_n-1.jpg
ORGANIZER;CN="Camargua Forza - Vauvert":MAILTO:camargua-forza@hotmail.fr
GEO:43.69749;4.2790011
X-APPLE-STRUCTURED-LOCATION;VALUE=URI;X-ADDRESS=Salle Georges Bizet – Vauvert Rue Louise Désir Vauvert Gard 30600 France;X-APPLE-RADIUS=500;X-TITLE=Rue Louise Désir:geo:4.2790011,43.69749
END:VEVENT
BEGIN:VEVENT
DTSTART;TZID=Europe/Paris:20250531T100000
DTEND;TZID=Europe/Paris:20250531T230000
DTSTAMP:20260421T170525
CREATED:20250424T143108Z
LAST-MODIFIED:20250424T143108Z
UID:10003597-1748685600-1748732400@www.gard30.fr
SUMMARY:Journée taurine à Vauvert
DESCRIPTION:Samedi 31 mai 2025 \n\n10H DÉJEUNER AUX PRÈS\nAux prés des Demoiselles\nOffert par l’association Camargua Forza\n11H DÉPART DE L’ABRIVADE\nManade Aubanel\n12H APÉRITIF\nBuvette des Arènes\n16H COURSE\nEcole taurine\n19H BANDIDE\nManade Aubanel\nDans le centre du village\n21H SOIRÉE\nBar de l’embuscade
URL:https://www.gard30.fr/agenda/journee-taurine-a-vauvert/
LOCATION:Ville de Vauvert\, Vauvert\, Gard\, 30600\, France
CATEGORIES:Fêtes votives
ATTACH;FMTTYPE=image/jpeg:https://www.gard30.fr/wp-content/uploads/2025/04/F2058BCB-76C0-41C3-A8F0-3859F5D14464_1_105_c.jpeg
ORGANIZER;CN="Camargua Forza - Vauvert":MAILTO:camargua-forza@hotmail.fr
GEO:43.692984;4.278326
END:VEVENT
BEGIN:VEVENT
DTSTART;TZID=Europe/Paris:20241130T173000
DTEND;TZID=Europe/Paris:20241130T203000
DTSTAMP:20260421T170525
CREATED:20241111T181910Z
LAST-MODIFIED:20241126T100520Z
UID:10002252-1732987800-1732998600@www.gard30.fr
SUMMARY:Loto à Vauvert
DESCRIPTION:Samedi 30 novembre \n17H30 : Loto organisé par Camargua forza \n\nTous les gagnants quine et carton plein font gagner un cadeau aux 3 voisins : à gauche\, à droite et en face\n\n  \nLots :  \n\n1 voyage\nTéléviseur\nJambon\nélectroménager\ncoffret de vin\nCarton plein 150 €\n10 quines d’une valeur de 60 €\n3 cartons pleins\nTombola
URL:https://www.gard30.fr/agenda/loto-a-vauvert-44/
LOCATION:Salle Georges Bizet – Vauvert\, Rue Louise Désir\, Vauvert\, Gard\, 30600\, France
CATEGORIES:Loto
ATTACH;FMTTYPE=image/jpeg:https://www.gard30.fr/wp-content/uploads/2024/11/465411431_586510223731320_4413483586312865568_n.jpg
ORGANIZER;CN="Camargua Forza - Vauvert":MAILTO:camargua-forza@hotmail.fr
GEO:43.69749;4.2790011
X-APPLE-STRUCTURED-LOCATION;VALUE=URI;X-ADDRESS=Salle Georges Bizet – Vauvert Rue Louise Désir Vauvert Gard 30600 France;X-APPLE-RADIUS=500;X-TITLE=Rue Louise Désir:geo:4.2790011,43.69749
END:VEVENT
END:VCALENDAR