BEGIN:VCALENDAR
VERSION:2.0
PRODID:-//Gard 30 - ECPv6.15.20//NONSGML v1.0//EN
CALSCALE:GREGORIAN
METHOD:PUBLISH
X-WR-CALNAME:Gard 30
X-ORIGINAL-URL:https://www.gard30.fr
X-WR-CALDESC:Évènements pour Gard 30
REFRESH-INTERVAL;VALUE=DURATION:PT1H
X-Robots-Tag:noindex
X-PUBLISHED-TTL:PT1H
BEGIN:VTIMEZONE
TZID:Europe/Paris
BEGIN:DAYLIGHT
TZOFFSETFROM:+0100
TZOFFSETTO:+0200
TZNAME:CEST
DTSTART:20240331T010000
END:DAYLIGHT
BEGIN:STANDARD
TZOFFSETFROM:+0200
TZOFFSETTO:+0100
TZNAME:CET
DTSTART:20241027T010000
END:STANDARD
BEGIN:DAYLIGHT
TZOFFSETFROM:+0100
TZOFFSETTO:+0200
TZNAME:CEST
DTSTART:20250330T010000
END:DAYLIGHT
BEGIN:STANDARD
TZOFFSETFROM:+0200
TZOFFSETTO:+0100
TZNAME:CET
DTSTART:20251026T010000
END:STANDARD
BEGIN:DAYLIGHT
TZOFFSETFROM:+0100
TZOFFSETTO:+0200
TZNAME:CEST
DTSTART:20260329T010000
END:DAYLIGHT
BEGIN:STANDARD
TZOFFSETFROM:+0200
TZOFFSETTO:+0100
TZNAME:CET
DTSTART:20261025T010000
END:STANDARD
BEGIN:DAYLIGHT
TZOFFSETFROM:+0100
TZOFFSETTO:+0200
TZNAME:CEST
DTSTART:20270328T010000
END:DAYLIGHT
BEGIN:STANDARD
TZOFFSETFROM:+0200
TZOFFSETTO:+0100
TZNAME:CET
DTSTART:20271031T010000
END:STANDARD
END:VTIMEZONE
BEGIN:VEVENT
DTSTART;TZID=Europe/Paris:20260104T160000
DTEND;TZID=Europe/Paris:20260104T190000
DTSTAMP:20260425T235141
CREATED:20251006T102137Z
LAST-MODIFIED:20260101T002805Z
UID:10004471-1767542400-1767553200@www.gard30.fr
SUMMARY:Loto à Quissac
DESCRIPTION:Dimanche 4 janvier\n\n16h00 : Début du Méga Loto 🎉\n21 Parties avec 4 Cartons Pleins 🐂\nÀ gagner :\n\n1 Séjour pour 2 personnes à l’Hôtel *** Costa Brava 🏖️\n1 Nintendo Switch 🎮\nBons d’achats – 200€ 💶\n1 Airfryer Moulinex 🍽️\n5 Corbeilles garnies 🍎\n3 Jambons 🍖\n1 Bon d’achat 50€ – Les Fromages de Stely 🧀\n1 Cafetière Tassimo ☕\n1 Bon d’achat 50€ – Pépinières Balaguer 🌳\n1 Bon d’achat 60€ – Commerçants Quissacois 🛍️\n1 Bon d’achat 50€ – Restaurant le Bleu à Quissac 🍽️\n1 Bon d’achat 50€ – Intermarché 🛒\n1 Panier Charcuterie – Mas de Sire + Vin 🍷\n1 Bon d’achat 50€ – Quissac Créations 🎨\n1 Lot de Vaisselle 🍽️\n\n\nTombola / Buvette / Gâteaux 🍰\n2€ le carton\, 10€ les 7 cartons\, 20€ les 15 cartons 💸
URL:https://www.gard30.fr/agenda/loto-a-quissac-43/
LOCATION:Foyer Municipal Désiré Rousset Quissac\, Avenue du Onze Novembre\, Quissac\, Gard\, 30260\, France
CATEGORIES:Loto
ATTACH;FMTTYPE=image/jpeg:https://www.gard30.fr/wp-content/uploads/2026/01/BF29E5FD-3FDA-4543-8785-1DD82EBDDD2C-1.jpeg
GEO:43.9101808;4.0013105
X-APPLE-STRUCTURED-LOCATION;VALUE=URI;X-ADDRESS=Foyer Municipal Désiré Rousset Quissac Avenue du Onze Novembre Quissac Gard 30260 France;X-APPLE-RADIUS=500;X-TITLE=Avenue du Onze Novembre:geo:4.0013105,43.9101808
END:VEVENT
BEGIN:VEVENT
DTSTART;TZID=Europe/Paris:20250826T190000
DTEND;TZID=Europe/Paris:20250826T233000
DTSTAMP:20260425T235141
CREATED:20250618T153738Z
LAST-MODIFIED:20250618T153738Z
UID:10003874-1756234800-1756251000@www.gard30.fr
SUMMARY:Toro piscine à Quissac
DESCRIPTION:19h : Visite des élevages 🐂\n21h : Toro piscine 🌊🐃\n\ntous les mardis soir du 8 juillet au 26 août (sauf 13 août) \nau Mas du Sire à Quissac \nTapas Buvette Musique Surprises \nEntrée 5 € et 3 € – de 10 ans
URL:https://www.gard30.fr/agenda/toro-piscine-a-quissac-8/2025-08-26/
LOCATION:Mas du Sire – Quissac\, Mas du Sire\, Quissac\, Gard\, 30260\, France
CATEGORIES:Toro Piscine et Toro Mousse
ATTACH;FMTTYPE=image/jpeg:https://www.gard30.fr/wp-content/uploads/2025/06/61F68FF1-93E7-4E6A-B315-FD5A86DB7047.jpeg
GEO:43.911109;4.021771
X-APPLE-STRUCTURED-LOCATION;VALUE=URI;X-ADDRESS=Mas du Sire – Quissac Mas du Sire Quissac Gard 30260 France;X-APPLE-RADIUS=500;X-TITLE=Mas du Sire:geo:4.021771,43.911109
END:VEVENT
BEGIN:VEVENT
DTSTART;TZID=Europe/Paris:20250819T190000
DTEND;TZID=Europe/Paris:20250819T233000
DTSTAMP:20260425T235141
CREATED:20250618T153738Z
LAST-MODIFIED:20250618T153738Z
UID:10003873-1755630000-1755646200@www.gard30.fr
SUMMARY:Toro piscine à Quissac
DESCRIPTION:19h : Visite des élevages 🐂\n21h : Toro piscine 🌊🐃\n\ntous les mardis soir du 8 juillet au 26 août (sauf 13 août) \nau Mas du Sire à Quissac \nTapas Buvette Musique Surprises \nEntrée 5 € et 3 € – de 10 ans
URL:https://www.gard30.fr/agenda/toro-piscine-a-quissac-8/2025-08-19/
LOCATION:Mas du Sire – Quissac\, Mas du Sire\, Quissac\, Gard\, 30260\, France
CATEGORIES:Toro Piscine et Toro Mousse
ATTACH;FMTTYPE=image/jpeg:https://www.gard30.fr/wp-content/uploads/2025/06/61F68FF1-93E7-4E6A-B315-FD5A86DB7047.jpeg
GEO:43.911109;4.021771
X-APPLE-STRUCTURED-LOCATION;VALUE=URI;X-ADDRESS=Mas du Sire – Quissac Mas du Sire Quissac Gard 30260 France;X-APPLE-RADIUS=500;X-TITLE=Mas du Sire:geo:4.021771,43.911109
END:VEVENT
BEGIN:VEVENT
DTSTART;TZID=Europe/Paris:20250805T190000
DTEND;TZID=Europe/Paris:20250805T233000
DTSTAMP:20260425T235141
CREATED:20250618T153738Z
LAST-MODIFIED:20250618T153738Z
UID:10003872-1754420400-1754436600@www.gard30.fr
SUMMARY:Toro piscine à Quissac
DESCRIPTION:19h : Visite des élevages 🐂\n21h : Toro piscine 🌊🐃\n\ntous les mardis soir du 8 juillet au 26 août (sauf 13 août) \nau Mas du Sire à Quissac \nTapas Buvette Musique Surprises \nEntrée 5 € et 3 € – de 10 ans
URL:https://www.gard30.fr/agenda/toro-piscine-a-quissac-8/2025-08-05/
LOCATION:Mas du Sire – Quissac\, Mas du Sire\, Quissac\, Gard\, 30260\, France
CATEGORIES:Toro Piscine et Toro Mousse
ATTACH;FMTTYPE=image/jpeg:https://www.gard30.fr/wp-content/uploads/2025/06/61F68FF1-93E7-4E6A-B315-FD5A86DB7047.jpeg
GEO:43.911109;4.021771
X-APPLE-STRUCTURED-LOCATION;VALUE=URI;X-ADDRESS=Mas du Sire – Quissac Mas du Sire Quissac Gard 30260 France;X-APPLE-RADIUS=500;X-TITLE=Mas du Sire:geo:4.021771,43.911109
END:VEVENT
BEGIN:VEVENT
DTSTART;TZID=Europe/Paris:20250729T190000
DTEND;TZID=Europe/Paris:20250729T233000
DTSTAMP:20260425T235141
CREATED:20250618T153738Z
LAST-MODIFIED:20250618T153738Z
UID:10003871-1753815600-1753831800@www.gard30.fr
SUMMARY:Toro piscine à Quissac
DESCRIPTION:19h : Visite des élevages 🐂\n21h : Toro piscine 🌊🐃\n\ntous les mardis soir du 8 juillet au 26 août (sauf 13 août) \nau Mas du Sire à Quissac \nTapas Buvette Musique Surprises \nEntrée 5 € et 3 € – de 10 ans
URL:https://www.gard30.fr/agenda/toro-piscine-a-quissac-8/2025-07-29/
LOCATION:Mas du Sire – Quissac\, Mas du Sire\, Quissac\, Gard\, 30260\, France
CATEGORIES:Toro Piscine et Toro Mousse
ATTACH;FMTTYPE=image/jpeg:https://www.gard30.fr/wp-content/uploads/2025/06/61F68FF1-93E7-4E6A-B315-FD5A86DB7047.jpeg
GEO:43.911109;4.021771
X-APPLE-STRUCTURED-LOCATION;VALUE=URI;X-ADDRESS=Mas du Sire – Quissac Mas du Sire Quissac Gard 30260 France;X-APPLE-RADIUS=500;X-TITLE=Mas du Sire:geo:4.021771,43.911109
END:VEVENT
BEGIN:VEVENT
DTSTART;TZID=Europe/Paris:20250722T190000
DTEND;TZID=Europe/Paris:20250722T233000
DTSTAMP:20260425T235141
CREATED:20250618T153738Z
LAST-MODIFIED:20250618T153738Z
UID:10003870-1753210800-1753227000@www.gard30.fr
SUMMARY:Toro piscine à Quissac
DESCRIPTION:19h : Visite des élevages 🐂\n21h : Toro piscine 🌊🐃\n\ntous les mardis soir du 8 juillet au 26 août (sauf 13 août) \nau Mas du Sire à Quissac \nTapas Buvette Musique Surprises \nEntrée 5 € et 3 € – de 10 ans
URL:https://www.gard30.fr/agenda/toro-piscine-a-quissac-8/2025-07-22/
LOCATION:Mas du Sire – Quissac\, Mas du Sire\, Quissac\, Gard\, 30260\, France
CATEGORIES:Toro Piscine et Toro Mousse
ATTACH;FMTTYPE=image/jpeg:https://www.gard30.fr/wp-content/uploads/2025/06/61F68FF1-93E7-4E6A-B315-FD5A86DB7047.jpeg
GEO:43.911109;4.021771
X-APPLE-STRUCTURED-LOCATION;VALUE=URI;X-ADDRESS=Mas du Sire – Quissac Mas du Sire Quissac Gard 30260 France;X-APPLE-RADIUS=500;X-TITLE=Mas du Sire:geo:4.021771,43.911109
END:VEVENT
BEGIN:VEVENT
DTSTART;TZID=Europe/Paris:20250715T190000
DTEND;TZID=Europe/Paris:20250715T233000
DTSTAMP:20260425T235141
CREATED:20250618T153738Z
LAST-MODIFIED:20250618T153738Z
UID:10003869-1752606000-1752622200@www.gard30.fr
SUMMARY:Toro piscine à Quissac
DESCRIPTION:19h : Visite des élevages 🐂\n21h : Toro piscine 🌊🐃\n\ntous les mardis soir du 8 juillet au 26 août (sauf 13 août) \nau Mas du Sire à Quissac \nTapas Buvette Musique Surprises \nEntrée 5 € et 3 € – de 10 ans
URL:https://www.gard30.fr/agenda/toro-piscine-a-quissac-8/2025-07-15/
LOCATION:Mas du Sire – Quissac\, Mas du Sire\, Quissac\, Gard\, 30260\, France
CATEGORIES:Toro Piscine et Toro Mousse
ATTACH;FMTTYPE=image/jpeg:https://www.gard30.fr/wp-content/uploads/2025/06/61F68FF1-93E7-4E6A-B315-FD5A86DB7047.jpeg
GEO:43.911109;4.021771
X-APPLE-STRUCTURED-LOCATION;VALUE=URI;X-ADDRESS=Mas du Sire – Quissac Mas du Sire Quissac Gard 30260 France;X-APPLE-RADIUS=500;X-TITLE=Mas du Sire:geo:4.021771,43.911109
END:VEVENT
BEGIN:VEVENT
DTSTART;TZID=Europe/Paris:20250708T190000
DTEND;TZID=Europe/Paris:20250708T233000
DTSTAMP:20260425T235141
CREATED:20250618T153738Z
LAST-MODIFIED:20250618T153738Z
UID:10003868-1752001200-1752017400@www.gard30.fr
SUMMARY:Toro piscine à Quissac
DESCRIPTION:19h : Visite des élevages 🐂\n21h : Toro piscine 🌊🐃\n\ntous les mardis soir du 8 juillet au 26 août (sauf 13 août) \nau Mas du Sire à Quissac \nTapas Buvette Musique Surprises \nEntrée 5 € et 3 € – de 10 ans
URL:https://www.gard30.fr/agenda/toro-piscine-a-quissac-8/2025-07-08/
LOCATION:Mas du Sire – Quissac\, Mas du Sire\, Quissac\, Gard\, 30260\, France
CATEGORIES:Toro Piscine et Toro Mousse
ATTACH;FMTTYPE=image/jpeg:https://www.gard30.fr/wp-content/uploads/2025/06/61F68FF1-93E7-4E6A-B315-FD5A86DB7047.jpeg
GEO:43.911109;4.021771
X-APPLE-STRUCTURED-LOCATION;VALUE=URI;X-ADDRESS=Mas du Sire – Quissac Mas du Sire Quissac Gard 30260 France;X-APPLE-RADIUS=500;X-TITLE=Mas du Sire:geo:4.021771,43.911109
END:VEVENT
BEGIN:VEVENT
DTSTART;VALUE=DATE:20250507
DTEND;VALUE=DATE:20250509
DTSTAMP:20260425T235141
CREATED:20250331T142717Z
LAST-MODIFIED:20250331T142717Z
UID:10003445-1746576000-1746748799@www.gard30.fr
SUMMARY:Fête du Campoiral 2025 à Quissac
DESCRIPTION:Mercredi 7 mai 2025 \n\n18h00 : Bandide dans le pré\, manade La Lauze\n19h00 : Apéritif animé par Dj Big-Ow\n21h00 : Soirée dansante animée par Dj TOTOFF\n\nJeudi 8 mai 2025\nJournée en hommage à Florent\nJournée animée par la Peña Lou Carretie \n\n9h30 : Déjeuner au pré offert par le Club Taurin Quisssacois\n11h00 : Abrivade dans le pré\, manades Tommy et La Lauze\n12h00 : Apéritif animé par la Peña et Dj Big-Ow\n17h30 : Bandide dans le pré\, manades Tommy et La Lauze\n18h30 : Apéritif animé par la Peña et Dj Joris Sanchez\nBrasucade offerte par le Club Taurin Quissacois\n21h00 : Apéritif prolongé animé par Dj Joris Sanchez et Dj Big Ow
URL:https://www.gard30.fr/agenda/fete-du-campoiral-2025-a-quissac/
LOCATION:Ville de Quissac\, Quissac\, 30260
CATEGORIES:Fêtes votives
ATTACH;FMTTYPE=image/jpeg:https://www.gard30.fr/wp-content/uploads/2025/03/28CA4C38-FE92-4563-AA2F-41E8BDD4CA4C.jpeg
END:VEVENT
END:VCALENDAR