BEGIN:VCALENDAR
VERSION:2.0
PRODID:-//Gard 30 - ECPv6.15.20//NONSGML v1.0//EN
CALSCALE:GREGORIAN
METHOD:PUBLISH
X-WR-CALNAME:Gard 30
X-ORIGINAL-URL:https://www.gard30.fr
X-WR-CALDESC:Évènements pour Gard 30
REFRESH-INTERVAL;VALUE=DURATION:PT1H
X-Robots-Tag:noindex
X-PUBLISHED-TTL:PT1H
BEGIN:VTIMEZONE
TZID:Europe/Paris
BEGIN:DAYLIGHT
TZOFFSETFROM:+0100
TZOFFSETTO:+0200
TZNAME:CEST
DTSTART:20230326T010000
END:DAYLIGHT
BEGIN:STANDARD
TZOFFSETFROM:+0200
TZOFFSETTO:+0100
TZNAME:CET
DTSTART:20231029T010000
END:STANDARD
BEGIN:DAYLIGHT
TZOFFSETFROM:+0100
TZOFFSETTO:+0200
TZNAME:CEST
DTSTART:20240331T010000
END:DAYLIGHT
BEGIN:STANDARD
TZOFFSETFROM:+0200
TZOFFSETTO:+0100
TZNAME:CET
DTSTART:20241027T010000
END:STANDARD
BEGIN:DAYLIGHT
TZOFFSETFROM:+0100
TZOFFSETTO:+0200
TZNAME:CEST
DTSTART:20250330T010000
END:DAYLIGHT
BEGIN:STANDARD
TZOFFSETFROM:+0200
TZOFFSETTO:+0100
TZNAME:CET
DTSTART:20251026T010000
END:STANDARD
BEGIN:DAYLIGHT
TZOFFSETFROM:+0100
TZOFFSETTO:+0200
TZNAME:CEST
DTSTART:20260329T010000
END:DAYLIGHT
BEGIN:STANDARD
TZOFFSETFROM:+0200
TZOFFSETTO:+0100
TZNAME:CET
DTSTART:20261025T010000
END:STANDARD
END:VTIMEZONE
BEGIN:VEVENT
DTSTART;VALUE=DATE:20251207
DTEND;VALUE=DATE:20251208
DTSTAMP:20260423T124832
CREATED:20251123T171737Z
LAST-MODIFIED:20251123T171737Z
UID:10004711-1765065600-1765151999@www.gard30.fr
SUMMARY:Marché de noël à Bouquet
DESCRIPTION:Dimanche 7 décembre\n\n🎄 9h00 : Randonnée de Noël (10 et 15 kms) – 10€ boissons chaudes et ravitaillement campagnard compris\n🍽️ Tartiflette – 15€\n🔥 Formule Rando Repas – 20€
URL:https://www.gard30.fr/agenda/marche-de-noel-a-bouquet-2/
LOCATION:Clos Jean Cavalier à Bouquet\, Bouquet\, Gard\, 30580\, France
CATEGORIES:Marchés de Noël
ATTACH;FMTTYPE=image/jpeg:https://www.gard30.fr/wp-content/uploads/2025/11/IMG_6139-1.jpg
GEO:44.1635141;4.2851595
END:VEVENT
BEGIN:VEVENT
DTSTART;VALUE=DATE:20241201
DTEND;VALUE=DATE:20241202
DTSTAMP:20260423T124832
CREATED:20241107T140513Z
LAST-MODIFIED:20241107T141036Z
UID:10002127-1733011200-1733097599@www.gard30.fr
SUMMARY:Marché de Noël à Bouquet
DESCRIPTION:Dimanche 01 décembre \n10H : MARCHÉ DE NOEL\nAU CLOS JEAN CAVALIER\nRANDONNÉES DE NOËL – DÉPART 9H (9 kms/15 kms)\n(5€ PETIT DÉJEUNER COMPRIS)\nALIGOT/SAUCISSE\n12€\nBUVETTE \nJEUX POUR ENFANTS\nDÉLICES GOURMANDS\,\nCHÂTAIGNES\,\nVIN CHAUD\,OREILLETTES\,\nPAIN D’ÉPICES… \nEntrée libre 10H – 17H
URL:https://www.gard30.fr/agenda/marche-de-noel-a-bouquet/
LOCATION:Clos Jean Cavalier à Bouquet\, Bouquet\, Gard\, 30580\, France
CATEGORIES:Marchés de Noël
ATTACH;FMTTYPE=image/jpeg:https://www.gard30.fr/wp-content/uploads/2024/11/IMG_7425.jpg
GEO:44.1635141;4.2851595
END:VEVENT
END:VCALENDAR