BEGIN:VCALENDAR
VERSION:2.0
PRODID:-//Gard 30 - ECPv6.15.20//NONSGML v1.0//EN
CALSCALE:GREGORIAN
METHOD:PUBLISH
X-WR-CALNAME:Gard 30
X-ORIGINAL-URL:https://www.gard30.fr
X-WR-CALDESC:Évènements pour Gard 30
REFRESH-INTERVAL;VALUE=DURATION:PT1H
X-Robots-Tag:noindex
X-PUBLISHED-TTL:PT1H
BEGIN:VTIMEZONE
TZID:Europe/Paris
BEGIN:DAYLIGHT
TZOFFSETFROM:+0100
TZOFFSETTO:+0200
TZNAME:CEST
DTSTART:20240331T010000
END:DAYLIGHT
BEGIN:STANDARD
TZOFFSETFROM:+0200
TZOFFSETTO:+0100
TZNAME:CET
DTSTART:20241027T010000
END:STANDARD
BEGIN:DAYLIGHT
TZOFFSETFROM:+0100
TZOFFSETTO:+0200
TZNAME:CEST
DTSTART:20250330T010000
END:DAYLIGHT
BEGIN:STANDARD
TZOFFSETFROM:+0200
TZOFFSETTO:+0100
TZNAME:CET
DTSTART:20251026T010000
END:STANDARD
BEGIN:DAYLIGHT
TZOFFSETFROM:+0100
TZOFFSETTO:+0200
TZNAME:CEST
DTSTART:20260329T010000
END:DAYLIGHT
BEGIN:STANDARD
TZOFFSETFROM:+0200
TZOFFSETTO:+0100
TZNAME:CET
DTSTART:20261025T010000
END:STANDARD
END:VTIMEZONE
BEGIN:VEVENT
DTSTART;TZID=Europe/Paris:20250209T143000
DTEND;TZID=Europe/Paris:20250209T173000
DTSTAMP:20260424T071403
CREATED:20250114T202719Z
LAST-MODIFIED:20250114T202719Z
UID:10002858-1739111400-1739122200@www.gard30.fr
SUMMARY:Loto à Bagnols Sur Cèze
DESCRIPTION:Ouverture des portes à 13h30 \n\n2€ le carton\n5€ les 3\n10€ les 6\n\nNombreux lots à gagner !! \n\nTV\nNatula Box\nMultimédia\nÉlectro ménager\nCafetière expresso Magimix\nCorbeille Garnie\nAir Fryer
URL:https://www.gard30.fr/agenda/loto-a-bagnols-sur-ceze-10/
LOCATION:Salle multiculturelle – Bagnols-sur-Cèze\, Rue Racine\, Bagnols-sur-Cèze\, Gard\, 30200\, France
CATEGORIES:Loto
ATTACH;FMTTYPE=image/jpeg:https://www.gard30.fr/wp-content/uploads/2025/01/473192131_4293906917502743_5146372124574953686_n-1.jpg
ORGANIZER;CN="COS Bagnols sur C%C3%A8ze":MAILTO:cos@bagnolsurceze.fr
GEO:44.1594091;4.6206935
X-APPLE-STRUCTURED-LOCATION;VALUE=URI;X-ADDRESS=Salle multiculturelle – Bagnols-sur-Cèze Rue Racine Bagnols-sur-Cèze Gard 30200 France;X-APPLE-RADIUS=500;X-TITLE=Rue Racine:geo:4.6206935,44.1594091
END:VEVENT
END:VCALENDAR