BEGIN:VCALENDAR
VERSION:2.0
PRODID:-//Gard 30 - ECPv6.15.20//NONSGML v1.0//EN
CALSCALE:GREGORIAN
METHOD:PUBLISH
X-WR-CALNAME:Gard 30
X-ORIGINAL-URL:https://www.gard30.fr
X-WR-CALDESC:Évènements pour Gard 30
REFRESH-INTERVAL;VALUE=DURATION:PT1H
X-Robots-Tag:noindex
X-PUBLISHED-TTL:PT1H
BEGIN:VTIMEZONE
TZID:Europe/Paris
BEGIN:DAYLIGHT
TZOFFSETFROM:+0100
TZOFFSETTO:+0200
TZNAME:CEST
DTSTART:20240331T010000
END:DAYLIGHT
BEGIN:STANDARD
TZOFFSETFROM:+0200
TZOFFSETTO:+0100
TZNAME:CET
DTSTART:20241027T010000
END:STANDARD
BEGIN:DAYLIGHT
TZOFFSETFROM:+0100
TZOFFSETTO:+0200
TZNAME:CEST
DTSTART:20250330T010000
END:DAYLIGHT
BEGIN:STANDARD
TZOFFSETFROM:+0200
TZOFFSETTO:+0100
TZNAME:CET
DTSTART:20251026T010000
END:STANDARD
BEGIN:DAYLIGHT
TZOFFSETFROM:+0100
TZOFFSETTO:+0200
TZNAME:CEST
DTSTART:20260329T010000
END:DAYLIGHT
BEGIN:STANDARD
TZOFFSETFROM:+0200
TZOFFSETTO:+0100
TZNAME:CET
DTSTART:20261025T010000
END:STANDARD
END:VTIMEZONE
BEGIN:VEVENT
DTSTART;TZID=Europe/Paris:20250309T140000
DTEND;TZID=Europe/Paris:20250309T170000
DTSTAMP:20260424T071759
CREATED:20250129T211925Z
LAST-MODIFIED:20250307T100906Z
UID:10002998-1741528800-1741539600@www.gard30.fr
SUMMARY:Loto à Bagnols Sur Cèze
DESCRIPTION:Plus de 5000 euros de lots\nOuverture des portes à 13h – Début 14h\nApple Watch\, TV 4K\, PC Portable\, Air Fryer\, Bons d’achat\, électroménagers\net de nombreux lots…\n10 parties de 3 quines\n3 Cartons pleins\n1 carton vide\n1 carton 3 €\n4 cartons 10 €\n6 cartons 15 €\nTOMBOLA 2 €
URL:https://www.gard30.fr/agenda/loto-a-bagnols-sur-ceze-16/
LOCATION:Salle multiculturelle – Bagnols-sur-Cèze\, Rue Racine\, Bagnols-sur-Cèze\, Gard\, 30200\, France
CATEGORIES:Loto
ATTACH;FMTTYPE=image/jpeg:https://www.gard30.fr/wp-content/uploads/2025/01/478244041_935895468729591_5469000848681857584_n.jpg
ORGANIZER;CN="COS de l'Agglom%C3%A9ration du Gard rhodanien - Bagnols sur C%C3%A8ze":MAILTO:lacosattitude@gmail.com
GEO:44.1594091;4.6206935
X-APPLE-STRUCTURED-LOCATION;VALUE=URI;X-ADDRESS=Salle multiculturelle – Bagnols-sur-Cèze Rue Racine Bagnols-sur-Cèze Gard 30200 France;X-APPLE-RADIUS=500;X-TITLE=Rue Racine:geo:4.6206935,44.1594091
END:VEVENT
END:VCALENDAR