BEGIN:VCALENDAR
VERSION:2.0
PRODID:-//Gard 30 - ECPv6.15.20//NONSGML v1.0//EN
CALSCALE:GREGORIAN
METHOD:PUBLISH
X-ORIGINAL-URL:https://www.gard30.fr
X-WR-CALDESC:Évènements pour Gard 30
REFRESH-INTERVAL;VALUE=DURATION:PT1H
X-Robots-Tag:noindex
X-PUBLISHED-TTL:PT1H
BEGIN:VTIMEZONE
TZID:Europe/Paris
BEGIN:DAYLIGHT
TZOFFSETFROM:+0100
TZOFFSETTO:+0200
TZNAME:CEST
DTSTART:20230326T010000
END:DAYLIGHT
BEGIN:STANDARD
TZOFFSETFROM:+0200
TZOFFSETTO:+0100
TZNAME:CET
DTSTART:20231029T010000
END:STANDARD
BEGIN:DAYLIGHT
TZOFFSETFROM:+0100
TZOFFSETTO:+0200
TZNAME:CEST
DTSTART:20240331T010000
END:DAYLIGHT
BEGIN:STANDARD
TZOFFSETFROM:+0200
TZOFFSETTO:+0100
TZNAME:CET
DTSTART:20241027T010000
END:STANDARD
BEGIN:DAYLIGHT
TZOFFSETFROM:+0100
TZOFFSETTO:+0200
TZNAME:CEST
DTSTART:20250330T010000
END:DAYLIGHT
BEGIN:STANDARD
TZOFFSETFROM:+0200
TZOFFSETTO:+0100
TZNAME:CET
DTSTART:20251026T010000
END:STANDARD
END:VTIMEZONE
BEGIN:VEVENT
DTSTART;TZID=Europe/Paris:20240908T090000
DTEND;TZID=Europe/Paris:20240908T180000
DTSTAMP:20260423T224930
CREATED:20240904T074856Z
LAST-MODIFIED:20240908T085928Z
UID:10001900-1725786000-1725818400@www.gard30.fr
SUMMARY:Exposition véhicules US à Milhauld
DESCRIPTION:Venez découvrir l’Exposition véhicules US de la ville de Milhaud\, dans le Gard. Une fête traditionnelle qui met en avant ces magnifiques véhicules américains. Vous pourrez admirer une large collection de voitures américaines\, des modèles classiques aux plus récents. Ne manquez pas cette opportunité de plonger dans l’univers automobile américain. Pour plus de détails sur le programme complet de ce spectacle unique\, veuillez consulter la page dédiée qui vous donnera toutes les informations nécessaires. \nUne anecdote intéressante sur Milhaud est que cette charmante commune est située sur le tracé de la voie Domitienne\, une ancienne voie romaine d’importance historique. Venez nombreux et partagez cette journée exceptionnelle avec nous. \nDimanche 8 septembre \n\nÀ partir de 9H : EXPO VEHICULES US\nEXPOSANTS – RESTAURATION\nÉLECTION DE LA PIN-UP DAFFY’S DAY\n\nVous pouvez consulter le programme de la fête du revivre 2023 et de la fête votive de 2024.
URL:https://www.gard30.fr/agenda/exposition-vehicules-us-a-milhauld/
LOCATION:Les platanettes à Milhaud\, Les Outons\, Milhaud\, Gard\, 30540\, France
CATEGORIES:Fêtes traditionnelles
ATTACH;FMTTYPE=image/jpeg:https://www.gard30.fr/wp-content/uploads/2024/09/90A8FE80-3431-4105-8E5A-6621DE1E64CF.jpeg
ORGANIZER;CN="Daffy US Cars %C3%A0 Milhaud":MAILTO:contact@daffyuscars.com
GEO:43.771917;4.317312
X-APPLE-STRUCTURED-LOCATION;VALUE=URI;X-ADDRESS=Les platanettes à Milhaud Les Outons Milhaud Gard 30540 France;X-APPLE-RADIUS=500;X-TITLE=Les Outons:geo:4.317312,43.771917
END:VEVENT
END:VCALENDAR