BEGIN:VCALENDAR
VERSION:2.0
PRODID:-//Gard 30 - ECPv6.15.20//NONSGML v1.0//EN
CALSCALE:GREGORIAN
METHOD:PUBLISH
X-WR-CALNAME:Gard 30
X-ORIGINAL-URL:https://www.gard30.fr
X-WR-CALDESC:Évènements pour Gard 30
REFRESH-INTERVAL;VALUE=DURATION:PT1H
X-Robots-Tag:noindex
X-PUBLISHED-TTL:PT1H
BEGIN:VTIMEZONE
TZID:Europe/Paris
BEGIN:DAYLIGHT
TZOFFSETFROM:+0100
TZOFFSETTO:+0200
TZNAME:CEST
DTSTART:20230326T010000
END:DAYLIGHT
BEGIN:STANDARD
TZOFFSETFROM:+0200
TZOFFSETTO:+0100
TZNAME:CET
DTSTART:20231029T010000
END:STANDARD
BEGIN:DAYLIGHT
TZOFFSETFROM:+0100
TZOFFSETTO:+0200
TZNAME:CEST
DTSTART:20240331T010000
END:DAYLIGHT
BEGIN:STANDARD
TZOFFSETFROM:+0200
TZOFFSETTO:+0100
TZNAME:CET
DTSTART:20241027T010000
END:STANDARD
BEGIN:DAYLIGHT
TZOFFSETFROM:+0100
TZOFFSETTO:+0200
TZNAME:CEST
DTSTART:20250330T010000
END:DAYLIGHT
BEGIN:STANDARD
TZOFFSETFROM:+0200
TZOFFSETTO:+0100
TZNAME:CET
DTSTART:20251026T010000
END:STANDARD
BEGIN:DAYLIGHT
TZOFFSETFROM:+0100
TZOFFSETTO:+0200
TZNAME:CEST
DTSTART:20260329T010000
END:DAYLIGHT
BEGIN:STANDARD
TZOFFSETFROM:+0200
TZOFFSETTO:+0100
TZNAME:CET
DTSTART:20261025T010000
END:STANDARD
END:VTIMEZONE
BEGIN:VEVENT
DTSTART;TZID=Europe/Paris:20251102T163000
DTEND;TZID=Europe/Paris:20251102T193000
DTSTAMP:20260421T194354
CREATED:20251006T091720Z
LAST-MODIFIED:20251031T222517Z
UID:10004428-1762101000-1762111800@www.gard30.fr
SUMMARY:Loto à Milhaud
DESCRIPTION:Dimanche 2 novembre\n\n🎉 16h30 : Début du loto avec 10 Quines\, jambons et corbeilles garnies\n🎁 Lots supplémentaires d’une valeur de 100 euros\n💶 Carton plein : 250 euros en bons d’achats\n📺 Carton plein avec télévision et bons d’achats : Valeur 350 euros\n🎟️ Consolante\, enveloppes et tombola\n🍽️ Buvette et restauration sur place
URL:https://www.gard30.fr/agenda/loto-a-milhaud-61/
LOCATION:Centre socio culturel Milhaud\, Place Frédéric Mistral\, Milhaud\, Gard\, 30540\, France
CATEGORIES:Loto
ATTACH;FMTTYPE=image/jpeg:https://www.gard30.fr/wp-content/uploads/2025/10/C2DA24A6-0A59-4E94-8828-AE09B43A591B_1_201_a-1.jpeg
GEO:43.7909325;4.3092651
X-APPLE-STRUCTURED-LOCATION;VALUE=URI;X-ADDRESS=Centre socio culturel Milhaud Place Frédéric Mistral Milhaud Gard 30540 France;X-APPLE-RADIUS=500;X-TITLE=Place Frédéric Mistral:geo:4.3092651,43.7909325
END:VEVENT
BEGIN:VEVENT
DTSTART;TZID=Europe/Paris:20241103T163000
DTEND;TZID=Europe/Paris:20241103T193000
DTSTAMP:20260421T194354
CREATED:20240914T080529Z
LAST-MODIFIED:20241031T175428Z
UID:10001924-1730651400-1730662200@www.gard30.fr
SUMMARY:Loto à Milhaud
DESCRIPTION:Dimanche 03 novembre 2024 \nLoto : LA DIANE MILHAUDOISE\nCENTRE SOCIO CULTUREL \n\n10 quines avec jambons\, corbeilles garnies et autres lots valeur 100 €\n1 carton plein 250 euros en bons d’achats\n1 carton plein avec télévition et bons d’achats Valeur 350 €\n1 consolante\, enveloppes et tombola\n2000 € de lots\n\n 
URL:https://www.gard30.fr/agenda/loto-a-milhaud-63/
LOCATION:Centre socio culturel Milhaud\, Place Frédéric Mistral\, Milhaud\, Gard\, 30540\, France
CATEGORIES:Loto
ATTACH;FMTTYPE=image/jpeg:https://www.gard30.fr/wp-content/uploads/2024/09/IMG_7263.jpeg
GEO:43.7909325;4.3092651
X-APPLE-STRUCTURED-LOCATION;VALUE=URI;X-ADDRESS=Centre socio culturel Milhaud Place Frédéric Mistral Milhaud Gard 30540 France;X-APPLE-RADIUS=500;X-TITLE=Place Frédéric Mistral:geo:4.3092651,43.7909325
END:VEVENT
END:VCALENDAR