BEGIN:VCALENDAR
VERSION:2.0
PRODID:-//Gard 30 - ECPv6.15.20//NONSGML v1.0//EN
CALSCALE:GREGORIAN
METHOD:PUBLISH
X-ORIGINAL-URL:https://www.gard30.fr
X-WR-CALDESC:Évènements pour Gard 30
REFRESH-INTERVAL;VALUE=DURATION:PT1H
X-Robots-Tag:noindex
X-PUBLISHED-TTL:PT1H
BEGIN:VTIMEZONE
TZID:Europe/Paris
BEGIN:DAYLIGHT
TZOFFSETFROM:+0100
TZOFFSETTO:+0200
TZNAME:CEST
DTSTART:20240331T010000
END:DAYLIGHT
BEGIN:STANDARD
TZOFFSETFROM:+0200
TZOFFSETTO:+0100
TZNAME:CET
DTSTART:20241027T010000
END:STANDARD
BEGIN:DAYLIGHT
TZOFFSETFROM:+0100
TZOFFSETTO:+0200
TZNAME:CEST
DTSTART:20250330T010000
END:DAYLIGHT
BEGIN:STANDARD
TZOFFSETFROM:+0200
TZOFFSETTO:+0100
TZNAME:CET
DTSTART:20251026T010000
END:STANDARD
BEGIN:DAYLIGHT
TZOFFSETFROM:+0100
TZOFFSETTO:+0200
TZNAME:CEST
DTSTART:20260329T010000
END:DAYLIGHT
BEGIN:STANDARD
TZOFFSETFROM:+0200
TZOFFSETTO:+0100
TZNAME:CET
DTSTART:20261025T010000
END:STANDARD
BEGIN:DAYLIGHT
TZOFFSETFROM:+0100
TZOFFSETTO:+0200
TZNAME:CEST
DTSTART:20270328T010000
END:DAYLIGHT
BEGIN:STANDARD
TZOFFSETFROM:+0200
TZOFFSETTO:+0100
TZNAME:CET
DTSTART:20271031T010000
END:STANDARD
END:VTIMEZONE
BEGIN:VEVENT
DTSTART;TZID=Europe/Paris:20260118T150000
DTEND;TZID=Europe/Paris:20260118T180000
DTSTAMP:20260423T111418
CREATED:20260113T131053Z
LAST-MODIFIED:20260113T131053Z
UID:10004858-1768748400-1768759200@www.gard30.fr
SUMMARY:Loto à Saint Geniès de Malgoires
DESCRIPTION:Dimanche 18 Janvier 2026\n\n15h00 : Début du Loto 🎉\nNombreux lots à gagner 🎁\n12 Quines 🐂\n2 Cartons pleins : un pot d’Anduze\, un bon d’achat de 150€ 💶\n2€ le carton / 10€ les 6 cartons 💸\nLoterie : rosette… 🎟️\nCB acceptée 💳\nPetite restauration sur place 🍽️
URL:https://www.gard30.fr/agenda/loto-a-saint-genies-de-malgoires-22/
LOCATION:Foyer de Saint-Genies-de-Malgoires\, Rue du 19 Mars 1962\, Saint-Génies-de-Malgoirès\, Gard\, 30190\, France
CATEGORIES:Loto
ATTACH;FMTTYPE=image/jpeg:https://www.gard30.fr/wp-content/uploads/2026/01/IMG_7323-1.jpg
ORGANIZER;CN="Ensemble paroissial de Saint G%C3%A9ni%C3%A8s de Malgoir%C3%A8s":MAILTO:paroisse30.stgeniesmalgoires@gmail.com
GEO:43.9462036;4.2145352
X-APPLE-STRUCTURED-LOCATION;VALUE=URI;X-ADDRESS=Foyer de Saint-Genies-de-Malgoires Rue du 19 Mars 1962 Saint-Génies-de-Malgoirès Gard 30190 France;X-APPLE-RADIUS=500;X-TITLE=Rue du 19 Mars 1962:geo:4.2145352,43.9462036
END:VEVENT
BEGIN:VEVENT
DTSTART;TZID=Europe/Paris:20250126T150000
DTEND;TZID=Europe/Paris:20250126T173000
DTSTAMP:20260423T111418
CREATED:20250113T101600Z
LAST-MODIFIED:20250120T075715Z
UID:10002840-1737903600-1737912600@www.gard30.fr
SUMMARY:Loto à Saint-Genies-de-Malgoires
DESCRIPTION:2 € Le carton – 10 € les 6\n14 QUINES (Corbeilles Garnies\, Rosettes\, Friteuse Air Frayer\, bons d’achats\, Ecouteur Bluetooth\, …)\n2 Cartons Pleins 1 Poterie d’Anduze / 1 Bon d’achat de 150 €\nLOTERIE 1 Poterie d’Anduze / 1 Plante / 1 lot beauté + 1 lot pique-nique\nLoto réalisé avec la participation des commerçants de la Gardonnenque
URL:https://www.gard30.fr/agenda/loto-a-saint-genies-de-malgoires-13/
LOCATION:Foyer de Saint-Genies-de-Malgoires\, Rue du 19 Mars 1962\, Saint-Génies-de-Malgoirès\, Gard\, 30190\, France
CATEGORIES:Loto
ATTACH;FMTTYPE=image/jpeg:https://www.gard30.fr/wp-content/uploads/2025/01/B9B9E65D-A9A7-49AD-90A8-517E601298AB.jpeg
ORGANIZER;CN="Ensemble paroissial de Saint G%C3%A9ni%C3%A8s de Malgoir%C3%A8s":MAILTO:paroisse30.stgeniesmalgoires@gmail.com
GEO:43.9462036;4.2145352
X-APPLE-STRUCTURED-LOCATION;VALUE=URI;X-ADDRESS=Foyer de Saint-Genies-de-Malgoires Rue du 19 Mars 1962 Saint-Génies-de-Malgoirès Gard 30190 France;X-APPLE-RADIUS=500;X-TITLE=Rue du 19 Mars 1962:geo:4.2145352,43.9462036
END:VEVENT
END:VCALENDAR