BEGIN:VCALENDAR
VERSION:2.0
PRODID:-//Gard 30 - ECPv6.15.20//NONSGML v1.0//EN
CALSCALE:GREGORIAN
METHOD:PUBLISH
X-WR-CALNAME:Gard 30
X-ORIGINAL-URL:https://www.gard30.fr
X-WR-CALDESC:Évènements pour Gard 30
REFRESH-INTERVAL;VALUE=DURATION:PT1H
X-Robots-Tag:noindex
X-PUBLISHED-TTL:PT1H
BEGIN:VTIMEZONE
TZID:Europe/Paris
BEGIN:DAYLIGHT
TZOFFSETFROM:+0100
TZOFFSETTO:+0200
TZNAME:CEST
DTSTART:20230326T010000
END:DAYLIGHT
BEGIN:STANDARD
TZOFFSETFROM:+0200
TZOFFSETTO:+0100
TZNAME:CET
DTSTART:20231029T010000
END:STANDARD
BEGIN:DAYLIGHT
TZOFFSETFROM:+0100
TZOFFSETTO:+0200
TZNAME:CEST
DTSTART:20240331T010000
END:DAYLIGHT
BEGIN:STANDARD
TZOFFSETFROM:+0200
TZOFFSETTO:+0100
TZNAME:CET
DTSTART:20241027T010000
END:STANDARD
BEGIN:DAYLIGHT
TZOFFSETFROM:+0100
TZOFFSETTO:+0200
TZNAME:CEST
DTSTART:20250330T010000
END:DAYLIGHT
BEGIN:STANDARD
TZOFFSETFROM:+0200
TZOFFSETTO:+0100
TZNAME:CET
DTSTART:20251026T010000
END:STANDARD
BEGIN:DAYLIGHT
TZOFFSETFROM:+0100
TZOFFSETTO:+0200
TZNAME:CEST
DTSTART:20260329T010000
END:DAYLIGHT
BEGIN:STANDARD
TZOFFSETFROM:+0200
TZOFFSETTO:+0100
TZNAME:CET
DTSTART:20261025T010000
END:STANDARD
END:VTIMEZONE
BEGIN:VEVENT
DTSTART;TZID=Europe/Paris:20250302T170000
DTEND;TZID=Europe/Paris:20250302T200000
DTSTAMP:20260420T084252
CREATED:20250217T220857Z
LAST-MODIFIED:20250217T220857Z
UID:10003141-1740934800-1740945600@www.gard30.fr
SUMMARY:Loto à Cabrières
DESCRIPTION:1200 euros en BONS D’ACHAT\n50\, 60\, 80\nCartons Pleins 200 et 300 euros\nTombola et buvette sur place\n\n  \n\n10 euros la plaque de 6\n12 € la plaque de 9\n20 € la plaque 6 et 9
URL:https://www.gard30.fr/agenda/loto-a-cabrieres/
LOCATION:Foyer socio-culturel de Cabrières\, Impasse Jean Moulin\, Cabrières\, Gard\, 30210\, France
CATEGORIES:Loto
ATTACH;FMTTYPE=image/jpeg:https://www.gard30.fr/wp-content/uploads/2025/02/61F0D965-ECD9-4707-95B0-044F084C4BD9.jpeg
ORGANIZER;CN="ES3M Bezouce%2C Cabri%C3%A8res%2C L%C3%A9denon et Saint-Gervasy":MAILTO:communication@es3m.fr
GEO:43.9029161;4.4726839
X-APPLE-STRUCTURED-LOCATION;VALUE=URI;X-ADDRESS=Foyer socio-culturel de Cabrières Impasse Jean Moulin Cabrières Gard 30210 France;X-APPLE-RADIUS=500;X-TITLE=Impasse Jean Moulin:geo:4.4726839,43.9029161
END:VEVENT
BEGIN:VEVENT
DTSTART;TZID=Europe/Paris:20250202T170000
DTEND;TZID=Europe/Paris:20250202T200000
DTSTAMP:20260420T084252
CREATED:20250120T091234Z
LAST-MODIFIED:20250120T091234Z
UID:10002902-1738515600-1738526400@www.gard30.fr
SUMMARY:Loto à Saint-Gervasy
DESCRIPTION:10 € la plaque de 6\n12 € la plaque de 9\n20 euros la plaque de 6 et 9\n\n  \n\n1700 euros en BONS D’ACHAT\n13 quines\, 4 cartons plein et la consolante\n50\, 60\,70\, 80 €\nCP 100\,150\, 200 et 300 €
URL:https://www.gard30.fr/agenda/loto-a-saint-gervasy-5/
LOCATION:Foyer socio culturel Henry Gravier Saint-Gervasy\, Avenue Saint-Didier\, Saint-Gervasy\, Gard\, 30320\, France
CATEGORIES:Loto
ATTACH;FMTTYPE=image/jpeg:https://www.gard30.fr/wp-content/uploads/2025/01/loto-fev-2025.jpg
ORGANIZER;CN="ES3M Bezouce%2C Cabri%C3%A8res%2C L%C3%A9denon et Saint-Gervasy":MAILTO:communication@es3m.fr
GEO:43.8759794;4.4639395
X-APPLE-STRUCTURED-LOCATION;VALUE=URI;X-ADDRESS=Foyer socio culturel Henry Gravier Saint-Gervasy Avenue Saint-Didier Saint-Gervasy Gard 30320 France;X-APPLE-RADIUS=500;X-TITLE=Avenue Saint-Didier:geo:4.4639395,43.8759794
END:VEVENT
BEGIN:VEVENT
DTSTART;TZID=Europe/Paris:20241208T170000
DTEND;TZID=Europe/Paris:20241208T200000
DTSTAMP:20260420T084252
CREATED:20241128T093630Z
LAST-MODIFIED:20241128T093630Z
UID:10002545-1733677200-1733688000@www.gard30.fr
SUMMARY:Loto à Saint-Gervasy
DESCRIPTION:Loto à Saint-Gervasy le 08 décembre à 17h00 \n\n1200 euros en bons d’achat\n8 quines\n2 cartons plein\n1 consolante\n50\, 60\, 80 SUPER U\nCP 200 et 300 euros\nTombola et buvette sur place\n10€ la plaque de 6\n12€ la plaque de 9\n20€ ma plaque 6 et 9\n\n 
URL:https://www.gard30.fr/agenda/loto-a-saint-gervasy-3/
LOCATION:Foyer socio culturel Henry Gravier Saint-Gervasy\, Avenue Saint-Didier\, Saint-Gervasy\, Gard\, 30320\, France
CATEGORIES:Loto
ATTACH;FMTTYPE=image/jpeg:https://www.gard30.fr/wp-content/uploads/2024/11/BF7D7554-1B08-43FD-BA3A-E9F57BCFCBAB_1_105_c.jpeg
ORGANIZER;CN="ES3M Bezouce%2C Cabri%C3%A8res%2C L%C3%A9denon et Saint-Gervasy":MAILTO:communication@es3m.fr
GEO:43.8759794;4.4639395
X-APPLE-STRUCTURED-LOCATION;VALUE=URI;X-ADDRESS=Foyer socio culturel Henry Gravier Saint-Gervasy Avenue Saint-Didier Saint-Gervasy Gard 30320 France;X-APPLE-RADIUS=500;X-TITLE=Avenue Saint-Didier:geo:4.4639395,43.8759794
END:VEVENT
BEGIN:VEVENT
DTSTART;TZID=Europe/Paris:20241111T170000
DTEND;TZID=Europe/Paris:20241111T200000
DTSTAMP:20260420T084252
CREATED:20241109T132601Z
LAST-MODIFIED:20241109T132742Z
UID:10002234-1731344400-1731355200@www.gard30.fr
SUMMARY:Loto à Bezouce
DESCRIPTION:1200 euros en BONS D’ACHAT\n50\, 60\, 80\nCP 200 et 300 euros\nTombola et buvette sur place\n\n  \n\n10 euros la plaque de 6\n12 € la plaque de 9\n20 € la plaque 6 et 9
URL:https://www.gard30.fr/agenda/loto-a-bezouce-2/
LOCATION:Salle des fêtes – Bezouce\, Nord Route nationale\, Bezouce\, Gard\, 30320\, France
CATEGORIES:Loto
ATTACH;FMTTYPE=image/jpeg:https://www.gard30.fr/wp-content/uploads/2024/11/1F0456FC-8E21-4B2D-B562-BFAEFFD6FC9A_1_105_c.jpeg
ORGANIZER;CN="ES3M Bezouce%2C Cabri%C3%A8res%2C L%C3%A9denon et Saint-Gervasy":MAILTO:communication@es3m.fr
GEO:43.8821709;4.4906933
X-APPLE-STRUCTURED-LOCATION;VALUE=URI;X-ADDRESS=Salle des fêtes – Bezouce Nord Route nationale Bezouce Gard 30320 France;X-APPLE-RADIUS=500;X-TITLE=Nord Route nationale:geo:4.4906933,43.8821709
END:VEVENT
END:VCALENDAR