BEGIN:VCALENDAR
VERSION:2.0
PRODID:-//Gard 30 - ECPv6.15.20//NONSGML v1.0//EN
CALSCALE:GREGORIAN
METHOD:PUBLISH
X-ORIGINAL-URL:https://www.gard30.fr
X-WR-CALDESC:Évènements pour Gard 30
REFRESH-INTERVAL;VALUE=DURATION:PT1H
X-Robots-Tag:noindex
X-PUBLISHED-TTL:PT1H
BEGIN:VTIMEZONE
TZID:Europe/Paris
BEGIN:DAYLIGHT
TZOFFSETFROM:+0100
TZOFFSETTO:+0200
TZNAME:CEST
DTSTART:20240331T010000
END:DAYLIGHT
BEGIN:STANDARD
TZOFFSETFROM:+0200
TZOFFSETTO:+0100
TZNAME:CET
DTSTART:20241027T010000
END:STANDARD
BEGIN:DAYLIGHT
TZOFFSETFROM:+0100
TZOFFSETTO:+0200
TZNAME:CEST
DTSTART:20250330T010000
END:DAYLIGHT
BEGIN:STANDARD
TZOFFSETFROM:+0200
TZOFFSETTO:+0100
TZNAME:CET
DTSTART:20251026T010000
END:STANDARD
BEGIN:DAYLIGHT
TZOFFSETFROM:+0100
TZOFFSETTO:+0200
TZNAME:CEST
DTSTART:20260329T010000
END:DAYLIGHT
BEGIN:STANDARD
TZOFFSETFROM:+0200
TZOFFSETTO:+0100
TZNAME:CET
DTSTART:20261025T010000
END:STANDARD
BEGIN:DAYLIGHT
TZOFFSETFROM:+0100
TZOFFSETTO:+0200
TZNAME:CEST
DTSTART:20270328T010000
END:DAYLIGHT
BEGIN:STANDARD
TZOFFSETFROM:+0200
TZOFFSETTO:+0100
TZNAME:CET
DTSTART:20271031T010000
END:STANDARD
END:VTIMEZONE
BEGIN:VEVENT
DTSTART;TZID=Europe/Paris:20260228T143000
DTEND;TZID=Europe/Paris:20260228T173000
DTSTAMP:20260424T071911
CREATED:20260223T163042Z
LAST-MODIFIED:20260223T163042Z
UID:10005013-1772289000-1772299800@www.gard30.fr
SUMMARY:Loto à Bagnols-sur-Cèze
DESCRIPTION:Samedi 28 Février 2026\n\n12h30 : Ouverture des portes 🚪\n14h30 : Début du loto 🎉\n8 Parties\, 2 cartons pleins\, 1 partie enfant gratuite 🎟️\nGros lots : Bon d’achat Intermarché de 300 € 🛒\nBuvette et petite restauration sur place 🍽️
URL:https://www.gard30.fr/agenda/loto-a-bagnols-sur-ceze-29/
LOCATION:Salle multiculturelle – Bagnols-sur-Cèze\, Rue Racine\, Bagnols-sur-Cèze\, Gard\, 30200\, France
CATEGORIES:Loto
ATTACH;FMTTYPE=image/jpeg:https://www.gard30.fr/wp-content/uploads/2026/02/LOTO-EVD-2026-1-1-scaled.jpeg
ORGANIZER;CN="Est Vie Danse - Bagnols sur C%C3%A8ze":MAILTO:est.vie.danse.30200@gmail.com
GEO:44.1594091;4.6206935
X-APPLE-STRUCTURED-LOCATION;VALUE=URI;X-ADDRESS=Salle multiculturelle – Bagnols-sur-Cèze Rue Racine Bagnols-sur-Cèze Gard 30200 France;X-APPLE-RADIUS=500;X-TITLE=Rue Racine:geo:4.6206935,44.1594091
END:VEVENT
BEGIN:VEVENT
DTSTART;TZID=Europe/Paris:20250223T140000
DTEND;TZID=Europe/Paris:20250223T170000
DTSTAMP:20260424T071912
CREATED:20250129T211544Z
LAST-MODIFIED:20250217T205307Z
UID:10002996-1740319200-1740330000@www.gard30.fr
SUMMARY:Loto à Bagnols Sur Cèze (Est Vie Danse)
DESCRIPTION:8 Parties\, 2 cartons pleins + 1 carton plein SURPRISE ! \nPetit électroménager\, paniers garnis\, Airfryer\, bons d’achat etc… \nOUVERTURE DES PORTES : 13 H \nTARIFS: 1 CARTON = 2 € / 3 CARTONS = 5 € / 7 CARTONS = 10 € \nGROS LOTS : \nBON D’ACHAT INTERMARCHÉ DE 300 € \nAPPAREIL FITNESS SCULPTEUR DE CORPS VALEUR 300 € \nCONTACT / RÉSERVATIONS : 06 20 55 37 96 / LNBSTUDIO30@GMAIL.COM
URL:https://www.gard30.fr/agenda/loto-a-bagnols-sur-ceze-14/
LOCATION:Salle multiculturelle – Bagnols-sur-Cèze\, Rue Racine\, Bagnols-sur-Cèze\, Gard\, 30200\, France
CATEGORIES:Loto
ATTACH;FMTTYPE=image/jpeg:https://www.gard30.fr/wp-content/uploads/2025/01/BE7ACDC1-55E3-416B-A92B-951FCE1C7111_1_105_c.jpeg
ORGANIZER;CN="Est Vie Danse - Bagnols sur C%C3%A8ze":MAILTO:est.vie.danse.30200@gmail.com
GEO:44.1594091;4.6206935
X-APPLE-STRUCTURED-LOCATION;VALUE=URI;X-ADDRESS=Salle multiculturelle – Bagnols-sur-Cèze Rue Racine Bagnols-sur-Cèze Gard 30200 France;X-APPLE-RADIUS=500;X-TITLE=Rue Racine:geo:4.6206935,44.1594091
END:VEVENT
END:VCALENDAR